BEGIN:VCALENDAR
VERSION:2.0
PRODID:-//Cedeso//NONSGML kigkonsult.se iCalcreator 2.30.10//
CALSCALE:GREGORIAN
METHOD:PUBLISH
UID:29ab923b-755e-4d7b-8c76-1973db24a377
X-WR-CALNAME:iCagenda
X-WR-CALDESC:Event Management Extension for Joomla!
X-WR-RELCALID:3E26604A-50F4-4449-8B3E-E4F4932D05B5
X-WR-TIMEZONE:America/Costa_Rica
BEGIN:VTIMEZONE
TZID:America/Costa_Rica
BEGIN:STANDARD
TZNAME:CST
DTSTART:20200822T060000
TZOFFSETFROM:+0000
TZOFFSETTO:-0600
END:STANDARD
END:VTIMEZONE
BEGIN:VEVENT
UID:4567cd5d-f807-4c79-82f7-6ee35b7cd032
DTSTAMP:20260419T220450Z
CATEGORIES:Mejores Prácticas Organizacionales
CLASS:PUBLIC
DESCRIPTION;ALTREP="CID:<FFFF__=0ABBE548DFE235B58f9e8a93d@coffeebean.com>":
 Taller:\nHerramientas de Coaching 2022: temas avanzados\nObjetivo: las y l
 os participantes serán capaces de explicar\, aplicar y apreciar herramient
 as esenciales para aplicar la competencia de orientación a resultados y el
  liderazgo en la ejecución.\nContenidos:1. Neurociencia del Coaching:a. El
  modelo PEA en acción.b. La trampa del desempeño: del enfoque en deficienc
 ias al trabajo en el desarrollo de capacidades\,2. El modelo GROW+ y la Es
 cuela de Milán: tres estrategias desde la pedagogía paradójica para coache
 s.3. La pedagogía de la pregunta en el coaching:• Mayéutica y pensamiento 
 crítico: el coach y su cliente escapan del pensamiento egocéntrico.• El mo
 delo de Karl Tomm de cuatro preguntas autoreflexivas.4. Las y los coaches 
 como profesionales de la práctica: aprendizaje intencionado y mapeo del pr
 opio desarrolllo.\nFecha: 24 y 31 de mayo del 2022.Horario: 8:00 a.m. a 12
 :00 m.d.Duración: 8 horas.Plataforma: Zoom.Inversión: ¢120.000 + 2% de IVA
  por participante.Incluye: Material didáctico y certificado de participaci
 ón en PDF.\nFacilitador: Dr. Enrique Margery- Doctor en Educación y TEDx s
 peaker.- Profesor de la Maestría en Psicología del Trabajo en la Universid
 ad de Costa Rica. Profesor invitado de la Universidad de Querétaro (UAQ\, 
 México) y la Universidad UAGM (Puerto Rico).- Diseña capacitación para des
 arrollo de soft skills basado en aprendizaje por la experiencia\, GBL y “r
 eto-aprendizaje”.- Coach especialista en ciencia de la colaboración y mane
 jo de top performers.- Diseña herramientas para medir el Sentido de Urgenc
 ia\, el “termómetro de la colaboración” y la rentabilidad de la capacitaci
 ón\, entre otros.- Autor de los libros “Complejidad y Competencias”\, “Her
 ramientas de Coaching”\, “El Viaje” (Editorial Norma\; uno de los primeros
  libros de psicología positiva publicados) y 'Complejidad\, Transdisciplin
 ariedad y Compentencias'\nTodas nuestras capacitaciones pueden ser imparti
 das en su organización\nInscripciones e Información al e-mail info@cedeso.
 co.crTel: (506) 2225-1007 · Fax: (506) 2253-2774Visite nuestra página www.
 cedeso.co.crfacebook.com/cedesocostarica
DTSTART:20220524T140000Z
DTEND:20220531T180000Z
GEO:00;0
LOCATION:Virtual por Zoom.
ORGANIZER;CN=:info@cedeso.co.cr
SEQUENCE:1
SUMMARY:Herramientas de Coaching 2022: temas avanzados
TRANSP:OPAQUE
URL:https://cedeso.co.cr/eventos-anteriores/569-herramientas-de-coaching-20
 22-temas-avanzados
END:VEVENT
END:VCALENDAR
