BEGIN:VCALENDAR
VERSION:2.0
PRODID:-//Cedeso//NONSGML kigkonsult.se iCalcreator 2.30.10//
CALSCALE:GREGORIAN
METHOD:PUBLISH
UID:930f0522-10ef-4d64-9f14-bd6a4f0584ae
X-WR-CALNAME:iCagenda
X-WR-CALDESC:Event Management Extension for Joomla!
X-WR-RELCALID:3E26604A-50F4-4449-8B3E-E4F4932D05B5
X-WR-TIMEZONE:America/Costa_Rica
BEGIN:VTIMEZONE
TZID:America/Costa_Rica
BEGIN:STANDARD
TZNAME:CST
DTSTART:20201213T060000
TZOFFSETFROM:+0000
TZOFFSETTO:-0600
END:STANDARD
END:VTIMEZONE
BEGIN:VEVENT
UID:34938d73-f074-475b-ba9e-1d4827470771
DTSTAMP:20260419T203213Z
CATEGORIES:Mejores Prácticas Organizacionales
CLASS:PUBLIC
DESCRIPTION;ALTREP="CID:<FFFF__=0ABBE548DFE235B58f9e8a93d@coffeebean.com>":
 Taller:\nTemas cruciales para jefaturas y managers\nObjetivo: explicar\, a
 plicar y apreciar herramientas clave para quienes asumen puestos de jefatu
 ra por primera vez o desean actualizar sus capacidades.\nContenidos:1. Des
 treza comunicativa:   a. Cuatro reglas de la comunicación claves para mand
 ar señales\, trabajo colaborativo y evitar conflictos.   b. Niveles de des
 treza comunicativa explicados mediante ejercicio tipo assessment centre.  
  c. Modelos SIP y SEP en comunicación asertiva.2. Directividad:   a. Manej
 o de los cuatro modos directivos: ¿Cuándo emplear cada uno de ellos?   b. 
 Los cuatro tipos de colaborador: manejo y guiones de desempeño para cada u
 no e ellos.   c. Cultura asertiva\, métrica y encuadre para el manejo del 
 conflicto en equipos de trabajo.3. Liderar y gestionar en épocas difíciles
 :   a. Evitar la parálisis\, el micromanagement y otras conductas negativa
 s.   b. Escucha y trabajo en el pensamiento para jefaturas en tiempos difí
 ciles.   c. Visión sistémica y mindfulness para trabajar con la incertidum
 bre\, la urgencia y los impactos.\nFecha: 14 y 21 de setiembre del 2022.Ho
 rario: 8:00 a.m. a 12:00 m.d.Duración: 8 horas.Plataforma: Zoom.Inversión:
  ¢120.000 + 2% de IVA por participante.Incluye: Material didáctico y certi
 ficado de participación en PDF.\nFacilitador: Dr. Enrique Margery- Doctor 
 en Educación y TEDx speaker.- Profesor de la Maestría en Psicología del Tr
 abajo en la Universidad de Costa Rica. Profesor invitado de la Universidad
  de Querétaro (UAQ\, México) y la Universidad UAGM (Puerto Rico).- Diseña 
 capacitación para desarrollo de soft skills basado en aprendizaje por la e
 xperiencia\, GBL y “reto-aprendizaje”.- Coach especialista en ciencia de l
 a colaboración y manejo de top performers.- Diseña herramientas para medir
  el Sentido de Urgencia\, el “termómetro de la colaboración” y la rentabil
 idad de la capacitación\, entre otros.- Autor de los libros “Complejidad y
  Competencias”\, “Herramientas de Coaching”\, “El Viaje” (Editorial Norma\
 ; uno de los primeros libros de psicología positiva publicados) y 'Complej
 idad\, Transdisciplinariedad y Compentencias'\nTodas nuestras capacitacion
 es pueden ser impartidas en su organización\nInscripciones e Información a
 l e-mail info@cedeso.co.crTel: (506) 2225-1007 · Fax: (506) 2253-2774Visit
 e nuestra página www.cedeso.co.crfacebook.com/cedesocostarica
DTSTART:20220914T140000Z
DTEND:20220921T180000Z
GEO:00;0
LOCATION:Virtual por Zoom.
ORGANIZER;CN=:info@cedeso.co.cr
SEQUENCE:1
SUMMARY:Temas cruciales para jefaturas y managers
TRANSP:OPAQUE
URL:https://cedeso.co.cr/eventos-anteriores/570-temas-cruciales-para-jefatu
 ras-y-managers
END:VEVENT
END:VCALENDAR
