BEGIN:VCALENDAR
VERSION:2.0
PRODID:-//Cedeso//NONSGML kigkonsult.se iCalcreator 2.30.10//
CALSCALE:GREGORIAN
METHOD:PUBLISH
UID:6a4c4307-4d92-402e-b1dd-b0e95669dd27
X-WR-CALNAME:iCagenda
X-WR-CALDESC:Event Management Extension for Joomla!
X-WR-RELCALID:3E26604A-50F4-4449-8B3E-E4F4932D05B5
X-WR-TIMEZONE:America/Costa_Rica
BEGIN:VTIMEZONE
TZID:America/Costa_Rica
BEGIN:STANDARD
TZNAME:CST
DTSTART:20200808T060000
TZOFFSETFROM:+0000
TZOFFSETTO:-0600
END:STANDARD
END:VTIMEZONE
BEGIN:VEVENT
UID:518c80cb-5995-4390-9cdb-4e96afba50a9
DTSTAMP:20260419T220755Z
CATEGORIES:Mejores Prácticas Organizacionales
CLASS:PUBLIC
DESCRIPTION;ALTREP="CID:<FFFF__=0ABBE548DFE235B58f9e8a93d@coffeebean.com>":
 Webinar:\nLiderando equipos remotos\nObjetivo: Favorecer la apropiación de
  estrategia prácticas para liderar equipos desde la virtualidad y el traba
 jo remoto\, favoreciendo la cohesión\, sentido de pertenencia y motivación
  del grupo.\nContenidos: • ¿Qué cambia en los equipos con el paso de la pr
 esencialidad a la virtualidad?• ¿A qué señales debe prestar especial atenc
 ión el líder?• Principales desafíos en el liderazgo de equipos remotos.• E
 strategias para favorecer la cohesión\, el sentido de pertenencia y amor p
 or la marca desde la virtualidad.• Reglas básicas de comunicación asertiva
  para liderar equipos remotos.• Motivación de equipos remotos: ¡Es posible
  y necesario hacerlo! Estrategias para lograrlo.• Kit de acciones para mot
 ivar a su equipo remoto.• Venciendo la tentación del micro management y el
  control excesivo.\nFecha: 10 de mayo del 2022.Horario: 8:30 a.m. a 12:30 
 m.d.Duración: 4 horas.Plataforma Zoom.Inversión: ¢60.000 + 2% de IVA por p
 articipante.Incluye: Material y certificado de participación en PDF.\nFaci
 litadora: Licda. Gina SequeiraPsicóloga\, certificada en Business Coaching
 \, con posgrado de Gamificación y Técnicas de Ludificación. Estudios de po
 sgrado en Evaluación y Gerencia de Proyectos. Más de 15 años de experienci
 a en el diseño de procesos de capacitación vinculados al desarrollo de hab
 ilidades blandas y el fortalecimiento de equipos de alto desempeño. Confer
 encista nacional e internacional.\nTodas nuestras capacitaciones pueden se
 r impartidas en su organización\nInscripciones e Información al e-mail inf
 o@cedeso.co.crTel: (506) 2225-1007 / Fax: (506) 2253-2774Visite nuestra pá
 gina www.cedeso.co.crfacebook.com/cedesocostarica
DTSTART:20220510T143000Z
DTEND:20220510T183000Z
GEO:00;0
LOCATION:Virtual por Zoom.
ORGANIZER;CN=:info@cedeso.co.cr
SEQUENCE:1
SUMMARY:Liderando equipos remotos
TRANSP:OPAQUE
URL:https://cedeso.co.cr/eventos-anteriores/571-liderando-equipos-remotos-2
END:VEVENT
END:VCALENDAR
