BEGIN:VCALENDAR
VERSION:2.0
PRODID:-//Cedeso//NONSGML kigkonsult.se iCalcreator 2.30.10//
CALSCALE:GREGORIAN
METHOD:PUBLISH
UID:1163baa9-3193-4a10-9d37-a51b561c0eed
X-WR-CALNAME:iCagenda
X-WR-CALDESC:Event Management Extension for Joomla!
X-WR-RELCALID:3E26604A-50F4-4449-8B3E-E4F4932D05B5
X-WR-TIMEZONE:America/Costa_Rica
BEGIN:VTIMEZONE
TZID:America/Costa_Rica
BEGIN:STANDARD
TZNAME:CST
DTSTART:20200824T060000
TZOFFSETFROM:+0000
TZOFFSETTO:-0600
END:STANDARD
END:VTIMEZONE
BEGIN:VEVENT
UID:a863351c-8645-4818-b8e8-e8dce2b74006
DTSTAMP:20260419T220319Z
CATEGORIES:Mejores Prácticas Organizacionales
CLASS:PUBLIC
DESCRIPTION;ALTREP="CID:<FFFF__=0ABBE548DFE235B58f9e8a93d@coffeebean.com>":
 Taller interactivo:\nÉxito para personal administrativo\nAbordaremos los ¨
 secretos¨ de la eficiencia en el trabajo\nPúblico meta:Asistentes\, auxili
 ares\, oficinistas de todo nivel\, recepcionistas.\nContenido:1.Mi estilo 
 de trabajo y cómo trabajar con estilos directivos diferentes.2.Las claves 
 de la eficiencia en el trabajo administrativo.3.Las causas del estrés en e
 l trabajo y cómo manejarlo.4.El manejo de conflictos y tips para mejorar e
 l clima laboral en la oficina.\nFecha: 26 de mayo del 2022.Horario: 8:30 a
 .m. a 12:00 m.d.Duración: 3.5 horas.Virtual por Zoom.Inversión: ¢50.000 + 
 2% IVA por participante. Incluye: Materiales y certificado de participació
 n en PDF.\nFacilitador: Lic. Carlos Solera Umaña Licenciado en administrac
 ión de negocios\, técnico en seguros. Más de 30 años de experiencia en tod
 os los subprocesos de Gestión de RRHH\, como responsable de reclutamiento 
 selecciono más de mil personas en los diferentes países de Centroamérica. 
 Amplia experiencia en organizaciones de manufactura\, servicios\, cooperat
 ivas y ONG’s. Actual fundador y director de CEDESO.S.A.\nTodas nuestras ca
 pacitaciones pueden ser impartidas en su organización\nInscripciones e Inf
 ormación al e-mail info@cedeso.co.crTel: (506) 2225-1007 / Fax: (506) 2253
 -2774 Visite nuestra página www.cedeso.co.crfacebook.com/cedesocostarica
DTSTART:20220526T143000Z
DTEND:20220526T180000Z
GEO:00;0
LOCATION:Virtual por Zoom.
ORGANIZER;CN=:info@cedeso.co.cr
SEQUENCE:1
SUMMARY:Éxito para personal administrativo
TRANSP:OPAQUE
URL:https://cedeso.co.cr/eventos-anteriores/574-%C3%A9xito-para-personal-ad
 ministrativo
END:VEVENT
END:VCALENDAR
