BEGIN:VCALENDAR
VERSION:2.0
PRODID:-//Cedeso//NONSGML kigkonsult.se iCalcreator 2.30.10//
CALSCALE:GREGORIAN
METHOD:PUBLISH
UID:ebf831f0-29f8-47d3-bf37-bbc8838afb7d
X-WR-CALNAME:iCagenda
X-WR-CALDESC:Event Management Extension for Joomla!
X-WR-RELCALID:3E26604A-50F4-4449-8B3E-E4F4932D05B5
X-WR-TIMEZONE:America/Costa_Rica
BEGIN:VTIMEZONE
TZID:America/Costa_Rica
BEGIN:STANDARD
TZNAME:CST
DTSTART:20200810T060000
TZOFFSETFROM:+0000
TZOFFSETTO:-0600
END:STANDARD
END:VTIMEZONE
BEGIN:VEVENT
UID:e96a89c6-111a-4b47-b196-342a50f5eaf9
DTSTAMP:20260419T220656Z
CATEGORIES:Mejores Prácticas Organizacionales
CLASS:PUBLIC
DESCRIPTION;ALTREP="CID:<FFFF__=0ABBE548DFE235B58f9e8a93d@coffeebean.com>":
 VIII Cumbre Centroamericana de Compensación y Beneficios\nFecha: 12 y 13 d
 e mayo 2022Horario: 8:20 a.m. a 12:30 m.d.Plataforma: Zoom.Inversión: $170
  + 2% de IVA por participante.Inscripciones a: info@cedeso.co.crTeléfono: 
 (506) 2225-1007\nDía 1: jueves 12 de mayo 2022\n“Propuesta de valor y expe
 riencia del colaborador factores críticos para la atracción y retención”.V
 ictoria Scott y Rosalía GuevaraPwC\n“Esquemas compensatorios para ejecutiv
 os”.Maureen Rodríguez Acuña BDS Asesores\n“Impulsores en la estrategia de 
 compensación”.Martha HernándezAon\n“En la era de la agilidad: ¿Incentivos 
 individuales o grupales?”Enrique Margery BertogliaThe Open Institute\n“Mej
 ores prácticas de reconocimiento y compensación no monetaria”.Felipe Salas
  Guzmán GFI\nDía 2: viernes 13 de mayo 2022\n“Desempeño\, liderazgo y tale
 nto en contextos V.U.C.A.”Juan José Fulgi Total Rewards\n“La nueva experie
 ncia del empleado”.Javier Brassel Willis Towers Watson\n“El pago por habil
 idades y otras tendencias de la remuneración en la era digital”.Zulma Sant
 amaría y Adriana VillalbaMercer\n“Calibrando la compensación en la era del
  desapego”.Cristina CuberoConsultora en talento\n“La transformación de la 
 compensación centrada en el talento”.Jose Pablo Guzmán y Mariana Siles BAC
DTSTART:20220512T142000Z
DTEND:20220513T183000Z
GEO:00;0
LOCATION:Virtual por Zoom.
ORGANIZER;CN=:info@cedeso.co.cr
SEQUENCE:1
SUMMARY:VIII Cumbre Centroamericana de Compensación y Beneficios
TRANSP:OPAQUE
URL:https://cedeso.co.cr/eventos-anteriores/577-viii-cumbre-centroamericana
 -de-compensaci%C3%B3n-y-beneficios
END:VEVENT
END:VCALENDAR
