BEGIN:VCALENDAR
VERSION:2.0
PRODID:-//Cedeso//NONSGML kigkonsult.se iCalcreator 2.30.10//
CALSCALE:GREGORIAN
METHOD:PUBLISH
UID:1d332d01-038c-4baa-a390-825f235a3ad1
X-WR-CALNAME:iCagenda
X-WR-CALDESC:Event Management Extension for Joomla!
X-WR-RELCALID:3E26604A-50F4-4449-8B3E-E4F4932D05B5
X-WR-TIMEZONE:America/Costa_Rica
BEGIN:VTIMEZONE
TZID:America/Costa_Rica
BEGIN:STANDARD
TZNAME:CST
DTSTART:20201010T060000
TZOFFSETFROM:+0000
TZOFFSETTO:-0600
END:STANDARD
END:VTIMEZONE
BEGIN:VEVENT
UID:b9b33cb0-bf99-4191-888c-fbee499ab38f
DTSTAMP:20260419T215645Z
CATEGORIES:Operaciones
CLASS:PUBLIC
DESCRIPTION;ALTREP="CID:<FFFF__=0ABBE548DFE235B58f9e8a93d@coffeebean.com>":
 Curso:\nLogística inversa: retos y oportunidades para las empresas moderna
 s\nObjetivo:Identificar las ventajas y beneficios que genera la implementa
 ción de programas de logística inversa en las empresas.\nContenido temátic
 o:\nEconomía\, empresa y medio ambiente.\nLa gestión de la logística inver
 sa:• Etapas de la logística inversa.• ¿Por qué la logística inversa?• Resp
 onsabilidad social.• Causas que generan la logística inversa.\nProcesos de
  logística inversa:• Estrategia para su manejo y control.• Estrategia para
  su recogida y clasificación.• Estrategia para eliminar residuos.• Estrate
 gia para reutilizar o re-fabricar recursos.• Estrategias para reciclar.• E
 strategia para destrucción controlada.• Factores claves para el éxito.\nLa
  logística ambiental o verde:• Retrospectiva y definiciones.• Relación de 
 la logística verde y la inversa.• Recomendaciones para el uso de la logíst
 ica verde.\nFecha: 12 y 13 de julio 2022.Horario: 8:30 a.m. a 11:30 a.m.Du
 ración: 6 horas.Plataforma: Zoom.Inversión: ¢60.000 + 2% de IVA por partic
 ipante.Incluye: Material didáctico y certificado de participación en PDF.
 \nFacilitadora: Licda. Yorleny Jiménez RojasGraduada con honores de la Uni
 versidad de Costa Rica en la carrera de Administración Aduanera y Comercio
  Exterior. Certificada como especialista en Supply Chain de la Universidad
  de Nebrija en España.Actualmente consultora independiente con 20 años de 
 experiencia en manejo y desarrollo de procesos de internacionalización y l
 ogística especialmente para el sector agrícola.Especialista en desarrollo 
 de acompañamientos empresariales en temas de importación\, exportación\, l
 ogística internacional\, entre otros.Profesora de la Universidad de Costa 
 Rica\, Universidad FUNDEPOS y capacitadora activa en diferentes Cámaras qu
 e agremia exportadores\, importadores\, empresas PYMES\, entidades estatal
 es\, colegios profesionales\, entre otros.\nTodas nuestras capacitaciones 
 pueden ser impartidas en su organización\nInscripciones e información al e
 -mail info@cedeso.co.crTel: (506) 2225-1007 · Tel/Fax: (506) 2253-2774Visi
 te nuestra página www.cedeso.co.crfacebook.com/cedesocostarica
DTSTART:20220712T143000Z
DTEND:20220713T173000Z
GEO:00;0
LOCATION:Virtual por Zoom.
ORGANIZER;CN=:info@cedeso.co.cr
SEQUENCE:1
SUMMARY:Logística inversa
TRANSP:OPAQUE
URL:https://cedeso.co.cr/eventos-anteriores/578-log%C3%ADstica-inversa
END:VEVENT
END:VCALENDAR
