BEGIN:VCALENDAR
VERSION:2.0
PRODID:-//Cedeso//NONSGML kigkonsult.se iCalcreator 2.30.10//
CALSCALE:GREGORIAN
METHOD:PUBLISH
UID:96a8aa3c-8fee-4aa7-9cb4-ba451ce1ec63
X-WR-CALNAME:iCagenda
X-WR-CALDESC:Event Management Extension for Joomla!
X-WR-RELCALID:3E26604A-50F4-4449-8B3E-E4F4932D05B5
X-WR-TIMEZONE:America/Costa_Rica
BEGIN:VTIMEZONE
TZID:America/Costa_Rica
BEGIN:STANDARD
TZNAME:CST
DTSTART:20201004T060000
TZOFFSETFROM:+0000
TZOFFSETTO:-0600
END:STANDARD
END:VTIMEZONE
BEGIN:VEVENT
UID:d2ac6657-357f-41a1-8270-9638a48d9442
DTSTAMP:20260419T220636Z
CATEGORIES:Mejores Prácticas Organizacionales
CLASS:PUBLIC
DESCRIPTION;ALTREP="CID:<FFFF__=0ABBE548DFE235B58f9e8a93d@coffeebean.com>":
 Taller:\nPrimeros auxilios psicológicos para managers (PAPm)\n¡El liderazg
 o cambió! En la nueva normalidad\, urge dotar a nuestros equipos y líderes
  de herramientas para el desarrollo de la resiliencia individual\, grupal 
 y organizacional...\n \nObjetivo orientativo: las y los participantes será
 n capaces de explicar\, aplicar y apreciar herramientas esenciales para da
 r apoyo a personas y equipos en tiempos difíciles.\nTemario: • Buenas y ma
 las prácticas: ¿Qué tipo de escucha y apoyo debemos dar a los colaboradore
 s? y ¿Cuáles son las condiciones específicas en el contexto organizacional
 ? • Assessment inicial y aplicación del protocolo PARE. • Reglas de escuch
 a efectiva (qué hacer y qué no hacer) y grounding. • Herramientas psicoedu
 cativas y tres estrategias de “trabajo en el pensamiento” para managers. •
  Hacia una pedagogía de la compasión y el apoyo fuera del contexto terapéu
 tico. Compasión hacia otros\, desde otros y trabajo con autoafirmaciones p
 ara el growth mindset (mentalidad de crecimiento). • Ejercicios de aprendi
 zaje intencionado para las y los participantes.\nFecha: 6 y 13 de julio 20
 22.Horario: 8:30 a.m. a 11:30 a.m.Duración: 6 horas.Plataforma: Zoom.Inver
 sión: ¢90.000 + 2% de IVA por participante.Incluye: Material didáctico y c
 ertificado de participación en PDF.\nFacilitador: Dr. Enrique Margery- Doc
 tor en Educación y TEDx speaker.- Profesor de la Maestría en Psicología de
 l Trabajo en la Universidad de Costa Rica. Profesor invitado de la Univers
 idad de Querétaro (UAQ\, México) y la Universidad UAGM (Puerto Rico).- Dis
 eña capacitación para desarrollo de soft skills basado en aprendizaje por 
 la experiencia\, GBL y “reto-aprendizaje”.- Coach especialista en ciencia 
 de la colaboración y manejo de top performers.- Diseña herramientas para m
 edir el Sentido de Urgencia\, el “termómetro de la colaboración” y la rent
 abilidad de la capacitación\, entre otros.- Autor de los libros “Complejid
 ad y Competencias”\, “Herramientas de Coaching”\, “El Viaje” (Editorial No
 rma\; uno de los primeros libros de psicología positiva publicados) y 'Com
 plejidad\, Transdisciplinariedad y Compentencias'\nTodas nuestras capacita
 ciones pueden ser impartidas en su organización\nInscripciones e Informaci
 ón al e-mail info@cedeso.co.crTel: (506) 2225-1007 · Fax: (506) 2253-2774V
 isite nuestra página www.cedeso.co.crfacebook.com/cedesocostarica
DTSTART:20220706T143000Z
DTEND:20220713T173000Z
GEO:00;0
LOCATION:Virtual por Zoom.
ORGANIZER;CN=:info@cedeso.co.cr
SEQUENCE:1
SUMMARY:Primeros auxilios psicológicos para managers (PAPm)
TRANSP:OPAQUE
URL:https://cedeso.co.cr/eventos-anteriores/587-primeros-auxilios-psicol%C3
 %B3gicos-para-managers-papm
END:VEVENT
END:VCALENDAR
