BEGIN:VCALENDAR
VERSION:2.0
PRODID:-//Cedeso//NONSGML kigkonsult.se iCalcreator 2.30.10//
CALSCALE:GREGORIAN
METHOD:PUBLISH
UID:8ebd7ce0-764d-47bb-917e-124b81f9ed9e
X-WR-CALNAME:iCagenda
X-WR-CALDESC:Event Management Extension for Joomla!
X-WR-RELCALID:3E26604A-50F4-4449-8B3E-E4F4932D05B5
X-WR-TIMEZONE:America/Costa_Rica
BEGIN:VTIMEZONE
TZID:America/Costa_Rica
BEGIN:STANDARD
TZNAME:CST
DTSTART:20201013T060000
TZOFFSETFROM:+0000
TZOFFSETTO:-0600
END:STANDARD
END:VTIMEZONE
BEGIN:VEVENT
UID:58fecae8-2791-4d64-97a0-bedb95771e14
DTSTAMP:20260419T204119Z
CATEGORIES:Mejores Prácticas Organizacionales
CLASS:PUBLIC
DESCRIPTION;ALTREP="CID:<FFFF__=0ABBE548DFE235B58f9e8a93d@coffeebean.com>":
 Taller:\nLa entrevista de selección por competencias\nCómo ser más efectiv
 os y precisos en la selección de personal.\nPúblico objetivo: Reclutadores
 \, todo tipo de especialistas y asistentes que participan en los procesos 
 de selección de personal. Otros profesionales interesados en expandir cono
 cimientos en el tema.\nContenidos:\n1. Entendiendo las competencias. - Mod
 elos genéricos de competencias. - La entrevista de incidentes críticos\, l
 a estrella.2. Análisis del perfil y discriminación de requisitos indispens
 ables\, deseables y otros adicionales.3. Formas de atraer suficientes cand
 idatos: pipeline de talentos.4. Fases del proceso de entrevista: la preent
 revista y el plan de la entrevista.5. Tips para la entrevista excepcional.
 6. La estructura de la entrevista de fondo: Los 4 aspectos a analizar.7. C
 ómo predecir el comportamiento/competencias en la entrevista.8. Qué puedo 
 y qué no puedo preguntar.\nFecha: 15\, 20 y 22 de julio del 2022.Horario: 
 8:30 a.m. a 11:30 a.m.Duración: 9 horas.Metodología: Virtual. Plataforma: 
 Zoom.Inversión: ¢105.000 + 2% de IVA por participante. Incluye: Listas de 
 las preguntas guía más valiosas\, material y certificado de participación 
 en PDF.\nFacilitador: Lic. Carlos Solera Umaña Licenciado en administració
 n de negocios\, certificado en Compensación y Beneficios y en Competencias
 \, técnico en seguros. Más de 30 años de experiencia en todos los subproce
 sos de Gestión de RRHH. Amplia experiencia en organizaciones de manufactur
 a\, servicios\, cooperativas y ONG’s. Actual fundador y director de CEDESO
 .S.A.\nTodas nuestras capacitaciones pueden ser impartidas en su organizac
 ión\nInscripciones e información al e-mail info@cedeso.co.crTel: (506) 222
 5-1007 · Fax: (506) 2253-2774Visite nuestra página www.cedeso.co.crfaceboo
 k.com/cedesocostarica\n 
DTSTART:20220715T143000Z
DTEND:20220722T173000Z
GEO:00;0
LOCATION:Virtual por Zoom
ORGANIZER;CN=:info@cedeso.co.cr
SEQUENCE:1
SUMMARY:La entrevista de selección por competencias
TRANSP:OPAQUE
URL:https://cedeso.co.cr/eventos-anteriores/588-la-entrevista-de-selecci%C3
 %B3n-por-competencias
END:VEVENT
END:VCALENDAR
