BEGIN:VCALENDAR
VERSION:2.0
PRODID:-//Cedeso//NONSGML kigkonsult.se iCalcreator 2.30.10//
CALSCALE:GREGORIAN
METHOD:PUBLISH
UID:dcceb93d-e481-47a9-a35a-9053f6b26017
X-WR-CALNAME:iCagenda
X-WR-CALDESC:Event Management Extension for Joomla!
X-WR-RELCALID:3E26604A-50F4-4449-8B3E-E4F4932D05B5
X-WR-TIMEZONE:America/Costa_Rica
BEGIN:VTIMEZONE
TZID:America/Costa_Rica
BEGIN:STANDARD
TZNAME:CST
DTSTART:20201019T060000
TZOFFSETFROM:+0000
TZOFFSETTO:-0600
END:STANDARD
END:VTIMEZONE
BEGIN:VEVENT
UID:3b70b734-17f3-4a83-8590-4df8d9bd0788
DTSTAMP:20260419T220710Z
CATEGORIES:Mejores Prácticas Organizacionales
CLASS:PUBLIC
DESCRIPTION;ALTREP="CID:<FFFF__=0ABBE548DFE235B58f9e8a93d@coffeebean.com>":
 Taller:\nHerramientas digitales para la gestión de negocios\nFecha: 21 y 2
 2 de julio del 2022Horario: 8:30 a.m. a 12:00 m.d.Duración total: 8 horas.
 Plataforma: Google Meet.Inversión: ¢95.000 + 2% de IVA por participante. I
 ncluye: Material y certificado de participación en PDF.\nA quién va dirigi
 do:Directores generales\, de área y/o mandos intermedios que deseen conoce
 r cómo aumentar la productividad y eficiencia de sus equipos de trabajo\, 
 a través de la implementación de las herramientas digitales más utilizadas
  en la actualidad.\nObjetivos:1) Conocer las principales herramientas digi
 tales utilizadas en el área de trabajo a nivel mundial\, con un foco hacia
  las de implementación gratuita o basadas en un modelo freenium. 2) Adquir
 ir conocimiento relevante para poder llevar a cabo el despliegue e impleme
 ntación de las herramientas digitales en la organización.3) Lograr un impa
 cto inmediato en la productividad y eficiencia de las operaciones del día 
 a día.4) Facilitar los procesos de transformación digital de la empresa\, 
 derivando en una operación más rentable.\nContenidos:1) ¿Qué son las herra
 mientas digitales? 2) ¿Qué ventajas tiene aplicar las herramientas digital
 es en los negocios? 3) Herramientas digitales para el trabajo colaborativo
 .4) Herramientas digitales para la gestión de equipos.5) Herramientas digi
 tales para aumentar la productividad en ventas.6) Herramientas digitales p
 ara la gestión de proyectos.7) Herramientas digitales para marketing .8) F
 unciones útiles para departamentos de cobranza y atención a clientes.9) In
 tegración de las herramientas digitales para gestionar el trabajo diario.
 \nFacilitador: MBA. Ulises de la Cruz Cofundador y Director General de Omn
 istar\, una organización que ofrece una amplia gama de programas de capaci
 tación en el Caribe y Centroamérica y gestiona espacios de cowork\, entre 
 otros negocios en México.Amplia experiencia en la dirección de educación s
 uperior y los negocios.Posee un MBA y otra maestría en administración de l
 a energía y fuentes renovables.Es conferencista a nivel nacional en temas 
 de transformación digital\, felicidad\, entre muchos otros.\nTodas nuestra
 s capacitaciones pueden ser impartidas en su organización\nInscripciones e
  Información al e-mail info@cedeso.co.crTel: (506) 2225-1007 / Fax: (506) 
 2253-2774Visite nuestra página www.cedeso.co.crfacebook.com/cedesocostaric
 a
DTSTART:20220721T140000Z
DTEND:20220722T180000Z
GEO:00;0
LOCATION:Virtual por Zoom
ORGANIZER;CN=:info@cedeso.co.cr
SEQUENCE:1
SUMMARY:Herramientas digitales para la gestión de negocios
TRANSP:OPAQUE
URL:https://cedeso.co.cr/eventos-anteriores/589-herramientas-digitales-para
 -la-gesti%C3%B3n-de-negocios
END:VEVENT
END:VCALENDAR
