BEGIN:VCALENDAR
VERSION:2.0
PRODID:-//Cedeso//NONSGML kigkonsult.se iCalcreator 2.30.10//
CALSCALE:GREGORIAN
METHOD:PUBLISH
UID:05f3181d-9011-4a0d-9e3a-5b5a0a13adc9
X-WR-CALNAME:iCagenda
X-WR-CALDESC:Event Management Extension for Joomla!
X-WR-RELCALID:3E26604A-50F4-4449-8B3E-E4F4932D05B5
X-WR-TIMEZONE:America/Costa_Rica
BEGIN:VTIMEZONE
TZID:America/Costa_Rica
BEGIN:STANDARD
TZNAME:CST
DTSTART:20201116T060000
TZOFFSETFROM:+0000
TZOFFSETTO:-0600
END:STANDARD
END:VTIMEZONE
BEGIN:VEVENT
UID:3c46fb09-fe09-427e-8726-cdc0a9bf9d80
DTSTAMP:20260419T205046Z
CATEGORIES:Mejores Prácticas Organizacionales
CLASS:PUBLIC
DESCRIPTION;ALTREP="CID:<FFFF__=0ABBE548DFE235B58f9e8a93d@coffeebean.com>":
 Taller:\nEjecución ágil: la gestión del tiempo en la nueva normalidad\n¿To
 davía espera el clásico taller de 'administración del tiempo'?¡Todo cambió
  en la nueva normalidad!\nObjetivo orientativo: las y los participantes se
 rán capaces de explicar\, aplicar y apreciar herramientas esenciales de la
  priorología (ciencia de las prioridades)\, el sentido de urgencia y el li
 derazgo para la ejecución que dominan la gestión del tiempo en la nueva no
 rmalidad.\nTemario: • Workflow y el tiempo en contextos ágiles\, colaborat
 ivos y BANI. • Ciencia de las prioridades y sus 10 capacidades. • Lo urgen
 te y lo importante en la nueva normalidad: '1-3-9' en equipos remotos y re
 uniones ágiles. • Acción precisa y libre de errores. Las cuatro dimensione
 s del Sentido de Urgencia (SU). • Autoevaluación del SU y comportamientos 
 pro y contra en promesas\, agilidad\, tenacidad y manejo de prioridades. •
  Urgencia e Inmunidad al Cambio: del “cambio por miedo” al “cambio aprecia
 tivo”. • Conductores del tiempo en la nueva normalidad: nueve capacidades 
 asociadas con la agilidad en personas\, grupos y organizaciones. • Lideraz
 go en la ejecución: guías para la acción y comportamientos pro y contra en
  capabilities\, sincronización y alineamiento.\nFecha: 18 y 25 de agosto d
 el 2022.Horario: 8:30 a.m. a 11:30 a.m.Duración: 6 horas.Plataforma: Zoom.
 Inversión: ¢90.000 + 2% de IVA por participante.Incluye: Material didáctic
 o y certificado de participación en PDF.\nFacilitador: Dr. Enrique Margery
 - Doctor en Educación y TEDx speaker.- Profesor de la Maestría en Psicolog
 ía del Trabajo en la Universidad de Costa Rica. Profesor invitado de la Un
 iversidad de Querétaro (UAQ\, México) y la Universidad UAGM (Puerto Rico).
 - Diseña capacitación para desarrollo de soft skills basado en aprendizaje
  por la experiencia\, GBL y “reto-aprendizaje”.- Coach especialista en cie
 ncia de la colaboración y manejo de top performers.- Diseña herramientas p
 ara medir el Sentido de Urgencia\, el “termómetro de la colaboración” y la
  rentabilidad de la capacitación\, entre otros.- Autor de los libros “Comp
 lejidad y Competencias”\, “Herramientas de Coaching”\, “El Viaje” (Editori
 al Norma\; uno de los primeros libros de psicología positiva publicados) y
  'Complejidad\, Transdisciplinariedad y Compentencias'\nTodas nuestras cap
 acitaciones pueden ser impartidas en su organización\nInscripciones e Info
 rmación al e-mail info@cedeso.co.crTel: (506) 2225-1007 · Fax: (506) 2253-
 2774Visite nuestra página www.cedeso.co.crfacebook.com/cedesocostarica
DTSTART:20220818T143000Z
DTEND:20220825T173000Z
GEO:00;0
LOCATION:Virtual por Zoom.
ORGANIZER;CN=:info@cedeso.co.cr
SEQUENCE:1
SUMMARY:Ejecución ágil: la gestión del tiempo en la nueva normalidad
TRANSP:OPAQUE
URL:https://cedeso.co.cr/eventos-anteriores/590-ejecuci%C3%B3n-%C3%A1gil-la
 -gesti%C3%B3n-del-tiempo-en-la-nueva-normalidad
END:VEVENT
END:VCALENDAR
