BEGIN:VCALENDAR
VERSION:2.0
PRODID:-//Cedeso//NONSGML kigkonsult.se iCalcreator 2.30.10//
CALSCALE:GREGORIAN
METHOD:PUBLISH
UID:dc786c70-0013-45b7-9b07-001f294f3e05
X-WR-CALNAME:iCagenda
X-WR-CALDESC:Event Management Extension for Joomla!
X-WR-RELCALID:3E26604A-50F4-4449-8B3E-E4F4932D05B5
X-WR-TIMEZONE:America/Costa_Rica
BEGIN:VTIMEZONE
TZID:America/Costa_Rica
BEGIN:STANDARD
TZNAME:CST
DTSTART:20201005T060000
TZOFFSETFROM:+0000
TZOFFSETTO:-0600
END:STANDARD
END:VTIMEZONE
BEGIN:VEVENT
UID:e050618f-150f-40c4-8153-35921134875a
DTSTAMP:20260419T203551Z
CATEGORIES:Operaciones
CLASS:PUBLIC
DESCRIPTION;ALTREP="CID:<FFFF__=0ABBE548DFE235B58f9e8a93d@coffeebean.com>":
 Taller:\nValoración aduanera como eje principal para el cálculo correcto d
 e los impuestos\nObjetivo:Conocer los aspectos que conforman y afectan el 
 cálculo del valor aduanero como base imponible para la determinación de lo
 s impuestos aduaneros y su impacto fiscal a nivel de importación.\nTemario
 :• Obligaciones relativas a las importaciones. • Requerimientos de importa
 ción.• Aspectos importantes para determinar el Valor (uso de cánones\, lic
 encias\, aplicación de descuentos\, vinculación comercial\, muestras sin v
 alor comercial\, ventas sucesivas\, métodos secundarios para obtener el va
 lor aduanero\, etc.). Según el Acuerdo de Valoración Aduanera de la OMC. •
  Registro de Importadores ante el Órgano de Valoración Aduanera.• Importan
 cia y alcances de la presentación de la declaración de valor aduanera. • V
 alor Aduanero y su afectación en el cálculo de los impuestos de aduanas.• 
 Análisis de las situaciones fiscales que se pueden presentar en caso de un
  mal cálculo de la base imponible.\nFecha: 7 de julio del 2021.Horario: 8:
 00 a.m. a 12:00 p.m.Duración: 4 horas.Plataforma: Zoom.Inversión: ¢40.000 
 + 2% de IVA por participante.Incluye: Material didáctico y certificado de 
 participación en PDF.\nFacilitadora: Licda. Yorleny Jiménez RojasGraduada 
 con honores de la Universidad de Costa Rica en la carrera de Administració
 n Aduanera y Comercio Exterior. Certificada como especialista en Supply Ch
 ain de la Universidad de Nebrija en España.Actualmente consultora independ
 iente con 20 años de experiencia en manejo y desarrollo de procesos de int
 ernacionalización y logística especialmente para el sector agrícola.Especi
 alista en desarrollo de acompañamientos empresariales en temas de importac
 ión\, exportación\, logística internacional\, entre otros.Profesora de la 
 Universidad de Costa Rica\, Universidad FUNDEPOS y capacitadora activa en 
 diferentes Cámaras que agremia exportadores\, importadores\, empresas PYME
 S\, entidades estatales\, colegios profesionales\, entre otros.\nTodas nue
 stras capacitaciones pueden ser impartidas en su organización\nInscripcion
 es e información al e-mail info@cedeso.co.crTel: (506) 2225-1007 · Tel/Fax
 : (506) 2253-2774Visite nuestra página www.cedeso.co.crfacebook.com/cedeso
 costarica
DTSTART:20220707T140000Z
DTEND:20220707T180000Z
GEO:00;0
LOCATION:Virtual por Zoom.
ORGANIZER;CN=:info@cedeso.co.cr
SEQUENCE:1
SUMMARY:Valoración aduanera como eje principal para el cálculo correcto de 
 los impuestos
TRANSP:OPAQUE
URL:https://cedeso.co.cr/eventos-anteriores/595-valoraci%C3%B3n-aduanera-co
 mo-eje-principal-para-el-c%C3%A1lculo-correcto-de-los-impuestos
END:VEVENT
END:VCALENDAR
