BEGIN:VCALENDAR
VERSION:2.0
PRODID:-//Cedeso//NONSGML kigkonsult.se iCalcreator 2.30.10//
CALSCALE:GREGORIAN
METHOD:PUBLISH
UID:2c960d67-da72-4a90-8be6-09854b12793f
X-WR-CALNAME:iCagenda
X-WR-CALDESC:Event Management Extension for Joomla!
X-WR-RELCALID:3E26604A-50F4-4449-8B3E-E4F4932D05B5
X-WR-TIMEZONE:America/Costa_Rica
BEGIN:VTIMEZONE
TZID:America/Costa_Rica
BEGIN:STANDARD
TZNAME:CST
DTSTART:20201101T060000
TZOFFSETFROM:+0000
TZOFFSETTO:-0600
END:STANDARD
END:VTIMEZONE
BEGIN:VEVENT
UID:bcc8122e-e8a0-4e64-aed2-8d6a3b524834
DTSTAMP:20260419T203957Z
CATEGORIES:Operaciones
CLASS:PUBLIC
DESCRIPTION;ALTREP="CID:<FFFF__=0ABBE548DFE235B58f9e8a93d@coffeebean.com>":
 Taller:\n¿Cómo alinear mi cadena de suministro a los objetivos de la empre
 sa y crear eficiencia?\nObjetivo:Analizar la estructura de la cadena de su
 ministro con el fin de determinar si la misma se ajusta a las estrategias 
 de la empresa\, a los cambios frecuentes de la demanda y a las necesidades
  de los clientes.\nTemario:• ¿Qué es una cadena de suministro?• Generalida
 des de la cadena de suministro.• Pasos para la creación de valor en la cad
 ena de suministro: - Entender las expectativas del cliente y conocer las e
 strategias de la compañía. - Entender las capacidades de la cadena de sumi
 nistro e identificar la brecha con los clientes. - Cerrar las brechas y de
 terminar la alineación de la cadena de suministro. - Construir capacidades
  e implementación de una cadena de suministro alineada con las estrategias
  de la empresa y necesidades del cliente. - Herramientas para la revisión 
 del proceso. - Manejo del riesgo. - Casos de éxito.\nFecha: 3 y 4 de agost
 o del 2022.Horario: 8:30 a.m. a 11:30 a.m.Duración: 6 horas.Plataforma: Zo
 om.Inversión: ¢60.000 + 2% de IVA por participante.Incluye: Material didác
 tico y certificado de participación en PDF.\nFacilitadora: Licda. Yorleny 
 Jiménez RojasGraduada con honores de la Universidad de Costa Rica en la ca
 rrera de Administración Aduanera y Comercio Exterior. Certificada como esp
 ecialista en Supply Chain de la Universidad de Nebrija en España.Actualmen
 te consultora independiente con 20 años de experiencia en manejo y desarro
 llo de procesos de internacionalización y logística especialmente para el 
 sector agrícola.Especialista en desarrollo de acompañamientos empresariale
 s en temas de importación\, exportación\, logística internacional\, entre 
 otros.Profesora de la Universidad de Costa Rica\, Universidad FUNDEPOS y c
 apacitadora activa en diferentes Cámaras que agremia exportadores\, import
 adores\, empresas PYMES\, entidades estatales\, colegios profesionales\, e
 ntre otros.\nTodas nuestras capacitaciones pueden ser impartidas en su org
 anización\nInscripciones e información al e-mail info@cedeso.co.crTel: (50
 6) 2225-1007 · Tel/Fax: (506) 2253-2774Visite nuestra página www.cedeso.co
 .crfacebook.com/cedesocostarica
DTSTART:20220803T143000Z
DTEND:20220804T173000Z
GEO:00;0
LOCATION:Virtual por Zoom.
ORGANIZER;CN=:info@cedeso.co.cr
SEQUENCE:1
SUMMARY:¿Cómo alinear mi cadena de suministro a los objetivos de la empresa
  y crear eficiencia?
TRANSP:OPAQUE
URL:https://cedeso.co.cr/eventos-anteriores/596-%C2%BFc%C3%B3mo-alinear-mi-
 cadena-de-suministro-a-los-objetivos-de-la-empresa-y-crear-eficiencia
END:VEVENT
END:VCALENDAR
