BEGIN:VCALENDAR
VERSION:2.0
PRODID:-//Cedeso//NONSGML kigkonsult.se iCalcreator 2.30.10//
CALSCALE:GREGORIAN
METHOD:PUBLISH
UID:018b9386-6696-4152-8404-1b05b71a0070
X-WR-CALNAME:iCagenda
X-WR-CALDESC:Event Management Extension for Joomla!
X-WR-RELCALID:3E26604A-50F4-4449-8B3E-E4F4932D05B5
X-WR-TIMEZONE:America/Costa_Rica
BEGIN:VTIMEZONE
TZID:America/Costa_Rica
BEGIN:STANDARD
TZNAME:CST
DTSTART:20201206T060000
TZOFFSETFROM:+0000
TZOFFSETTO:-0600
END:STANDARD
END:VTIMEZONE
BEGIN:VEVENT
UID:2d1ab6a3-4653-4a0b-bbfa-2834006b1f93
DTSTAMP:20260419T204639Z
CATEGORIES:Operaciones
CLASS:PUBLIC
DESCRIPTION;ALTREP="CID:<FFFF__=0ABBE548DFE235B58f9e8a93d@coffeebean.com>":
 Taller:\nTécnicas para realizar compras internacionales efectivas y eficie
 ntes\nObjetivo:Analizar las principales competencias que se deben de tomar
  en cuenta para realizar una compra a nivel internacional efectiva y efici
 ente.\nTemario:Generalidades del proceso de compras:• Estrategia del sumin
 istro.• Proceso del suministro.• Identificación y especificación de las ne
 cesidades.• Selección de proveedores.• Evaluación y relación con los prove
 edores.\nAspectos relevantes de la compra venta internacional:• Búsqueda d
 e proveedores internacionales.• Negociación con proveedores internacionale
 s (aplicación de contratos\, INCOTERMS 2020\, medios y formas de pago inte
 rnacional\, análisis de precios).• Análisis estratégica de la logística de
  importación para la correcta toma de decisiones.\nAnálisis de riesgos en 
 la compra venta internacional y cómo mitigarlos:• Análisis de los riesgos 
 que se pueden encontrar durante el proceso de la compra venta internaciona
 l.• El papel de los INCOTERMS en el manejo del riesgo.• Seguros.• Riesgos 
 aduaneros.• Matriz de riesgo.• KPI´s.\nFecha: 7 y 8 de setiembre del 2021.
 Horario: 8:00 a.m. a 12:00 p.m.Duración: 8 horas.Plataforma: Zoom.Inversió
 n: ¢80.000 + 2% de IVA por participante.Incluye: Material didáctico y cert
 ificado de participación en PDF.\nFacilitadora: Licda. Yorleny Jiménez Roj
 asGraduada con honores de la Universidad de Costa Rica en la carrera de Ad
 ministración Aduanera y Comercio Exterior. Certificada como especialista e
 n Supply Chain de la Universidad de Nebrija en España.Actualmente consulto
 ra independiente con 20 años de experiencia en manejo y desarrollo de proc
 esos de internacionalización y logística especialmente para el sector agrí
 cola.Especialista en desarrollo de acompañamientos empresariales en temas 
 de importación\, exportación\, logística internacional\, entre otros.Profe
 sora de la Universidad de Costa Rica\, Universidad FUNDEPOS y capacitadora
  activa en diferentes Cámaras que agremia exportadores\, importadores\, em
 presas PYMES\, entidades estatales\, colegios profesionales\, entre otros.
 \nTodas nuestras capacitaciones pueden ser impartidas en su organización\n
 Inscripciones e información al e-mail info@cedeso.co.crTel: (506) 2225-100
 7 · Tel/Fax: (506) 2253-2774Visite nuestra página www.cedeso.co.crfacebook
 .com/cedesocostarica
DTSTART:20220907T140000Z
DTEND:20220908T180000Z
GEO:00;0
LOCATION:Virtual por Zoom.
ORGANIZER;CN=:info@cedeso.co.cr
SEQUENCE:1
SUMMARY:Técnicas para realizar compras internacionales efectivas y eficient
 es
TRANSP:OPAQUE
URL:https://cedeso.co.cr/eventos-anteriores/597-t%C3%A9cnicas-para-realizar
 -compras-internacionales-efectivas-y-eficientes
END:VEVENT
END:VCALENDAR
