BEGIN:VCALENDAR
VERSION:2.0
PRODID:-//Cedeso//NONSGML kigkonsult.se iCalcreator 2.30.10//
CALSCALE:GREGORIAN
METHOD:PUBLISH
UID:d32d1fe4-330a-42e1-9055-556c3f435b4d
X-WR-CALNAME:iCagenda
X-WR-CALDESC:Event Management Extension for Joomla!
X-WR-RELCALID:3E26604A-50F4-4449-8B3E-E4F4932D05B5
X-WR-TIMEZONE:America/Costa_Rica
BEGIN:VTIMEZONE
TZID:America/Costa_Rica
BEGIN:STANDARD
TZNAME:CST
DTSTART:20210205T060000
TZOFFSETFROM:+0000
TZOFFSETTO:-0600
END:STANDARD
END:VTIMEZONE
BEGIN:VEVENT
UID:1577b6b6-93a4-45a8-b500-1e0ef5d53ccf
DTSTAMP:20260419T192730Z
CATEGORIES:Operaciones
CLASS:PUBLIC
DESCRIPTION;ALTREP="CID:<FFFF__=0ABBE548DFE235B58f9e8a93d@coffeebean.com>":
 Taller:\nNegociación de los términos de comercio internacional y su impact
 o en los costos y riesgos en las operaciones de importación y exportación
 \nObjetivo:Aprender a negociar correctamente los términos de comercio inte
 rnacional a fin de entender el alcance que tiene cada uno en la negociació
 n de costos logísticos y los riesgos derivados de este proceso.\nContenido
  temático:• ¿Qué son los términos de compra venta internacional?• ¿Para qu
 é se utilizan?• Los términos de comercio internacional uno a uno.• Análisi
 s de criterios estratégicos para la elección del término de comercio inter
 nacional más adecuado.• Claves para el uso profesional de los términos de 
 comercio internacional.• Casos prácticos.\nFecha: 7 y 9 de noviembre del 2
 021.Horario: 8:30 a.m. a 11:30 a.m.Duración: 6 horas.Plataforma: Zoom.Inve
 rsión: ¢60.000 + 2% de IVA por participante.Incluye: Material didáctico y 
 certificado de participación en PDF.\nFacilitadora: Licda. Yorleny Jiménez
  RojasGraduada con honores de la Universidad de Costa Rica en la carrera d
 e Administración Aduanera y Comercio Exterior. Certificada como especialis
 ta en Supply Chain de la Universidad de Nebrija en España.Actualmente cons
 ultora independiente con 20 años de experiencia en manejo y desarrollo de 
 procesos de internacionalización y logística especialmente para el sector 
 agrícola.Especialista en desarrollo de acompañamientos empresariales en te
 mas de importación\, exportación\, logística internacional\, entre otros.P
 rofesora de la Universidad de Costa Rica\, Universidad FUNDEPOS y capacita
 dora activa en diferentes Cámaras que agremia exportadores\, importadores\
 , empresas PYMES\, entidades estatales\, colegios profesionales\, entre ot
 ros.\nTodas nuestras capacitaciones pueden ser impartidas en su organizaci
 ón\nInscripciones e información al e-mail info@cedeso.co.crTel: (506) 2225
 -1007 · Tel/Fax: (506) 2253-2774Visite nuestra página www.cedeso.co.crface
 book.com/cedesocostarica
DTSTART:20221107T143000Z
DTEND:20221109T173000Z
GEO:00;0
LOCATION:Virtual por Zoom.
ORGANIZER;CN=:info@cedeso.co.cr
SEQUENCE:1
SUMMARY:Negociación de los términos de comercio internacional y su impacto 
 en los costos y riesgos en las operaciones de importación y exportación
TRANSP:OPAQUE
URL:https://cedeso.co.cr/eventos-anteriores/598-negociaci%C3%B3n-de-los-t%C
 3%A9rminos-de-comercio-internacional-y-su-impacto-en-los-costos-y-riesgos-
 en-las-operaciones-de-importaci%C3%B3n-y-exportaci%C3%B3n
END:VEVENT
END:VCALENDAR
