BEGIN:VCALENDAR
VERSION:2.0
PRODID:-//Cedeso//NONSGML kigkonsult.se iCalcreator 2.30.10//
CALSCALE:GREGORIAN
METHOD:PUBLISH
UID:0384cfd5-1454-4493-a91a-99d2ea5c9d24
X-WR-CALNAME:iCagenda
X-WR-CALDESC:Event Management Extension for Joomla!
X-WR-RELCALID:3E26604A-50F4-4449-8B3E-E4F4932D05B5
X-WR-TIMEZONE:America/Costa_Rica
BEGIN:VTIMEZONE
TZID:America/Costa_Rica
BEGIN:STANDARD
TZNAME:CST
DTSTART:20201011T060000
TZOFFSETFROM:+0000
TZOFFSETTO:-0600
END:STANDARD
END:VTIMEZONE
BEGIN:VEVENT
UID:5b1fdb5f-8a5f-4a60-9409-3b90376a37f4
DTSTAMP:20260419T204154Z
CATEGORIES:Mejores Prácticas Organizacionales
CLASS:PUBLIC
DESCRIPTION;ALTREP="CID:<FFFF__=0ABBE548DFE235B58f9e8a93d@coffeebean.com>":
 Taller interactivo:\nDescripción de puestos\, perfiles de competencias y e
 valuación del desempeño\, utilizando el método 360°\nObjetivo:Explicar a l
 os participantes las herramientas y técnicas para realizar la descripción 
 de puestos\, los perfiles de competencias y evaluar el desempeño acorde a 
 la estrategia de su Organización\, así como determinar los indicadores cla
 ves para medir estas actividades y su cálculo a través de plantillas en Ex
 cell.\nContenido temático:• Enfoque estratégico y sistémico de la descripc
 ión de puestos\, perfiles de competencia y evaluación del desempeño. • Met
 odología para la descripción de puestos. Ejemplos prácticos. • Conceptuali
 zación de competencias laborales. • Procedimiento para identificar las com
 petencias laborales y conformar los perfiles de competencias. • Formato pa
 ra presentar los perfiles de competencias. • Ejemplos prácticos de perfile
 s de competencias a nivel de puesto\, proceso y Organización. • Plantilla 
 en EXCEL para calcular el índice de competencia por método 360°.• Formato 
 para evaluar el desempeño por el método 360°• Plantilla en EXCEL para eval
 uar el desempeño según el método 360°.\nFecha: 13 y 14 de julio del 2022.H
 orario: 2:00 p.m. a 4:00 p.m.Duración: 4 horas.Plataforma: Zoom.Inversión:
  ¢65.000 + 2% de IVA por participante.Incluye: Material y certificado de p
 articipación en PDF.\nFacilitadores: Yoany Rodríguez Cruz. Aspirante a Doc
 tor en Ciencias Pedagógicas\, Máster en Administración de Empresas\, Licen
 ciado en Educación\, Diplomado en Gestión Empresarial y Administración Púb
 lica. Posee más de 15 años de experiencia como directivo y consultor en ge
 stión empresarial\, especializado en temas gerenciales y estudios organiza
 cionales como son: Planificación Estratégica\, Cuadro de Mando Integral\, 
 Gestión del Talento\, Responsabilidad Social Empresarial\, Sistemas Integr
 ados de Gestión\, Coaching en procesos de cambio y mejora\, entre otros te
 mas\, Conferencista en Congresos Internacionales de Gestión Empresarial y 
 autor de varias publicaciones relacionadas con la Gestión del Talento. Cre
 ador del Modelo GESTAL. Profesor adjunto de la Universidad. Tutor de Tesis
  de Licenciatura y Maestría. Socio Fundador de C.C.Consultores.\nMagalys H
 ernández González: Máster en Administración de Empresas\, Licenciada en Ed
 ucación\, Diplomado en Dirección y Gestión Empresarial y Administración Pú
 blica. Posee 25 años de experiencia en la actividad docente como profesora
  universitaria y 10 años como consultora\, especializada en temas de gesti
 ón del talento\, competencias laborales\, clima laboral\, evaluación del d
 esempeño y equidad de género. Conferencista en Congresos y eventos interna
 cionales y autora de varias publicaciones relacionadas con Planificación E
 stratégica\, Cuadro de Mando Integral\, Gestión del Talento\, Responsabili
 dad Social Empresarial\, Sistemas Integrados de Gestión\, entre otros tema
 s. Tutora de Tesis de Maestría y Fundadora de C.C.Consultores.\nTodas nues
 tras capacitaciones pueden ser impartidas en su organización\nInscripcione
 s e Información al e-mail info@cedeso.co.crTel: (506) 2225-1007 · Fax: (50
 6) 2253-2774Visite nuestra página www.cedeso.co.crfacebook.com/cedesocosta
 rica
DTSTART:20220713T200000Z
DTEND:20220714T220000Z
GEO:00;0
LOCATION:Virtual por Zoom.
ORGANIZER;CN=:info@cedeso.co.cr
SEQUENCE:1
SUMMARY:Descripción de puestos\, perfiles de competencias y evaluación del 
 desempeño\, utilizando el método 360°
TRANSP:OPAQUE
URL:https://cedeso.co.cr/eventos-anteriores/599-descripci%C3%B3n-de-puestos
 ,-perfiles-de-competencias-y-evaluaci%C3%B3n-del-desempe%C3%B1o,-utilizand
 o-el-m%C3%A9todo-360%C2%B0-2
END:VEVENT
END:VCALENDAR
