BEGIN:VCALENDAR
VERSION:2.0
PRODID:-//Cedeso//NONSGML kigkonsult.se iCalcreator 2.30.10//
CALSCALE:GREGORIAN
METHOD:PUBLISH
UID:c98a9664-3c18-42c9-8700-839106559b87
X-WR-CALNAME:iCagenda
X-WR-CALDESC:Event Management Extension for Joomla!
X-WR-RELCALID:3E26604A-50F4-4449-8B3E-E4F4932D05B5
X-WR-TIMEZONE:America/Costa_Rica
BEGIN:VTIMEZONE
TZID:America/Costa_Rica
BEGIN:STANDARD
TZNAME:CST
DTSTART:20201115T060000
TZOFFSETFROM:+0000
TZOFFSETTO:-0600
END:STANDARD
END:VTIMEZONE
BEGIN:VEVENT
UID:6e3d68e7-dfd1-44c6-8c03-6a99c509fa55
DTSTAMP:20260419T220929Z
CATEGORIES:Mejores Prácticas Organizacionales
CLASS:PUBLIC
DESCRIPTION;ALTREP="CID:<FFFF__=0ABBE548DFE235B58f9e8a93d@coffeebean.com>":
 Taller:\nHerramientas prácticas y eficaces para atraer y reclutar talentos
 \nContenidos:1. Validando el perfil\, estableciendo los aspectos claves.2.
  Cómo diseñar anuncios para atraer buenos candidatos.3. Creando los propio
 s bancos de candidatos.4. El análisis de las hojas de vida\, la preentrevi
 sta.5. Fases de la entrevista.6. Cómo predecir comportamientos.7. Listas d
 e preguntas claves para las competencias más importantes.\nEntregables: Li
 stado de preguntas. Cuadro de calificación de las competencias.\nFecha: 17
  y 19 de agosto del 2022Horario: 8:30 a.m. a 12:00 m.d.Duración total: 7 h
 oras.Plataforma: ZoomInversión: ¢105.000 + 2% de IVA por participante. Inc
 luye: Material y certificado de participación en PDF.\nFacilitador: Lic. C
 arlos Solera Umaña. Licenciado en administración de negocios. Certificado 
 en Compensación y Competencias. Amplia experiencia en Compensación y Benef
 icios en Latinoamérica.\nTodas nuestras capacitaciones pueden ser impartid
 as en su organización\nInscripciones e Información al e-mail info@cedeso.c
 o.crTel: (506) 2225-1007 / Fax: (506) 2253-2774Visite nuestra página www.c
 edeso.co.crfacebook.com/cedesocostarica
DTSTART:20220817T143000Z
DTEND:20220819T180000Z
GEO:00;0
LOCATION:Virtual por Zoom.
ORGANIZER;CN=:info@cedeso.co.cr
SEQUENCE:1
SUMMARY:Herramientas prácticas y eficaces para atraer y reclutar talentos
TRANSP:OPAQUE
URL:https://cedeso.co.cr/eventos-anteriores/601-herramientas-pr%C3%A1cticas
 -y-eficaces-para-atraer-y-reclutar-talentos
END:VEVENT
END:VCALENDAR
