BEGIN:VCALENDAR
VERSION:2.0
PRODID:-//Cedeso//NONSGML kigkonsult.se iCalcreator 2.30.10//
CALSCALE:GREGORIAN
METHOD:PUBLISH
UID:9db8ff8a-4042-461a-98ef-6649951d9c93
X-WR-CALNAME:iCagenda
X-WR-CALDESC:Event Management Extension for Joomla!
X-WR-RELCALID:3E26604A-50F4-4449-8B3E-E4F4932D05B5
X-WR-TIMEZONE:America/Costa_Rica
BEGIN:VTIMEZONE
TZID:America/Costa_Rica
BEGIN:STANDARD
TZNAME:CST
DTSTART:20201114T060000
TZOFFSETFROM:+0000
TZOFFSETTO:-0600
END:STANDARD
END:VTIMEZONE
BEGIN:VEVENT
UID:99e71fac-9433-4730-beb2-fca7f575e0f5
DTSTAMP:20260419T220340Z
CATEGORIES:Ventas
CLASS:PUBLIC
DESCRIPTION;ALTREP="CID:<FFFF__=0ABBE548DFE235B58f9e8a93d@coffeebean.com>":
 Taller:\nTécnicas efectivas para vender o vender\n¿Sabías que el 92% de lo
 s clientes compran después de la quinta objeción?Sin embargo\, el 86% de l
 os vendedores se rinden en la segunda objeción.\nObjetivo:Aumentar sus ven
 tas por medio de técnicas novedosas y de rápida aplicación en temas de: tá
 cticas de prospección\, entrevista vendedora y estrategias de cierre.\nTem
 ario:El vendedor profesional• Cómo superar falsos paradigmas que limitan a
  un vendedor.• Responsabilidad Causativa en las ventas.• Atribuciones del 
 vendedor experto.\nProspección• Tácticas para generar prospectos calificad
 os.• Políticas del Cordón Rojo para nuevos prospectos.• Cómo crear interés
  por el producto o servicio.\nPresentación del producto o servicio• Cómo e
 jecutar una entrevista de ventas impecable• Técnicas para hacer presentaci
 ones vendedoras• Leyes para argumentar los benéficos\nObjeciones y cierre•
  Cómo manejar cualquier tipo de objeciones.• Pasos para persistir en el ci
 erre sin crear molestia en el cliente.• Tipos de cierre según el momento y
  la circunstancia.\nFechas: 16 y 18 de agosto del 2022.Horario: 8:30 a.m. 
 a 11:30 a.m.Duración: 6 horas.Plataforma: Zoom.Inversión: ¢90.000 + 2% de 
 IVA por participante.Incluye: Material y certificado de participación en P
 DF.\nFacilitador: Joel Maldonado RodríguezEgresado de la Universidad Carab
 obo Venezuela: conferencista experimentado y facilitador de cursos Direcci
 ón de Personal y Liderazgo\, Ventas\, Servicio al Cliente y Desarrollo Org
 anizacional. Ha diseñado programas de capacitación para empresas\, basado 
 en técnicas funcionales y de aplicación inmediata. Personalmente ha entren
 ado a más de 15.000 personas en México\, Venezuela\, Colombia\, Costa Rica
 \, Panamá\, República Dominicana\, Salvador y Nicaragua con resultados com
 probados. Creador del Modelo para un Entorno Laboral Feliz y Productivo.\n
 Todas nuestras capacitaciones pueden ser impartidas en su organización\nIn
 scripciones e información al e-mail info@cedeso.co.crTel: (506) 2225-1007 
 / Fax: (506) 2253-2774 Visite nuestra página www.cedeso.co.crfacebook.com/
 cedesocostarica
DTSTART:20220816T143000Z
DTEND:20220818T173000Z
GEO:00;0
LOCATION:Virtual por Zoom.
ORGANIZER;CN=:info@cedeso.co.cr
SEQUENCE:1
SUMMARY:Técnicas efectivas para vender o vender
TRANSP:OPAQUE
URL:https://cedeso.co.cr/eventos-anteriores/602-t%C3%A9cnicas-efectivas-par
 a-vender-o-vender-2
END:VEVENT
END:VCALENDAR
