BEGIN:VCALENDAR
VERSION:2.0
PRODID:-//Cedeso//NONSGML kigkonsult.se iCalcreator 2.30.10//
CALSCALE:GREGORIAN
METHOD:PUBLISH
UID:fd56eab0-4d78-4fc5-bf27-42640d5977ea
X-WR-CALNAME:iCagenda
X-WR-CALDESC:Event Management Extension for Joomla!
X-WR-RELCALID:3E26604A-50F4-4449-8B3E-E4F4932D05B5
X-WR-TIMEZONE:America/Costa_Rica
BEGIN:VTIMEZONE
TZID:America/Costa_Rica
BEGIN:STANDARD
TZNAME:CST
DTSTART:20201206T060000
TZOFFSETFROM:+0000
TZOFFSETTO:-0600
END:STANDARD
END:VTIMEZONE
BEGIN:VEVENT
UID:3faa3c49-3e1c-4f5d-b380-8f2eda577e8e
DTSTAMP:20260419T204838Z
CATEGORIES:Mejores Prácticas Organizacionales
CLASS:PUBLIC
DESCRIPTION;ALTREP="CID:<FFFF__=0ABBE548DFE235B58f9e8a93d@coffeebean.com>":
 Taller:\nPaso a paso cómo diseñar una inducción específica al puesto\nDiri
 gido a:Los responsables de capacitación y desarrollo\, especialistas en ca
 pacitación\, profesionales y técnicos de RR.HH. otros involucrados en la c
 apacitación del personal. Objetivo:Brindar la claridad teórica y las herra
 mientas para concretar con éxito un programa de inducciones específicas. C
 ontenidos:• Por qué una correcta inducción es clave para retener y comprom
 eter a los colaboradores nuevos.• Esclareciendo el concepto\, es más que l
 a integración del colaborador.• Cuáles son los fundamentos teóricos para d
 esarrollar las inducciones.• Relación entre conocimiento\, responsabilidad
  y control.• Paso a paso para desarrollar e implementar cualquier inducció
 n.• Sugerencias probadas para concretar el proyecto de inducción específic
 a.\nFecha: 7 y 8 de setiembre 2022.Horario: 8:30 a.m. a 11:30 a.m.Duración
 : 6 horas.Metodología: Virtual por plataforma Zoom.Inversión: ¢90.000 + 2%
  de IVA por participante.Incluye: Material y certificado de participación 
 en PDF.\nFacilitador: Lic. Carlos Solera Umaña Licenciado en administració
 n de negocios\, técnico en seguros. Certificado en Compentencias y Compens
 ación. Más de 30 años de experiencia en la Gestión de RRHH\, en organizaci
 ones de manufactura\, servicios\, cooperativas y ONG´s. Director de CEDESO
  S.A.\nTodas nuestras capacitaciones pueden ser impartidas en su organizac
 ión\nInscripciones e Información al e-mail info@cedeso.co.crTel: (506) 222
 5-1007 / Fax: (506) 2253-2774Visite nuestra página www.cedeso.co.crfaceboo
 k.com/cedesocostarica
DTSTART:20220907T143000Z
DTEND:20220908T173000Z
GEO:00;0
LOCATION:Virtual por Zoom.
ORGANIZER;CN=:info@cedeso.co.cr
SEQUENCE:1
SUMMARY:Paso a paso cómo diseñar una inducción específica al puesto
TRANSP:OPAQUE
URL:https://cedeso.co.cr/eventos-anteriores/603-paso-a-paso-c%C3%B3mo-dise%
 C3%B1ar-una-inducci%C3%B3n-espec%C3%ADfica-al-puesto-3
END:VEVENT
END:VCALENDAR
