BEGIN:VCALENDAR
VERSION:2.0
PRODID:-//Cedeso//NONSGML kigkonsult.se iCalcreator 2.30.10//
CALSCALE:GREGORIAN
METHOD:PUBLISH
UID:2780f515-e8f8-4529-8f43-e0087340335e
X-WR-CALNAME:iCagenda
X-WR-CALDESC:Event Management Extension for Joomla!
X-WR-RELCALID:3E26604A-50F4-4449-8B3E-E4F4932D05B5
X-WR-TIMEZONE:America/Costa_Rica
BEGIN:VTIMEZONE
TZID:America/Costa_Rica
BEGIN:STANDARD
TZNAME:CST
DTSTART:20200922T060000
TZOFFSETFROM:+0000
TZOFFSETTO:-0600
END:STANDARD
END:VTIMEZONE
BEGIN:VEVENT
UID:3e1f4407-aacf-43b8-8516-78d85bb3c1a5
DTSTAMP:20260419T204038Z
CATEGORIES:Mejores Prácticas Organizacionales
CLASS:PUBLIC
DESCRIPTION;ALTREP="CID:<FFFF__=0ABBE548DFE235B58f9e8a93d@coffeebean.com>":
 Webinar GRATIS\nLa importancia de las tecnologías digitales para las empre
 sas futuro\n \nPlática con el respaldo de dos naciones México / Costa Rica
  1 HORA | Una Colaboración de Omnistar y CEDESO S.A.\n| MODALIDAD EN LÍNEA
  - VÍA GOOGLE MEET |  VIERNES 24 DE JUNIO DE 2022 EN PUNTO DE LAS 10:00 A.
 M. Tiempo de Costa Rica ⏰\n \n✅Conoce la importancia las herramientas digi
 tales que día con día más empresas están adoptando como principales en la 
 actualización de sus procesos\, actividades internas y carga de trabajo.\n
  \nEsta plática será impartida por: Ulises De la Cruz Moreno\, MBA\nMaestr
 o en Negocios (MBA) por Lingnan (University) College\, Sun Yat Sen Univers
 ity en Guangzhou\, China/ Massachusetts Institute of Technology (MIT) y Ma
 estro en Administración de la Energía y sus Fuentes Renovables por el Tecn
 ológico de Monterrey (ITESM).\n \nEstudió su carrera profesional en Admini
 stración de Empresas en University of the Southwest\, en Estados Unidos\, 
 donde se graduó con mención honorífica (Cum laude)\, certificado en Empren
 dimiento y Transformación digital por la Munich University of Applied Scie
 nces.\n \nCuenta con sólida experiencia en la gestión de empresas en las i
 ndustrias de la educación\, actualmente Cofundador y Director General en O
 mnistar Group.\n \nInscríbete al siguiente correo: info@cedeso.co.cr y al 
 número: +506 2225-1007
DTSTART:20220624T160000Z
DTEND:20220624T170000Z
GEO:00;0
LOCATION:Virtual por Google Meet
ORGANIZER;CN=:info@cedeso.co.cr
SEQUENCE:1
SUMMARY:La importancia de las tecnologías digitales para las empresas futur
 o
TRANSP:OPAQUE
URL:https://cedeso.co.cr/eventos-anteriores/604-la-importancia-de-las-tecno
 log%C3%ADas-digitales-para-las-empresas-futuro
END:VEVENT
END:VCALENDAR
