BEGIN:VCALENDAR
VERSION:2.0
PRODID:-//Cedeso//NONSGML kigkonsult.se iCalcreator 2.30.10//
CALSCALE:GREGORIAN
METHOD:PUBLISH
UID:98676552-109d-45d7-a330-9a2359794ba8
X-WR-CALNAME:iCagenda
X-WR-CALDESC:Event Management Extension for Joomla!
X-WR-RELCALID:3E26604A-50F4-4449-8B3E-E4F4932D05B5
X-WR-TIMEZONE:America/Costa_Rica
BEGIN:VTIMEZONE
TZID:America/Costa_Rica
BEGIN:STANDARD
TZNAME:CST
DTSTART:20201121T060000
TZOFFSETFROM:+0000
TZOFFSETTO:-0600
END:STANDARD
END:VTIMEZONE
BEGIN:VEVENT
UID:300eae0a-5d2d-4886-a6c3-5db6ccaa62a4
DTSTAMP:20260419T204923Z
CATEGORIES:Mejores Prácticas Organizacionales
CLASS:PUBLIC
DESCRIPTION;ALTREP="CID:<FFFF__=0ABBE548DFE235B58f9e8a93d@coffeebean.com>":
 Taller:\nAplique el modelo OKR de objetivos y resultados clave\nFecha: 23 
 y 30 de agosto del 2022.Horario: 8:30 a.m. a 11:30 a.m.Duración: 6 horas.P
 lataforma: Zoom.Inversión: ¢90.000 + 2% de IVA por participante.Incluye: M
 aterial didáctico y certificado de participación en PDF.\nObjetivo orienta
 tivo: los participantes podrán explicar\, aplicar y apreciar el modelo de 
 objetivos y resultados clave (OKR) en la gestión organizacional.\nTemario 
 y actividades:La ciencia del alineamiento y la ejecución.  • Competencia\,
  compromiso y alineamiento: ¡Talento en acción!  • La psicología del top p
 erformer\, el impacto del nodo de sacrificio y el trabajo colaborativo.  •
  Propósito y alineamiento: el marco de objetivos y metas.Trabajando con OK
 Rs y KPIs.  • ¿Qué es un OKR? El manejo integrado de intenciones estratégi
 cas (OKRs) e indicadores clave (KPIs).  • Emocionar con datos\, involucrar
  con objetivos: OKR y KPI.  • Un modelo ágil para desplegar OKRs: “Agile O
 KRs”.  • Laboratorio “OKR/KPI” con participantes y ejemplos de empresa. Al
 ineamiento organizacional.  • Cubo del cambio cultural: el modelo CFR.  • 
 OKR-Liderazgo: conductores del alineamiento y el compromiso (sentido\, aut
 onomía\, riesgo y visual thinking). .  • Coaching de equipos en el ciclo O
 KR: guías para la acción.\nFacilitador: Dr. Enrique Margery- Doctor en Edu
 cación y TEDx speaker.- Profesor de la Maestría en Psicología del Trabajo 
 en la Universidad de Costa Rica. Profesor invitado de la Universidad de Qu
 erétaro (UAQ\, México) y la Universidad UAGM (Puerto Rico).- Diseña capaci
 tación para desarrollo de soft skills basado en aprendizaje por la experie
 ncia\, GBL y “reto-aprendizaje”.- Coach especialista en ciencia de la cola
 boración y manejo de top performers.- Diseña herramientas para medir el Se
 ntido de Urgencia\, el “termómetro de la colaboración” y la rentabilidad d
 e la capacitación\, entre otros.- Autor de los libros “Complejidad y Compe
 tencias”\, “Herramientas de Coaching”\, “El Viaje” (Editorial Norma\; uno 
 de los primeros libros de psicología positiva publicados) y 'Complejidad\,
  Transdisciplinariedad y Compentencias'\nTodas nuestras capacitaciones pue
 den ser impartidas en su organización\nInscripciones e Información al e-ma
 il info@cedeso.co.crTel: (506) 2225-1007 · Fax: (506) 2253-2774Visite nues
 tra página www.cedeso.co.crfacebook.com/cedesocostarica
DTSTART:20220823T143000Z
DTEND:20220830T173000Z
GEO:00;0
LOCATION:Virtual por Zoom
ORGANIZER;CN=:info@cedeso.co.cr
SEQUENCE:1
SUMMARY:Aplique el modelo OKR de objetivos y resultados clave
TRANSP:OPAQUE
URL:https://cedeso.co.cr/eventos-anteriores/606-aplique-el-modelo-okr-de-ob
 jetivos-y-resultados-clave
END:VEVENT
END:VCALENDAR
