BEGIN:VCALENDAR
VERSION:2.0
PRODID:-//Cedeso//NONSGML kigkonsult.se iCalcreator 2.30.10//
CALSCALE:GREGORIAN
METHOD:PUBLISH
UID:c57632ba-be8f-4829-9a20-6b1a91396ae5
X-WR-CALNAME:iCagenda
X-WR-CALDESC:Event Management Extension for Joomla!
X-WR-RELCALID:3E26604A-50F4-4449-8B3E-E4F4932D05B5
X-WR-TIMEZONE:America/Costa_Rica
BEGIN:VTIMEZONE
TZID:America/Costa_Rica
BEGIN:STANDARD
TZNAME:CST
DTSTART:20201122T060000
TZOFFSETFROM:+0000
TZOFFSETTO:-0600
END:STANDARD
END:VTIMEZONE
BEGIN:VEVENT
UID:e2a1897e-2277-4028-ac94-025db3cb2bf7
DTSTAMP:20260419T204732Z
CATEGORIES:Mejores Prácticas Organizacionales
CLASS:PUBLIC
DESCRIPTION;ALTREP="CID:<FFFF__=0ABBE548DFE235B58f9e8a93d@coffeebean.com>":
 Taller:\nPaso a paso cómo evolucionar de Inducción a Onboarding\nDirigido 
 a:Gestores responsables de la capacitación y desarrollo\, sus asistentes y
  otros especialistas involucrados\, personal de otras áreas relacionados c
 on la capacitación del personal\, personas interesadas en actualizarse res
 pecto al tema.\nObjetivo:Brindar la claridad teórica y las herramientas pa
 ra concretar con éxito un programa de Onboarding.\nContenidos:• Diferencia
  entre inducción y Onboarding.• Las 5 fases del Onboarding.• Por qué mudar
  a Onboarding es necesario para atraer\, retener y motivar el talento.• El
 ementos esenciales para implementar con éxito un proyecto de Onboarding en
  la organización.• Paso a paso para desarrollar el Onboarding en la organi
 zación\nFecha: 24 y 26 de agosto del 2022.Horario: 8:30 a.m. a 11:30 a.m.D
 uración: 6 horas.Plataforma: Zoom.Inversión: ¢90.000 + 2% de IVA por parti
 cipante.Incluye: Material y certificado de participación en PDF.\nFacilita
 dor: Lic. Carlos Solera Umaña Lic. en Administración de Negocios\, Perito 
 en Seguros. Certificado en Competencias y Compensación. Más de 30 años de 
 experiencia en la Gestión de RRHH en organizaciones de manufactura\, servi
 cios\, cooperativas y ONG´s. Director de CEDESO S.A.\nTodas nuestras capac
 itaciones pueden ser impartidas en su organización\nInscripciones e Inform
 ación al e-mail info@cedeso.co.crTel: (506) 2225-1007 / Fax: (506) 2253-27
 74Visite nuestra página www.cedeso.co.crfacebook.com/cedesocostarica
DTSTART:20220824T143000Z
DTEND:20220826T173000Z
GEO:00;0
LOCATION:Virtual por Zoom
ORGANIZER;CN=:info@cedeso.co.cr
SEQUENCE:1
SUMMARY:Paso a paso cómo evolucionar de Inducción a Onboarding
TRANSP:OPAQUE
URL:https://cedeso.co.cr/eventos-anteriores/608-paso-a-paso-c%C3%B3mo-evolu
 cionar-de-inducci%C3%B3n-a-onboarding
END:VEVENT
END:VCALENDAR
