BEGIN:VCALENDAR
VERSION:2.0
PRODID:-//Cedeso//NONSGML kigkonsult.se iCalcreator 2.30.10//
CALSCALE:GREGORIAN
METHOD:PUBLISH
UID:7816b0db-21c9-428e-b7de-10a7da5e81b5
X-WR-CALNAME:iCagenda
X-WR-CALDESC:Event Management Extension for Joomla!
X-WR-RELCALID:3E26604A-50F4-4449-8B3E-E4F4932D05B5
X-WR-TIMEZONE:America/Costa_Rica
BEGIN:VTIMEZONE
TZID:America/Costa_Rica
BEGIN:STANDARD
TZNAME:CST
DTSTART:20201220T060000
TZOFFSETFROM:+0000
TZOFFSETTO:-0600
END:STANDARD
END:VTIMEZONE
BEGIN:VEVENT
UID:a84a75ae-5c29-48e2-a472-5adc4bff25c0
DTSTAMP:20260419T203206Z
CATEGORIES:Operaciones
CLASS:PUBLIC
DESCRIPTION;ALTREP="CID:<FFFF__=0ABBE548DFE235B58f9e8a93d@coffeebean.com>":
 Seminario\nMejores prácticas en administración de inventarios\nAspectos ad
 ministrativos y control operativo\nFecha: 21 y 23 de setiembre del 2022.Ho
 rario: 8:30 a.m. a 12:30 m.d.Duración: 8 horas.Modalidad: Virtual.Platafor
 ma: Zoom.Inversión: ¢80.000 + 2% de IVA por participante.Incluye: Material
  didáctico y certificado de participación.\nObjetivo del seminario:Estudia
 r los elementos fundamentales que deben ser implementados en la empresa pa
 ra garantizar que los inventarios sean manejados en forma efectiva.\nTemar
 io:1) Que es la administración de InventariosObjetivo: Preparar a los part
 icipantes para el manejo de modelos y términos que se usan en la correcta 
 administración de inventarios • Propósito. • Objetivo. • Política de inven
 tario. • Impacto de los inventarios en el negocio. • Variables que impacta
 n los inventarios. • Indicadores de gestión.\n2) Modelo de administración 
 de los inventariosObjetivo: Describir y desarrollar un modelo de administr
 ación de inventarios de clase mundial • Definición de las metas de inventa
 rio. • Costos de los inventarios. • Administración de la demanda\, su impo
 rtancia. • Modelos para lotificación y frecuencia de reposición. • Estrate
 gias para disminuir inventarios.\nFacilitador: Ing. Víctor León\, Mg.Ingen
 iero Industrial con estudios de Postgrado en Ingeniería Industrial\, Geren
 cia de RRHH y Dinámica de Grupos. Experiencia en las áreas de Distribución
 \, Atención al Cliente y Planificación de la Producción\, Manejo de Invent
 arios\, Almacenes\, Costos y Elaboración de Proyectos de Inversión. Certif
 icación como conferencista internacional. Miembro de la asociación de conf
 erencistas Hispanos. Capacitador en áreas gerenciales y técnicas\, con 20 
 años de experiencia.\nTodas nuestras capacitaciones pueden ser impartidas 
 en su organización\nInscripciones e Información al e-mail info@cedeso.co.c
 rTel: (506) 2225-1007 · Fax: (506) 2253-2774Visite nuestra página www.cede
 so.co.crfacebook.com/cedesocostarica
DTSTART:20220921T143000Z
DTEND:20220923T183000Z
GEO:00;0
LOCATION:Virtual por Zoom.
ORGANIZER;CN=:info@cedeso.co.cr
SEQUENCE:1
SUMMARY:Mejores prácticas en administración de inventarios
TRANSP:OPAQUE
URL:https://cedeso.co.cr/eventos-anteriores/609-mejores-pr%C3%A1cticas-en-a
 dministraci%C3%B3n-de-inventarios
END:VEVENT
END:VCALENDAR
