BEGIN:VCALENDAR
VERSION:2.0
PRODID:-//Cedeso//NONSGML kigkonsult.se iCalcreator 2.30.10//
CALSCALE:GREGORIAN
METHOD:PUBLISH
UID:ed6b9bcf-d4c6-4fd0-9f7a-9553ed9e77fc
X-WR-CALNAME:iCagenda
X-WR-CALDESC:Event Management Extension for Joomla!
X-WR-RELCALID:3E26604A-50F4-4449-8B3E-E4F4932D05B5
X-WR-TIMEZONE:America/Costa_Rica
BEGIN:VTIMEZONE
TZID:America/Costa_Rica
BEGIN:STANDARD
TZNAME:CST
DTSTART:20210115T060000
TZOFFSETFROM:+0000
TZOFFSETTO:-0600
END:STANDARD
END:VTIMEZONE
BEGIN:VEVENT
UID:aee38f7f-e38f-4d7c-9155-a5ed117ff3f8
DTSTAMP:20260419T190139Z
CATEGORIES:Operaciones
CLASS:PUBLIC
DESCRIPTION;ALTREP="CID:<FFFF__=0ABBE548DFE235B58f9e8a93d@coffeebean.com>":
 Curso:\nGestión integral de la bodega: aspectos operacionales para agregar
  valor\nObjetivo del seminario:Estudiar un modelo práctico para el manejo 
 correcto de una bodega independientemente de su tamaño\, uso y capacidad.
 \nQuien debe tomar este curso:Ingenieros industriales\, profesionales admi
 nistrativos relacionados con la logística\, supervisores de bodegas\, comp
 ras o control de inventarios\, personal profesional en formación para asum
 ir cargos en cadena de suministro. Profesionales interesados.\nNivel del c
 urso:El curso está dirigidos a persona con formación superior a nivel técn
 ico o de licenciatura\, el enfoque es táctico y se usará un lenguaje técni
 co intermedio de fácil comprensión.\nMetodología:Teórico práctico\, se mue
 stran videos\, casos de estudio y ejercicios.\nContenidos:1) Gestión de bo
 degasObjetivo: Establecer el marco de conceptos y elementos de gestión nec
 esarios para operar la bodega y definir sus procesos.• Propósito• Objetivo
 s• Control de la bodega\n2) Modelo de control y gestión de bodegaObjetivo:
  Estudiar en forma detallada los procesos de la bodega para lograr que est
 a sea generadora de valor y no consumidora de recursos.• La organización d
 e la bodega\, aspectos esenciales• Inbound: Recepción y Putaway• Almacenaj
 e ◦ Normas de manejo de materiales ◦ Buenas prácticas de almacenaje ◦ Equi
 pamiento de manejo y almacenamiento• Outbound: Picking\, Chequeo\, Despach
 o• Otras operaciones• 5 s en bodega• Estrategias generales para e\nFecha: 
 17 y 18 de octubre del 2022.Horario: 8:30 a.m. a 12:30 m.d.Duración: 8 hor
 as.Plataforma: Zoom.Inversión: ¢80.000 + 2% de IVA por participante.Incluy
 e: Material y certificado de participación en PDF.\nFacilitador: Ing. Víct
 or León\, Mg.-Ingeniero Industrial con estudios de Postgrado en Ingeniería
  Industrial\, Gerencia de RRHH y Dinámica de Grupos.-Experiencia en las ár
 eas de Distribución\, Atención al Cliente y Planificación de la Producción
 \, Manejo de Inventarios\, Almacenes\, Costos y Elaboración de Proyectos d
 e Inversión.- Capacitador en áreas gerenciales y técnicas\, con 20 años de
  experiencia.\nTodas nuestras capacitaciones pueden ser impartidas en su o
 rganización\nInscripciones e Información al e-mail info@cedeso.co.crTel: (
 506) 2225-1007 Fax: (506) 2253-2774Visite nuestra página www.cedeso.co.crf
 acebook.com/cedesocostarica
DTSTART:20221017T143000Z
DTEND:20221018T183000Z
GEO:00;0
LOCATION:Virtual por Zoom.
ORGANIZER;CN=:info@cedeso.co.cr
SEQUENCE:1
SUMMARY:Gestión integral de la bodega
TRANSP:OPAQUE
URL:https://cedeso.co.cr/eventos-anteriores/610-gesti%C3%B3n-integral-de-la
 -bodega-2
END:VEVENT
END:VCALENDAR
