BEGIN:VCALENDAR
VERSION:2.0
PRODID:-//Cedeso//NONSGML kigkonsult.se iCalcreator 2.30.10//
CALSCALE:GREGORIAN
METHOD:PUBLISH
UID:39f15daf-9e95-4a89-a1ec-9c7d3bd63393
X-WR-CALNAME:iCagenda
X-WR-CALDESC:Event Management Extension for Joomla!
X-WR-RELCALID:3E26604A-50F4-4449-8B3E-E4F4932D05B5
X-WR-TIMEZONE:America/Costa_Rica
BEGIN:VTIMEZONE
TZID:America/Costa_Rica
BEGIN:STANDARD
TZNAME:CST
DTSTART:20201205T060000
TZOFFSETFROM:+0000
TZOFFSETTO:-0600
END:STANDARD
END:VTIMEZONE
BEGIN:VEVENT
UID:b08408c6-5558-4cb0-94c7-cd3d29acbcdb
DTSTAMP:20260419T204537Z
CATEGORIES:Mejores Prácticas Organizacionales
CLASS:PUBLIC
DESCRIPTION;ALTREP="CID:<FFFF__=0ABBE548DFE235B58f9e8a93d@coffeebean.com>":
 Taller:\nMediación de presentaciones de impacto\nFecha: 6 y 13 de setiembr
 e del 2022.Horario: 8:30 a.m. a 12:00 m.d.Duración: 7 horas.Plataforma: Zo
 om.Inversión: ¢105.000 + 2% de IVA por participante.Incluye: Material didá
 ctico y certificado de participación en PDF.\nObjetivo orientativo: Explic
 ar\, aplicar y apreciar herramientas esenciales para diseñar y entregar pr
 esentaciones de calidad.\nContenidos:• La tríada del impacto en presentaci
 ones: diseño y entrega aplicando las tres dimensiones de impacto y los cua
 tro niveles de manejo de requerimientos.• Los seis principios de la influe
 ncia en presentaciones (aplíquelos a su sello personal).• Mediación de pre
 sentaciones: guías al presentar (y qué no hacer para lograr presentaciones
  de impacto): conductas de apertura\, diseño “2-3-1”\, enfoque\, mediación
  gráfica y el manejo de diferentes grupos.• Manejo del pánico escénico: mo
 delo NUTS y nueve estrategias desde la neuro- ciencia y la didáctica avanz
 ada.• Entrenamiento de la dicción: ¿Cómo hablar claro? Claves esenciales p
 ara lo híbrido (presencial y virtual)\, ser concretos\, enfocados y que no
 s entiendan.• Temas avanzados: diseñe “momentos de impacto”\, elimine mule
 tillas y trabaje temas en lugar de viñetas.• Ejercicio de presentaciones c
 on el Modelo de Microteaching (Stanford). Tabla de evaluación de presentac
 iones con el método de Microteaching de presentaciones.\nFacilitador: Dr. 
 Enrique Margery- Doctor en Educación y TEDx speaker.- Profesor de la Maest
 ría en Psicología del Trabajo en la Universidad de Costa Rica. Profesor in
 vitado de la Universidad de Querétaro (UAQ\, México) y la Universidad UAGM
  (Puerto Rico).- Diseña capacitación para desarrollo de soft skills basado
  en aprendizaje por la experiencia\, GBL y “reto-aprendizaje”.- Coach espe
 cialista en ciencia de la colaboración y manejo de top performers.- Diseña
  herramientas para medir el Sentido de Urgencia\, el “termómetro de la col
 aboración” y la rentabilidad de la capacitación\, entre otros.- Autor de l
 os libros “Complejidad y Competencias”\, “Herramientas de Coaching”\, “El 
 Viaje” (Editorial Norma\; uno de los primeros libros de psicología positiv
 a publicados) y 'Complejidad\, Transdisciplinariedad y Compentencias'\nTod
 as nuestras capacitaciones pueden ser impartidas en su organización\nInscr
 ipciones e Información al e-mail info@cedeso.co.crTel: (506) 2225-1007 · F
 ax: (506) 2253-2774Visite nuestra página www.cedeso.co.crfacebook.com/cede
 socostarica
DTSTART:20220906T143000Z
DTEND:20220913T180000Z
GEO:00;0
LOCATION:Virtual por Zoom
ORGANIZER;CN=:info@cedeso.co.cr
SEQUENCE:1
SUMMARY:Mediación de presentaciones de impacto
TRANSP:OPAQUE
URL:https://cedeso.co.cr/eventos-anteriores/611-mediaci%C3%B3n-de-presentac
 iones-de-impacto
END:VEVENT
END:VCALENDAR
