BEGIN:VCALENDAR
VERSION:2.0
PRODID:-//Cedeso//NONSGML kigkonsult.se iCalcreator 2.30.10//
CALSCALE:GREGORIAN
METHOD:PUBLISH
UID:5cd4b737-1c6a-43e0-a4cd-9b89efe84cc9
X-WR-CALNAME:iCagenda
X-WR-CALDESC:Event Management Extension for Joomla!
X-WR-RELCALID:3E26604A-50F4-4449-8B3E-E4F4932D05B5
X-WR-TIMEZONE:America/Costa_Rica
BEGIN:VTIMEZONE
TZID:America/Costa_Rica
BEGIN:STANDARD
TZNAME:CST
DTSTART:20201215T060000
TZOFFSETFROM:+0000
TZOFFSETTO:-0600
END:STANDARD
END:VTIMEZONE
BEGIN:VEVENT
UID:37d21d84-60ac-4318-b91d-01582f9dd427
DTSTAMP:20260419T204039Z
CATEGORIES:Mejores Prácticas Organizacionales
CLASS:PUBLIC
DESCRIPTION;ALTREP="CID:<FFFF__=0ABBE548DFE235B58f9e8a93d@coffeebean.com>":
 Taller:\nInteligencia emocional y liderazgo para la nueva normalidad: ¿Qué
  cambió?\nFecha: 16 y 22 de setiembre del 2022.Horario: 8:30 a.m. a 12:00 
 m.d.Duración: 7 horas.Plataforma: Zoom.Inversión: ¢105.000 + 2% de IVA por
  participante.Incluye: Material didáctico y certificado de participación e
 n PDF.\nObjetivo orientativo: Actualizar las visiones del liderazgo y la i
 nteligencia emocional de hace 30 años\, con los paradigmas emergentes de l
 a nueva normalidad.\nContenidos:• La inteligencia emocional es intra e int
 erpersonal: el modelo Horan de los cuatro tipos de participantes y la lect
 ura del equipo para el liderazgo en tiempos de agilismo.• Cuatro ejes de l
 a inteligencia emocional (IE): saberes situados y no discursos. Ejercicios
  “Voz interior”\, “Puntos calientes”\, “El helicóptero y “Caja de Betari” 
 para desarrollar saberes situados en IE.• ¡Con la empatía ya no basta! Los
  tres ejes de la pedagogía de la compasión y el trabajo con la mentalidad 
 de crecimiento y la voz interior. • Amy Edmondson\, Chamorro-Premuzic y la
 s nuevas ideas del liderazgo.• Trabajar con urgencia\, actuar para produci
 r info\, y reconocer cuando no tenemos la respuesta: el liderazgo desde la
  humildad epistémica. Con herramienta de autoevaluación para los participa
 ntes.• Liderazgo para la complejidad: las cuatro reglas para el liderazgo 
 en el mundo VICA y su complemento con las cuatro reglas del mundo BANI.• U
 n taller lleno de herramientas y con pizarra colaborativa Padlet\, videos\
 , PDFs y material de interacción con participantes. Muy útil para equipos 
 de empresa o también en modalidad inhouse.\nFacilitador: Dr. Enrique Marge
 ry- Doctor en Educación y TEDx speaker.- Profesor de la Maestría en Psicol
 ogía del Trabajo en la Universidad de Costa Rica. Profesor invitado de la 
 Universidad de Querétaro (UAQ\, México) y la Universidad UAGM (Puerto Rico
 ).- Diseña capacitación para desarrollo de soft skills basado en aprendiza
 je por la experiencia\, GBL y “reto-aprendizaje”.- Coach especialista en c
 iencia de la colaboración y manejo de top performers.- Diseña herramientas
  para medir el Sentido de Urgencia\, el “termómetro de la colaboración” y 
 la rentabilidad de la capacitación\, entre otros.- Autor de los libros “Co
 mplejidad y Competencias”\, “Herramientas de Coaching”\, “El Viaje” (Edito
 rial Norma\; uno de los primeros libros de psicología positiva publicados)
  y 'Complejidad\, Transdisciplinariedad y Compentencias'\nTodas nuestras c
 apacitaciones pueden ser impartidas en su organización\nInscripciones e In
 formación al e-mail info@cedeso.co.crTel: (506) 2225-1007 · Fax: (506) 225
 3-2774Visite nuestra página www.cedeso.co.crfacebook.com/cedesocostarica
DTSTART:20220916T143000Z
DTEND:20220922T180000Z
GEO:00;0
LOCATION:Virtual por Zoom
ORGANIZER;CN=:info@cedeso.co.cr
SEQUENCE:1
SUMMARY:Inteligencia emocional y liderazgo para la nueva normalidad: ¿Qué c
 ambió?
TRANSP:OPAQUE
URL:https://cedeso.co.cr/eventos-anteriores/612-inteligencia-emocional-y-li
 derazgo-para-la-nueva-normalidad-%C2%BFqu%C3%A9-cambi%C3%B3
END:VEVENT
END:VCALENDAR
