BEGIN:VCALENDAR
VERSION:2.0
PRODID:-//Cedeso//NONSGML kigkonsult.se iCalcreator 2.30.10//
CALSCALE:GREGORIAN
METHOD:PUBLISH
UID:f1b2b318-1c04-4d66-8e8d-ef87bd22f7d2
X-WR-CALNAME:iCagenda
X-WR-CALDESC:Event Management Extension for Joomla!
X-WR-RELCALID:3E26604A-50F4-4449-8B3E-E4F4932D05B5
X-WR-TIMEZONE:America/Costa_Rica
BEGIN:VTIMEZONE
TZID:America/Costa_Rica
BEGIN:STANDARD
TZNAME:CST
DTSTART:20201212T060000
TZOFFSETFROM:+0000
TZOFFSETTO:-0600
END:STANDARD
END:VTIMEZONE
BEGIN:VEVENT
UID:8cf58a9c-6468-4ce1-b52c-65d0a308919a
DTSTAMP:20260419T203220Z
CATEGORIES:Mejores Prácticas Organizacionales
CLASS:PUBLIC
DESCRIPTION;ALTREP="CID:<FFFF__=0ABBE548DFE235B58f9e8a93d@coffeebean.com>":
 Taller:\nImplementación de la norma ISO 9001:2015 en el área de Recursos H
 umanos\n \nObjetivo:Explicar a los participantes las herramientas y técnic
 as a utilizar para cumplimentar los requisitos de la norma ISO 9001:2015 r
 elacionados con la actividad de Recursos Humanos.\nBeneficios que recibirá
 n los participantes:• Requisitos de la norma ISO 9001:2015 relacionados co
 n la actividad de Recursos Humanos.• Formato de ficha del proceso de Gesti
 ón de los Recursos Humanos. • Diagrama de flujo del proceso de Gestión de 
 los Recursos Humanos.• Mapa de subprocesos dentro de los procesos de Gesti
 ón de los Recursos Humanos. • Listado de procedimientos del proceso de Ges
 tión de los Recursos Humanos requeridos para la certificación del sistema 
 de calidad según la ISO 9001:2015.• Formato para elaborar los procedimient
 os del proceso de Gestión de los Recursos Humanos. • Batería de indicadore
 s para el proceso de Gestión de los Recursos Humanos. • Evaluación de la e
 ficacia del proceso de Gestión de los Recursos Humanos.\nFecha: 13 y 14 se
 tiembre 2022.Horario: 2:00 p.m. a 4:00 p.m.Duración: 4 horas.Plataforma: Z
 oom.Inversión: ¢60.000 + 2% de IVA por participante.Incluye: Material y ce
 rtificado de participación en PDF.\nFacilitadores: Yoany Rodríguez Cruz. A
 spirante a Doctor en Ciencias Pedagógicas\, Máster en Administración de Em
 presas\, Licenciado en Educación\, Diplomado en Gestión Empresarial y Admi
 nistración Pública. Posee más de 15 años de experiencia como directivo y c
 onsultor en gestión empresarial\, especializado en temas gerenciales y est
 udios organizacionales como son: Planificación Estratégica\, Cuadro de Man
 do Integral\, Gestión del Talento\, Responsabilidad Social Empresarial\, S
 istemas Integrados de Gestión\, Coaching en procesos de cambio y mejora\, 
 entre otros temas\, Conferencista en Congresos Internacionales de Gestión 
 Empresarial y autor de varias publicaciones relacionadas con la Gestión de
 l Talento. Creador del Modelo GESTAL. Profesor adjunto de la Universidad. 
 Tutor de Tesis de Licenciatura y Maestría. Socio Fundador de C.C.Consultor
 es.\nMagalys Hernández González: Máster en Administración de Empresas\, Li
 cenciada en Educación\, Diplomado en Dirección y Gestión Empresarial y Adm
 inistración Pública. Posee 25 años de experiencia en la actividad docente 
 como profesora universitaria y 10 años como consultora\, especializada en 
 temas de gestión del talento\, competencias laborales\, clima laboral\, ev
 aluación del desempeño y equidad de género. Conferencista en Congresos y e
 ventos internacionales y autora de varias publicaciones relacionadas con P
 lanificación Estratégica\, Cuadro de Mando Integral\, Gestión del Talento\
 , Responsabilidad Social Empresarial\, Sistemas Integrados de Gestión\, en
 tre otros temas. Tutora de Tesis de Maestría y Fundadora de C.C.Consultore
 s.\nTodas nuestras capacitaciones pueden ser impartidas en su organización
 \nInscripciones e Información al e-mail info@cedeso.co.crTel: (506) 2225-1
 007 · Fax: (506) 2253-2774Visite nuestra página www.cedeso.co.crfacebook.c
 om/cedesocostarica
DTSTART:20220913T200000Z
DTEND:20220914T220000Z
GEO:00;0
LOCATION:Virtual por Zoom.
ORGANIZER;CN=:info@cedeso.co.cr
SEQUENCE:1
SUMMARY:Implementación de la norma ISO 9001:2015 en el área de Recursos Hum
 anos
TRANSP:OPAQUE
URL:https://cedeso.co.cr/eventos-anteriores/613-implementaci%C3%B3n-de-la-n
 orma-iso-9001-2015-en-el-%C3%A1rea-de-recursos-humanos-2
END:VEVENT
END:VCALENDAR
