BEGIN:VCALENDAR
VERSION:2.0
PRODID:-//Cedeso//NONSGML kigkonsult.se iCalcreator 2.30.10//
CALSCALE:GREGORIAN
METHOD:PUBLISH
UID:0801071b-481a-4534-aa08-276aae319db7
X-WR-CALNAME:iCagenda
X-WR-CALDESC:Event Management Extension for Joomla!
X-WR-RELCALID:3E26604A-50F4-4449-8B3E-E4F4932D05B5
X-WR-TIMEZONE:America/Costa_Rica
BEGIN:VTIMEZONE
TZID:America/Costa_Rica
BEGIN:STANDARD
TZNAME:CST
DTSTART:20201227T060000
TZOFFSETFROM:+0000
TZOFFSETTO:-0600
END:STANDARD
END:VTIMEZONE
BEGIN:VEVENT
UID:1f12f3df-bd59-488f-aaf0-01b310b5205b
DTSTAMP:20260419T220451Z
CATEGORIES:Mejores Prácticas Organizacionales
CLASS:PUBLIC
DESCRIPTION;ALTREP="CID:<FFFF__=0ABBE548DFE235B58f9e8a93d@coffeebean.com>":
 Taller:\nDetección de Necesidades de Capacitación (DNC)\nUn enfoque a las 
 necesidades de hoy\nFecha: 28 y 30 de setiembre 2022.Horario: 8:30 a.m. a 
 12:00 m.d.Duración total: 7 horas.Metodología: Virtual por plataforma Zoom
 Inversión: ¢75.000 + 2% de IVA por participante. Incluye: Material y certi
 ficado de participación en PDF.\nContenidos:1. Concepto\, alcance y proble
 mática de la DNC.2. Errores comunes de las DNC ante las nuevas necesidades
 .3. Estrategia organizacional para realizarla.4. Métodos: Competencias\, i
 ndicadores\, desempeño.5. Plan maestro: gestión de los requerimientos de l
 a organización y el desarrollo de cada persona.6. Evaluación del impacto y
  la rentabilidad.\nFacilitador: Lic. Carlos Solera Umaña Licenciado en adm
 inistración de negocios\, técnico en seguros. Más de 30 años de experienci
 a en todos los subprocesos de Gestión de RRHH. Amplia experiencia en organ
 izaciones de manufactura\, servicios\, cooperativas y ONG’s. Actual fundad
 or y director de CEDESO.S.A.\nTodas nuestras capacitaciones pueden ser imp
 artidas en su organización\nInscripciones e Información al e-mail info@ced
 eso.co.crTel: (506) 2225-1007 / Fax: (506) 2253-2774Visite nuestra página 
 www.cedeso.co.crfacebook.com/cedesocostarica
DTSTART:20220928T143000Z
DTEND:20220930T180000Z
GEO:00;0
LOCATION:Virtual por Zoom
ORGANIZER;CN=:info@cedeso.co.cr
SEQUENCE:1
SUMMARY:Detección de Necesidades de Capacitación (DNC)
TRANSP:OPAQUE
URL:https://cedeso.co.cr/eventos-anteriores/614-detecci%C3%B3n-de-necesidad
 es-de-capacitaci%C3%B3n-dnc-2
END:VEVENT
END:VCALENDAR
