BEGIN:VCALENDAR
VERSION:2.0
PRODID:-//Cedeso//NONSGML kigkonsult.se iCalcreator 2.30.10//
CALSCALE:GREGORIAN
METHOD:PUBLISH
UID:91634bdd-477c-4654-bed4-b0bc352336a1
X-WR-CALNAME:iCagenda
X-WR-CALDESC:Event Management Extension for Joomla!
X-WR-RELCALID:3E26604A-50F4-4449-8B3E-E4F4932D05B5
X-WR-TIMEZONE:America/Costa_Rica
BEGIN:VTIMEZONE
TZID:America/Costa_Rica
BEGIN:STANDARD
TZNAME:CST
DTSTART:20201221T060000
TZOFFSETFROM:+0000
TZOFFSETTO:-0600
END:STANDARD
END:VTIMEZONE
BEGIN:VEVENT
UID:cf166097-7fa7-4715-bc50-4084fb671be8
DTSTAMP:20260419T220338Z
CATEGORIES:Mejores Prácticas Organizacionales
CLASS:PUBLIC
DESCRIPTION;ALTREP="CID:<FFFF__=0ABBE548DFE235B58f9e8a93d@coffeebean.com>":
 Taller interactivo:\nÉxito para personal administrativo\nAbordaremos los ¨
 secretos¨ de la eficiencia en el trabajo\nFecha: 22 de setiembre del 2022.
 Horario: 8:30 a.m. a 12:00 m.d.Duración: 3.5 horas.Virtual por Zoom.Invers
 ión: ¢35.000 + 2% IVA por participante. Incluye: Materiales y certificado 
 de participación en PDF.\nPúblico meta:Asistentes\, auxiliares\, oficinist
 as de todo nivel\, recepcionistas.\nContenido:1.Cómo trabajar mejor con es
 tilos directivos diferentes.2.Claves exitosas para 'producir tiempo' y cum
 plir los objetivos.3.El manejo de conflictos.4.Cómo mejorar las relaciones
  interpersonales en cualquier ambiente.5.Ejercicio: identificando mis fort
 alezas y áreas de oportunidad.\nFacilitador: Lic. Carlos Solera Umaña Lice
 nciado en administración de negocios\, técnico en seguros. Más de 30 años 
 de experiencia en todos los subprocesos de Gestión de RRHH\, como responsa
 ble de reclutamiento selecciono más de mil personas en los diferentes país
 es de Centroamérica. Amplia experiencia en organizaciones de manufactura\,
  servicios\, cooperativas y ONG’s. Actual fundador y director de CEDESO.S.
 A.\nTodas nuestras capacitaciones pueden ser impartidas en su organización
 \nInscripciones e Información al e-mail info@cedeso.co.crTel: (506) 2225-1
 007 / Fax: (506) 2253-2774 Visite nuestra página www.cedeso.co.crfacebook.
 com/cedesocostarica
DTSTART:20220922T143000Z
DTEND:20220922T180000Z
GEO:00;0
LOCATION:Virtual por Zoom
ORGANIZER;CN=:info@cedeso.co.cr
SEQUENCE:1
SUMMARY:Éxito para personal administrativo
TRANSP:OPAQUE
URL:https://cedeso.co.cr/eventos-anteriores/615-%C3%A9xito-para-personal-ad
 ministrativo-2
END:VEVENT
END:VCALENDAR
