BEGIN:VCALENDAR
VERSION:2.0
PRODID:-//Cedeso//NONSGML kigkonsult.se iCalcreator 2.30.10//
CALSCALE:GREGORIAN
METHOD:PUBLISH
UID:3fafde1c-6f8a-478b-b994-d500534b593e
X-WR-CALNAME:iCagenda
X-WR-CALDESC:Event Management Extension for Joomla!
X-WR-RELCALID:3E26604A-50F4-4449-8B3E-E4F4932D05B5
X-WR-TIMEZONE:America/Costa_Rica
BEGIN:VTIMEZONE
TZID:America/Costa_Rica
BEGIN:STANDARD
TZNAME:CST
DTSTART:20210118T060000
TZOFFSETFROM:+0000
TZOFFSETTO:-0600
END:STANDARD
END:VTIMEZONE
BEGIN:VEVENT
UID:f4247b2e-f239-4c05-9aad-53673e1d307d
DTSTAMP:20260419T190444Z
CATEGORIES:Mejores Prácticas Organizacionales
CLASS:PUBLIC
DESCRIPTION;ALTREP="CID:<FFFF__=0ABBE548DFE235B58f9e8a93d@coffeebean.com>":
 Taller:\nPresentaciones de impacto con Data Storytelling\nFecha: 20 y 27 d
 e octubre del 2022.Horario: 8:30 a.m. a 12:00 m.d.Duración: 7 horas.Plataf
 orma: Zoom.Inversión: ¢105.000 + 2% de IVA por participante.Incluye: Mater
 ial didáctico y certificado de participación en PDF.\nObjetivo orientativo
 : Explicar\, aplicar y apreciar herramientas esenciales para diseñar y ent
 regar presentaciones de liderazgo basadas en datos y narrativas (Data Stor
 ytelling).\nContenidos:• Emocionar con datos: claves para generar tracción
  al comunicar.• Nueve estrategias de influencia en presentaciones: ¿Cuáles
  son las tres más efectivas y por qué?• Elementos cruciales de mediación c
 on datos (lo visual\, la orientación y las etapas): muestre “físicamente” 
 los datos!• Reglas de mediación gráfica de datos: las tres reglas para dis
 eñar una datapresentación de impacto.• Data Storytelling: estructura maest
 ra del Storytelling con datos. Ejemplo\; comunicando el impacto de un equi
 po ágil KANBAN (un OKR y 4 KPIs en acción!)• Tema avanzado: manejo de la c
 arga cognitiva en presentaciones (modalidad\, señalización).• Cómo comunic
 ar cuando se lidera en una crisis o en tiempos de incertidumbre. La compet
 encia de impacto e influencia en el liderazgo y las presentaciones.• El ca
 mino de la heroína\, el héroe y el equipo heroico: cada participante diseñ
 a su propio Data Storytelling y lo expone mediante el modelo de microteach
 ing.\nFacilitador: Dr. Enrique Margery- Doctor en Educación y TEDx speaker
 .- Profesor de la Maestría en Psicología del Trabajo en la Universidad de 
 Costa Rica. Profesor invitado de la Universidad de Querétaro (UAQ\, México
 ) y la Universidad UAGM (Puerto Rico).- Diseña capacitación para desarroll
 o de soft skills basado en aprendizaje por la experiencia\, GBL y “reto-ap
 rendizaje”.- Coach especialista en ciencia de la colaboración y manejo de 
 top performers.- Diseña herramientas para medir el Sentido de Urgencia\, e
 l “termómetro de la colaboración” y la rentabilidad de la capacitación\, e
 ntre otros.- Autor de los libros “Complejidad y Competencias”\, “Herramien
 tas de Coaching”\, “El Viaje” (Editorial Norma\; uno de los primeros libro
 s de psicología positiva publicados) y 'Complejidad\, Transdisciplinarieda
 d y Compentencias'\nTodas nuestras capacitaciones pueden ser impartidas en
  su organización\nInscripciones e Información al e-mail info@cedeso.co.crT
 el: (506) 2225-1007 · Fax: (506) 2253-2774Visite nuestra página www.cedeso
 .co.crfacebook.com/cedesocostarica
DTSTART:20221020T143000Z
DTEND:20221027T180000Z
GEO:00;0
LOCATION:Virtual por Zoom
ORGANIZER;CN=:info@cedeso.co.cr
SEQUENCE:1
SUMMARY:Presentaciones de impacto con Data Storytelling
TRANSP:OPAQUE
URL:https://cedeso.co.cr/eventos-anteriores/616-presentaciones-de-impacto-c
 on-data-storytelling
END:VEVENT
END:VCALENDAR
