BEGIN:VCALENDAR
VERSION:2.0
PRODID:-//Cedeso//NONSGML kigkonsult.se iCalcreator 2.30.10//
CALSCALE:GREGORIAN
METHOD:PUBLISH
UID:f5f14e42-5279-46f5-8692-c47600767c20
X-WR-CALNAME:iCagenda
X-WR-CALDESC:Event Management Extension for Joomla!
X-WR-RELCALID:3E26604A-50F4-4449-8B3E-E4F4932D05B5
X-WR-TIMEZONE:America/Costa_Rica
BEGIN:VTIMEZONE
TZID:America/Costa_Rica
BEGIN:STANDARD
TZNAME:CST
DTSTART:20201215T060000
TZOFFSETFROM:+0000
TZOFFSETTO:-0600
END:STANDARD
END:VTIMEZONE
BEGIN:VEVENT
UID:9f38055c-07bd-4846-863a-1f2313f15a0b
DTSTAMP:20260419T203759Z
CATEGORIES:Mejores Prácticas Organizacionales
CLASS:PUBLIC
DESCRIPTION;ALTREP="CID:<FFFF__=0ABBE548DFE235B58f9e8a93d@coffeebean.com>":
 Taller:\nEjecución ágil (Gestión del tiempo en la nueva normalidad)\n¿Toda
 vía espera el clásico taller de 'administración del tiempo'?¡Todo cambió e
 n la nueva normalidad!\nObjetivo orientativo: las y los participantes será
 n capaces de explicar\, aplicar y apreciar herramientas esenciales de la p
 riorología (ciencia de las prioridades)\, el sentido de urgencia y el lide
 razgo para la ejecución que dominan la gestión del tiempo en la nueva norm
 alidad.\nTemario: • Workflow y el tiempo en contextos ágiles\, colaborativ
 os y BANI. • Ciencia de las prioridades y sus 10 capacidades. • Lo urgente
  y lo importante en la nueva normalidad: '1-3-9' en equipos remotos y reun
 iones ágiles. • Acción precisa y libre de errores. Las cuatro dimensiones 
 del Sentido de Urgencia (SU). • Autoevaluación del SU y comportamientos pr
 o y contra en promesas\, agilidad\, tenacidad y manejo de prioridades. • U
 rgencia e Inmunidad al Cambio: del “cambio por miedo” al “cambio apreciati
 vo”. • Conductores del tiempo en la nueva normalidad: nueve capacidades as
 ociadas con la agilidad en personas\, grupos y organizaciones. • Liderazgo
  en la ejecución: guías para la acción y comportamientos pro y contra en c
 apabilities\, sincronización y alineamiento.\nFecha: 16 y 22 de setiembre 
 del 2022.Horario: 8:30 a.m. a 11:30 a.m.Duración: 6 horas.Plataforma: Zoom
 .Inversión: ¢90.000 + 2% de IVA por participante.Incluye: Material didácti
 co y certificado de participación en PDF.\nFacilitador: Dr. Enrique Marger
 y- Doctor en Educación y TEDx speaker.- Profesor de la Maestría en Psicolo
 gía del Trabajo en la Universidad de Costa Rica. Profesor invitado de la U
 niversidad de Querétaro (UAQ\, México) y la Universidad UAGM (Puerto Rico)
 .- Diseña capacitación para desarrollo de soft skills basado en aprendizaj
 e por la experiencia\, GBL y “reto-aprendizaje”.- Coach especialista en ci
 encia de la colaboración y manejo de top performers.- Diseña herramientas 
 para medir el Sentido de Urgencia\, el “termómetro de la colaboración” y l
 a rentabilidad de la capacitación\, entre otros.- Autor de los libros “Com
 plejidad y Competencias”\, “Herramientas de Coaching”\, “El Viaje” (Editor
 ial Norma\; uno de los primeros libros de psicología positiva publicados) 
 y 'Complejidad\, Transdisciplinariedad y Compentencias'\nTodas nuestras ca
 pacitaciones pueden ser impartidas en su organización\nInscripciones e Inf
 ormación al e-mail info@cedeso.co.crTel: (506) 2225-1007 · Fax: (506) 2253
 -2774Visite nuestra página www.cedeso.co.crfacebook.com/cedesocostarica
DTSTART:20220916T143000Z
DTEND:20220922T173000Z
GEO:00;0
LOCATION:Virtual por Zoom
ORGANIZER;CN=:info@cedeso.co.cr
SEQUENCE:1
SUMMARY:Ejecución ágil (Gestión del tiempo en la nueva normalidad)
TRANSP:OPAQUE
URL:https://cedeso.co.cr/eventos-anteriores/617-ejecuci%C3%B3n-%C3%A1gil-ge
 sti%C3%B3n-del-tiempo-en-la-nueva-normalidad
END:VEVENT
END:VCALENDAR
