BEGIN:VCALENDAR
VERSION:2.0
PRODID:-//Cedeso//NONSGML kigkonsult.se iCalcreator 2.30.10//
CALSCALE:GREGORIAN
METHOD:PUBLISH
UID:6888f982-fe45-45a2-aa48-5c666784166e
X-WR-CALNAME:iCagenda
X-WR-CALDESC:Event Management Extension for Joomla!
X-WR-RELCALID:3E26604A-50F4-4449-8B3E-E4F4932D05B5
X-WR-TIMEZONE:America/Costa_Rica
BEGIN:VTIMEZONE
TZID:America/Costa_Rica
BEGIN:STANDARD
TZNAME:CST
DTSTART:20210208T060000
TZOFFSETFROM:+0000
TZOFFSETTO:-0600
END:STANDARD
END:VTIMEZONE
BEGIN:VEVENT
UID:993d5d16-8825-4f78-9a95-9c24579fb2da
DTSTAMP:20260419T204721Z
CATEGORIES:Mejores Prácticas Organizacionales
CLASS:PUBLIC
DESCRIPTION;ALTREP="CID:<FFFF__=0ABBE548DFE235B58f9e8a93d@coffeebean.com>":
 Seminario:\nNegociación con deudores difíciles\nDirigido a: Jefes departam
 ento de Crédito y Cobro\, Jefes de Ventas\, agentes de ventas\, gestores d
 e cobro\, empresarios.\nObjetivo general: Fortalecer la capacidad de negoc
 iación del acreedor y apoyar la recuperación efectiva.\nContenidos:• El es
 tado de cuenta actualizado.• El estado de cuenta histórico.• El análisis d
 el grado de dificultad.• Preparando la negociación.• Estrategias de negoci
 ación vs objeciones del deudor.• Cómo expresarse en reuniones conflictivas
 .• Tomando la dirección de la negociación.• Acciones cuando el deudor es i
 rrespetuoso.• Amenazar o buscar resultados.• El nivel de estrés del deudor
 .• Establecer prioridades con el deudor.• Las personalidades del acreedor 
 vs el deudor.• Buscando el objetivo de crédito y cobro.• El ceder en la ne
 gociación por parte del acreedor.• Lograr acuerdos.• Formalizar la negocia
 ción.\nFecha: 10 y 11 de noviembre del 2022.Horario: 8:00 a.m. a 12:00 m.d
 .Duración: 8 horas.Plataforma: Zoom.Inversión: ¢80.000 + 2% de IVA por par
 ticipante.Incluye: Material y certificado de participación en PDF.\nFacili
 tador: CPI Marco A. Zapata Castro\, Presidente de Asesorías en Crédito y C
 obro S. A.\, Contador Privado\, Asesor Nacional e Internacional en el área
  contable financiero\, Profesor en la Universidad Católica y Universidad H
 ispanoamericana\, Fiscal de la Cámara de Importadores CRECEX y facilitador
  en entidades como Colegio de Contadores\, Fundación Solpromesa\, Crecex y
  en empresas nacionales e internacionales.\nTodas nuestras capacitaciones 
 pueden ser impartidas en su organización\nInscripciones e información al e
 -mail info@cedeso.co.crTel: (506) 2225-1007 / Fax: (506) 2253-2774 Visite 
 nuestra página www.cedeso.co.crfacebook.com/cedesocostarica
DTSTART:20221110T140000Z
DTEND:20221111T180000Z
GEO:00;0
LOCATION:Virtual por Zoom
ORGANIZER;CN=:info@cedeso.co.cr
SEQUENCE:1
SUMMARY:Negociación con deudores difíciles
TRANSP:OPAQUE
URL:https://cedeso.co.cr/eventos-anteriores/623-negociaci%C3%B3n-con-deudor
 es-dif%C3%ADciles-4
END:VEVENT
END:VCALENDAR
