BEGIN:VCALENDAR
VERSION:2.0
PRODID:-//Cedeso//NONSGML kigkonsult.se iCalcreator 2.30.10//
CALSCALE:GREGORIAN
METHOD:PUBLISH
UID:cacf439c-336a-4278-af48-c59dab008e8f
X-WR-CALNAME:iCagenda
X-WR-CALDESC:Event Management Extension for Joomla!
X-WR-RELCALID:3E26604A-50F4-4449-8B3E-E4F4932D05B5
X-WR-TIMEZONE:America/Costa_Rica
BEGIN:VTIMEZONE
TZID:America/Costa_Rica
BEGIN:STANDARD
TZNAME:CST
DTSTART:20210206T060000
TZOFFSETFROM:+0000
TZOFFSETTO:-0600
END:STANDARD
END:VTIMEZONE
BEGIN:VEVENT
UID:68787668-80a1-4bf9-9a83-4010975907f0
DTSTAMP:20260419T192413Z
CATEGORIES:Operaciones
CLASS:PUBLIC
DESCRIPTION;ALTREP="CID:<FFFF__=0ABBE548DFE235B58f9e8a93d@coffeebean.com>":
 Taller:\nConozca los regímenes aduaneros y mejore su competitividad\nObjet
 ivo:Conocer las diferentes destinaciones a que pueden quedar sujetas las m
 ercancías que se encuentran bajo control aduanero\, con el fin de obtener 
 la mejor alternativa que le permita lograr beneficios arancelarios y mejor
 ar su competitividad.\nContenido temático:• Regímenes definitivos de expor
 tación e importación y sus modalidades.• Regímenes temporales: Tránsito ad
 uanero nacional e internacional\, transbordo\, tránsito por vía marítima o
  aérea\, depósito fiscal\, importación y exportación temporal y provisione
 s a bordo.• Liberatorios de pago de tributos aduaneros: Zona Franca\, reim
 portación en el mismo estado y reexportación.• De perfeccionamiento: Perfe
 ccionamiento activo y exportación temporal para el perfeccionamiento pasiv
 o.• Devolutivo de derechos.\nFecha: 8 y 10 de noviembre del 2021.Horario: 
 8:30 a.m. a 11:30 a.m.Duración: 6 horas.Plataforma: Zoom.Inversión: ¢60.00
 0 + 2% de IVA por participante.Incluye: Material didáctico y certificado d
 e participación en PDF.\nFacilitadora: Licda. Yorleny Jiménez RojasGraduad
 a con honores de la Universidad de Costa Rica en la carrera de Administrac
 ión Aduanera y Comercio Exterior. Certificada como especialista en Supply 
 Chain de la Universidad de Nebrija en España.Actualmente consultora indepe
 ndiente con 20 años de experiencia en manejo y desarrollo de procesos de i
 nternacionalización y logística especialmente para el sector agrícola.Espe
 cialista en desarrollo de acompañamientos empresariales en temas de import
 ación\, exportación\, logística internacional\, entre otros.Profesora de l
 a Universidad de Costa Rica\, Universidad FUNDEPOS y capacitadora activa e
 n diferentes Cámaras que agremia exportadores\, importadores\, empresas PY
 MES\, entidades estatales\, colegios profesionales\, entre otros.\nTodas n
 uestras capacitaciones pueden ser impartidas en su organización\nInscripci
 ones e información al e-mail info@cedeso.co.crTel: (506) 2225-1007 · Tel/F
 ax: (506) 2253-2774Visite nuestra página www.cedeso.co.crfacebook.com/cede
 socostarica
DTSTART:20221108T143000Z
DTEND:20221110T173000Z
GEO:00;0
LOCATION:Virtual por Zoom
ORGANIZER;CN=:info@cedeso.co.cr
SEQUENCE:1
SUMMARY:Conozca los regímenes aduaneros y mejore su competitividad
TRANSP:OPAQUE
URL:https://cedeso.co.cr/eventos-anteriores/625-conozca-los-reg%C3%ADmenes-
 aduaneros-y-mejore-su-competitividad
END:VEVENT
END:VCALENDAR
