BEGIN:VCALENDAR
VERSION:2.0
PRODID:-//Cedeso//NONSGML kigkonsult.se iCalcreator 2.30.10//
CALSCALE:GREGORIAN
METHOD:PUBLISH
UID:df4e3a4e-0a15-4c1b-b3b8-f34eb235282e
X-WR-CALNAME:iCagenda
X-WR-CALDESC:Event Management Extension for Joomla!
X-WR-RELCALID:3E26604A-50F4-4449-8B3E-E4F4932D05B5
X-WR-TIMEZONE:America/Costa_Rica
BEGIN:VTIMEZONE
TZID:America/Costa_Rica
BEGIN:STANDARD
TZNAME:CST
DTSTART:20210126T060000
TZOFFSETFROM:+0000
TZOFFSETTO:-0600
END:STANDARD
END:VTIMEZONE
BEGIN:VEVENT
UID:946c734e-ad46-40e8-9c31-58adf07b4ffa
DTSTAMP:20260419T185312Z
CATEGORIES:Mejores Prácticas Organizacionales
CLASS:PUBLIC
DESCRIPTION;ALTREP="CID:<FFFF__=0ABBE548DFE235B58f9e8a93d@coffeebean.com>":
 MasterClass gratuita\n¡Cierre de brechas!\nTemas:¿Cómo se cierran las brec
 has?• Modelo 10.20.70• Cambio Autodirigido• Tabla3 (EXP + Autocoaching + G
 A)Aprendizaje intencionado 3x3x3\n¿Cuándo? jueves 27 de octubre 7 a 8 p.m.
 Modalidad: Zoom.\nFacilitador: Dr. Enrique Margery- Doctor en Educación y 
 TEDx speaker.- Profesor de la Maestría en Psicología del Trabajo en la Uni
 versidad de Costa Rica. Profesor invitado de la Universidad de Querétaro (
 UAQ\, México) y la Universidad UAGM (Puerto Rico).- Diseña capacitación pa
 ra desarrollo de soft skills basado en aprendizaje por la experiencia\, GB
 L y “reto-aprendizaje”.- Coach especialista en ciencia de la colaboración 
 y manejo de top performers.- Diseña herramientas para medir el Sentido de 
 Urgencia\, el “termómetro de la colaboración” y la rentabilidad de la capa
 citación\, entre otros.- Autor de los libros “Complejidad y Competencias”\
 , “Herramientas de Coaching”\, “El Viaje” (Editorial Norma\; uno de los pr
 imeros libros de psicología positiva publicados) y 'Complejidad\, Transdis
 ciplinariedad y Compentencias'\n \nInscripciones e Información al e-mail i
 nfo@cedeso.co.crTel: (506) 2225-1007 · Fax: (506) 2253-2774Visite nuestra 
 página www.cedeso.co.crfacebook.com/cedesocostarica
DTSTART:20221028T010000Z
DTEND:20221028T020000Z
GEO:00;0
LOCATION:Virtual por Zoom
ORGANIZER;CN=:info@cedeso.co.cr
SEQUENCE:1
SUMMARY:Cierre de brecha
TRANSP:OPAQUE
URL:https://cedeso.co.cr/eventos-anteriores/626-cierre-de-brecha
END:VEVENT
END:VCALENDAR
