BEGIN:VCALENDAR
VERSION:2.0
PRODID:-//Cedeso//NONSGML kigkonsult.se iCalcreator 2.30.10//
CALSCALE:GREGORIAN
METHOD:PUBLISH
UID:9371af19-a0e6-4326-b279-9f5cbea50ca1
X-WR-CALNAME:iCagenda
X-WR-CALDESC:Event Management Extension for Joomla!
X-WR-RELCALID:3E26604A-50F4-4449-8B3E-E4F4932D05B5
X-WR-TIMEZONE:America/Costa_Rica
BEGIN:VTIMEZONE
TZID:America/Costa_Rica
BEGIN:STANDARD
TZNAME:CST
DTSTART:20210117T060000
TZOFFSETFROM:+0000
TZOFFSETTO:-0600
END:STANDARD
END:VTIMEZONE
BEGIN:VEVENT
UID:00c21ff3-32a3-44b9-acd1-17950ccc9f9f
DTSTAMP:20260419T192413Z
CATEGORIES:Mejores Prácticas Organizacionales
CLASS:PUBLIC
DESCRIPTION;ALTREP="CID:<FFFF__=0ABBE548DFE235B58f9e8a93d@coffeebean.com>":
 Cumbre Internacional de Reclutamiento y Selección\nFecha: 19 y 20 de octub
 re 2022Horario: 8:30 a.m. a 12:30 m.d.Duración: 8 horasPlataforma: ZoomInv
 ersión: ¢75.000+ 2% de IVA por participanteInscripciones a: info@cedeso.co
 .crTel: +506 2225-1007WhatsApp: +506 6063-9111\nDÍA # 1: miércoles 19 de o
 ctubre del 2022\nPwCTema: “Atracción Resiliente: estrategias y tendencias 
 ante las nuevas demandas de talento del mercado”Conferencistas: Patricia M
 artínez y Tatiana Fernández\nBDS AsesoresTema: “Errores capitales en los p
 rocesos de reclutamiento y selección”Conferencista: Joaquín Acuña Solís\nE
 YTema: “Digitalización e implementación de nuevas tecnologías en la atracc
 ión del talento”Conferencistas: Gabriela Cabrera y Alejandro Morales\nCons
 ultora en Talento OrigamiTema: “Potenciando la atracción por medio de la c
 uriosidad”Conferencista: Cristina Cubero\nDía # 2: jueves 20 de octubre de
 l 2022\nAonTema: 'Retos de esquemas de trabajo”Conferencista: Martha Herná
 ndez\nTotal RewardsTema: “Técnicas de Evaluación de Potencial\, Perfiles y
  Competencias”Conferencista: Juan José Fulgi\nSkills LabTema: “Hackeando l
 o tradicional: Técnicas de Gamificación aplicadas al Reclutamiento y Selec
 ción de personal”Conferencista: Gina Sequeira\nNew BeginningTema: “De recl
 utador a líder extraordinario de reclutamiento\, una mirada que desafía nu
 estro status quo”Conferencista: Hernán J. Shinji\n \nInscripciones e Infor
 mación al e-mail info@cedeso.co.crTel: (506) 2225-1007 · Fax: (506) 2253-2
 774Visite nuestra página www.cedeso.co.crfacebook.com/cedesocostarica
DTSTART:20221019T143000Z
DTEND:20221020T183000Z
GEO:00;0
LOCATION:Virtual por Zoom
ORGANIZER;CN=:info@cedeso.co.cr
SEQUENCE:1
SUMMARY:Cumbre Internacional de Reclutamiento y Selección
TRANSP:OPAQUE
URL:https://cedeso.co.cr/eventos-anteriores/627-cumbre-internacional-de-rec
 lutamiento-y-selecci%C3%B3n
END:VEVENT
END:VCALENDAR
