BEGIN:VCALENDAR
VERSION:2.0
PRODID:-//Cedeso//NONSGML kigkonsult.se iCalcreator 2.30.10//
CALSCALE:GREGORIAN
METHOD:PUBLISH
UID:b644df76-c068-4af9-ac22-503219f4d083
X-WR-CALNAME:iCagenda
X-WR-CALDESC:Event Management Extension for Joomla!
X-WR-RELCALID:3E26604A-50F4-4449-8B3E-E4F4932D05B5
X-WR-TIMEZONE:America/Costa_Rica
BEGIN:VTIMEZONE
TZID:America/Costa_Rica
BEGIN:STANDARD
TZNAME:CST
DTSTART:20210130T060000
TZOFFSETFROM:+0000
TZOFFSETTO:-0600
END:STANDARD
END:VTIMEZONE
BEGIN:VEVENT
UID:f067edf7-ece4-4ed7-9ef6-2f1ce8375301
DTSTAMP:20260419T190326Z
CATEGORIES:Mejores Prácticas Organizacionales
CLASS:PUBLIC
DESCRIPTION;ALTREP="CID:<FFFF__=0ABBE548DFE235B58f9e8a93d@coffeebean.com>":
 Taller:\n¿Cómo identificar el potencial?\nFecha: 1 y 8 de noviembre del 20
 22.Horario: 8:30 a.m. a 12:00 m.d.Duración: 7 horas.Plataforma: Zoom.Inver
 sión: ¢95.000 + 2% de IVA por participante.Incluye: Material didáctico y c
 ertificado de participación en PDF.\nObjetivo orientativo: las y los parti
 cipantes podrán explicar\, aplicar y apreciar las herramientas para evalua
 r el potencial de sus colaboradores.\nTemario y actividades:• Los tres eje
 s del talento y la gerencia del desempeño.• Obstáculos culturales al desem
 peño y al desarrollo del potencial.• Mapeo de experticia y de competencias
  en puestos destino. • Escalas para valoración del desempeño y para valora
 ción del potencial: similitudes y diferencias.• Tres estrategias para esta
 blecer el potencial de los colaboradores clave y cuándo emplear cada una.•
  Las tres dimensiones para aproximar el potencial. Trabajo aplicado con lo
 s participantes a un caso de su propia organización.• Mapas del Talento: u
 bicando a las personas en una matriz de desempeño versus potencial.\nFacil
 itador: Dr. Enrique Margery- Doctor en Educación y TEDx speaker.- Profesor
  de la Maestría en Psicología del Trabajo en la Universidad de Costa Rica.
  Profesor invitado de la Universidad de Querétaro (UAQ\, México) y la Univ
 ersidad UAGM (Puerto Rico).- Diseña capacitación para desarrollo de soft s
 kills basado en aprendizaje por la experiencia\, GBL y “reto-aprendizaje”.
 - Coach especialista en ciencia de la colaboración y manejo de top perform
 ers.- Diseña herramientas para medir el Sentido de Urgencia\, el “termómet
 ro de la colaboración” y la rentabilidad de la capacitación\, entre otros.
 - Autor de los libros “Complejidad y Competencias”\, “Herramientas de Coac
 hing”\, “El Viaje” (Editorial Norma\; uno de los primeros libros de psicol
 ogía positiva publicados) y 'Complejidad\, Transdisciplinariedad y Compent
 encias'\nTodas nuestras capacitaciones pueden ser impartidas en su organiz
 ación\nInscripciones e Información al e-mail info@cedeso.co.crTel: (506) 2
 225-1007 · Fax: (506) 2253-2774Visite nuestra página www.cedeso.co.crfaceb
 ook.com/cedesocostarica
DTSTART:20221101T143000Z
DTEND:20221108T180000Z
GEO:00;0
LOCATION:Virtual por Zoom
ORGANIZER;CN=:info@cedeso.co.cr
SEQUENCE:1
SUMMARY:¿Cómo identificar el potencial?
TRANSP:OPAQUE
URL:https://cedeso.co.cr/eventos-anteriores/628-%C2%BFc%C3%B3mo-identificar
 -el-potencial
END:VEVENT
END:VCALENDAR
