BEGIN:VCALENDAR
VERSION:2.0
PRODID:-//Cedeso//NONSGML kigkonsult.se iCalcreator 2.30.10//
CALSCALE:GREGORIAN
METHOD:PUBLISH
UID:c23c5694-798a-4796-93fa-ce639720f992
X-WR-CALNAME:iCagenda
X-WR-CALDESC:Event Management Extension for Joomla!
X-WR-RELCALID:3E26604A-50F4-4449-8B3E-E4F4932D05B5
X-WR-TIMEZONE:America/Costa_Rica
BEGIN:VTIMEZONE
TZID:America/Costa_Rica
BEGIN:STANDARD
TZNAME:CST
DTSTART:20210306T060000
TZOFFSETFROM:+0000
TZOFFSETTO:-0600
END:STANDARD
END:VTIMEZONE
BEGIN:VEVENT
UID:cf4c5802-e2d2-4cf2-b1f8-78a7e7222708
DTSTAMP:20260419T192204Z
CATEGORIES:Operaciones
CLASS:PUBLIC
DESCRIPTION;ALTREP="CID:<FFFF__=0ABBE548DFE235B58f9e8a93d@coffeebean.com>":
 Taller:\n¿Cómo desarrollar un proceso logístico para exportación de produc
 tos perecederos?\nFecha: 6 y 8 de diciembre del 2022Horario: 8:30 a.m. a 1
 1:30 a.m.Duración: 6 horas.Plataforma: Zoom.Inversión: ¢60.000 + 2% de IVA
  por participante.Incluye: Material didáctico y certificado de participaci
 ón en PDF.\nObjetivo:Conocer el proceso logístico que debe desarrollar una
  empresa que exporta productos perecederos a fin de minimizar sobrecostos 
 y riesgos.\nContenido temático:• ¿Qué debo negociar con un comprador inter
 nacional?• ¿Cómo calcular mis costos logísticos y de exportación?• ¿Qué es
  un proceso logístico?• ¿Cuál es la importancia del proceso logístico?• ¿C
 ómo puede impactar mi proceso logístico en función de los costos operativo
 s?• ¿Qué es un cut off?• Recomendaciones sobre el manejo de los cut off• ¿
 Qué es un booking?• ¿Qué información necesito para realizar un booking?• ¿
 Qué es una instrucción de embarque?• ¿Qué información necesito para hacer 
 una instrucción de embarque?• ¿Cómo se debe confeccionar una instrucción d
 e embarque?• ¿Qué es un DUA?• ¿Qué documentos requiero para confeccionar u
 n DUA?• ¿Qué es un fitosanitario de exportación? ¿Cómo obtengo el certific
 ado fitosanitario?• ¿Cómo se tramita un certificado de origen?• ¿Dónde se 
 tramita el certificado de origen?• ¿Qué documentos requiero para exportar?
 • ¿Qué es un ISF?• ¿Cómo puedo evitar los sobrecostos 'fantasma'?• Aspecto
 s importantes sobre la logística internacional y el proceso de exportación
 .• Importancia de la trazabilidad en los procesos logísticos.• Importancia
  de las certificaciones voluntarias para los mercados internacionales.• Re
 comendaciones sobre el manejo operativo de los procesos logísticos a fin d
 e minimizar costos y riesgos.\nFacilitadora: Licda. Yorleny Jiménez RojasG
 raduada con honores de la Universidad de Costa Rica en la carrera de Admin
 istración Aduanera y Comercio Exterior. Certificada como especialista en S
 upply Chain de la Universidad de Nebrija en España.Actualmente consultora 
 independiente con 20 años de experiencia en manejo y desarrollo de proceso
 s de internacionalización y logística especialmente para el sector agrícol
 a.Especialista en desarrollo de acompañamientos empresariales en temas de 
 importación\, exportación\, logística internacional\, entre otros.Profesor
 a de la Universidad de Costa Rica\, Universidad FUNDEPOS y capacitadora ac
 tiva en diferentes Cámaras que agremia exportadores\, importadores\, empre
 sas PYMES\, entidades estatales\, colegios profesionales\, entre otros.\nT
 odas nuestras capacitaciones pueden ser impartidas en su organización\nIns
 cripciones e información al e-mail info@cedeso.co.crTel: (506) 2225-1007 ·
  Tel/Fax: (506) 2253-2774Visite nuestra página www.cedeso.co.crfacebook.co
 m/cedesocostarica
DTSTART:20221206T143000Z
DTEND:20221208T173000Z
GEO:00;0
LOCATION:Virtual por Zoom
ORGANIZER;CN=:info@cedeso.co.cr
SEQUENCE:1
SUMMARY:¿Cómo desarrollar un proceso logístico para exportación de producto
 s perecederos?
TRANSP:OPAQUE
URL:https://cedeso.co.cr/eventos-anteriores/630-%C2%BFc%C3%B3mo-desarrollar
 -un-proceso-log%C3%ADstico-para-exportaci%C3%B3n-de-productos-perecederos
END:VEVENT
END:VCALENDAR
