BEGIN:VCALENDAR
VERSION:2.0
PRODID:-//Cedeso//NONSGML kigkonsult.se iCalcreator 2.30.10//
CALSCALE:GREGORIAN
METHOD:PUBLISH
UID:92b13a44-fbce-4add-959f-cc83450fad09
X-WR-CALNAME:iCagenda
X-WR-CALDESC:Event Management Extension for Joomla!
X-WR-RELCALID:3E26604A-50F4-4449-8B3E-E4F4932D05B5
X-WR-TIMEZONE:America/Costa_Rica
BEGIN:VTIMEZONE
TZID:America/Costa_Rica
BEGIN:STANDARD
TZNAME:CST
DTSTART:20210605T060000
TZOFFSETFROM:+0000
TZOFFSETTO:-0600
END:STANDARD
END:VTIMEZONE
BEGIN:VEVENT
UID:3590b2e1-aa0a-4def-832f-6a48197e3305
DTSTAMP:20260419T173851Z
CATEGORIES:Operaciones
CLASS:PUBLIC
DESCRIPTION;ALTREP="CID:<FFFF__=0ABBE548DFE235B58f9e8a93d@coffeebean.com>":
 Taller:\nAplicación de las 9s en el manejo óptimo de bodegas\nObjetivo:Cap
 acitar a los participantes en técnicas avanzadas para la mejora en la gest
 ión de bodegas.\nDirigido a:A personal supervisorio u operativo de bodegas
 \, personal responsable de operaciones logísticas.\nQue obtendrá al final 
 del seminario1. Entenderá la esencia y objetivos del manejo de bodegas.2. 
 Identificara cuales áreas debe gestionar en una bodega con alta efectivida
 d.3. Aprenderá técnicas para operar o supervisar a quienes operen en una b
 odega.4. Cambiará la posición actitudinal hacia la operación.\nContenidos:
 \nTema 1Conceptos en almacenajeObjetivos\, estrategias y tácticas en almac
 enaje\nTema 2\nRelación con las cosasSeiri - clasificaciónSeiton - Organiz
 aciónSeiso - Limpieza\nRelación con usted mismoSeiketzu - Bienestar person
 alShitzuke - DisciplinaShikari - ConstanciaShitsokoku - Compromiso\nRelaci
 ón con la organizaciónSeishoo - CoordinaciónSeido - Estandarización\nMetod
 ología:Tomando en cuenta que se trata de un conjunto de competencias espec
 íficas el seminario será dictado utilizando técnicas de comprensión de con
 ocimientos\, auto revelación de actitudes de los participantes\, ejemplos 
 genéricos y aplicación en casos relativos a bodegas.\nEntregable:Listas de
  chequeo para la aplicación práctica de las técnicas en el trabajo cotidia
 no.\nFecha: 7 y 9 de marzo del 2023.Horario: 8:30 a.m. a 12:30 m.d.Duració
 n: 8 horas.Plataforma: Zoom.Inversión: ¢75.000 + 2% de IVA por participant
 e.Incluye: Material y certificado de participación en PDF.\nFacilitador: I
 ng. Víctor León\, Mg.- Ingeniero Industrial con estudios de Postgrado en I
 ngeniería Industrial\, Gerencia de RRHH y Dinámica de Grupos.- Experiencia
  en las áreas de Distribución\, Atención al Cliente y Planificación de la 
 Producción\, Manejo de Inventarios\, Almacenes\, Costos y Elaboración de P
 royectos de Inversión.- Capacitador en áreas gerenciales y técnicas\, con 
 20 años de experiencia.\nTodas nuestras capacitaciones pueden ser impartid
 as en su organización\nInscripciones e Información al e-mail info@cedeso.c
 o.crTel: (506) 2225-1007 Fax: (506) 2253-2774Visite nuestra página www.ced
 eso.co.crfacebook.com/cedesocostarica
DTSTART:20230307T143000Z
DTEND:20230309T183000Z
GEO:00;0
LOCATION:Virtual por Zoom
ORGANIZER;CN=:info@cedeso.co.cr
SEQUENCE:1
SUMMARY:Aplicación de las 9s en el manejo óptimo de bodegas
TRANSP:OPAQUE
URL:https://cedeso.co.cr/eventos-anteriores/636-aplicaci%C3%B3n-de-las-9s-e
 n-el-manejo-%C3%B3ptimo-de-bodegas-2
END:VEVENT
END:VCALENDAR
