BEGIN:VCALENDAR
VERSION:2.0
PRODID:-//Cedeso//NONSGML kigkonsult.se iCalcreator 2.30.10//
CALSCALE:GREGORIAN
METHOD:PUBLISH
UID:46a580e8-20db-4f1a-94f6-bcc6a5746089
X-WR-CALNAME:iCagenda
X-WR-CALDESC:Event Management Extension for Joomla!
X-WR-RELCALID:3E26604A-50F4-4449-8B3E-E4F4932D05B5
X-WR-TIMEZONE:America/Costa_Rica
BEGIN:VTIMEZONE
TZID:America/Costa_Rica
BEGIN:STANDARD
TZNAME:CST
DTSTART:20210307T060000
TZOFFSETFROM:+0000
TZOFFSETTO:-0600
END:STANDARD
END:VTIMEZONE
BEGIN:VEVENT
UID:ce5510f3-5332-4126-99fe-a1cbddb4c05f
DTSTAMP:20260419T192558Z
CATEGORIES:Mejores Prácticas Organizacionales
CLASS:PUBLIC
DESCRIPTION;ALTREP="CID:<FFFF__=0ABBE548DFE235B58f9e8a93d@coffeebean.com>":
 Taller interactivo:\n¿Cómo realizar estudios de aprovechamiento de la jorn
 ada laboral y balances de carga y capacidad de trabajo?\nObjetivo:Explicar
  a los participantes la metodología a utilizar para realizar estudios de a
 provechamiento de la jornada laboral y el procedimiento para realizar los 
 balances de carga y capacidad de trabajo.\nTemario: • Conceptualización so
 bre estudios de aprovechamiento de la jornada laboral y balances de carga 
 y capacidad de trabajo.  • Estructura y composición de los tiempos de una 
 jornada laboral.  • Presentación de la Plantilla a utilizar para realizar 
 los estudios de aprovechamiento.  • Método para calcular el índice de apro
 vechamiento de la jornada laboral.  • Proceder para determinar la cantidad
  de trabajadores que se requieren para desarrollar los procesos productivo
 s y de administración.  • Representación gráfica del flujo operacional de 
 un puesto de trabajo. Diagrama OTIDA.  • Método para calcular la carga de 
 trabajo que tiene cada puesto o proceso.  • Método para calcular la capaci
 dad de trabajo.  • Parámetros para balancear la carga y la capacidad de tr
 abajo en un puesto o proceso.  • Ejemplo práctico.\nBeneficios que recibir
 án los participantes:Se les entregará a los participantes: • Diapositivas 
 utilizadas por los profesores.  • Plantilla para estudio de aprovechamient
 o de la jornada laboral.  • Fórmulas para calcular la carga y capacidad de
  trabajo.  • Formato para representar el diagrama de flujo operacional de 
 un puesto de trabajo.  • Acceso a espacio de preguntas y respuestas en viv
 o con los profesores.  • Interactuar con otros participantes que le permit
 irá potenciar sus redes de contacto.\nFecha: 7 y 8 de diciembre del 2022.H
 orario: 2:00 p.m. a 4:00 p.m.Duración: 4 horas.Plataforma: Zoom.Inversión:
  ¢60.000 + 2% de IVA por participante.Incluye: Material y certificado de p
 articipación en PDF.\nFacilitadores: Yoany Rodríguez Cruz. Aspirante a Doc
 tor en Ciencias Pedagógicas\, Máster en Administración de Empresas\, Licen
 ciado en Educación\, Diplomado en Gestión Empresarial y Administración Púb
 lica. Posee más de 15 años de experiencia como directivo y consultor en ge
 stión empresarial\, especializado en temas gerenciales y estudios organiza
 cionales como son: Planificación Estratégica\, Cuadro de Mando Integral\, 
 Gestión del Talento\, Responsabilidad Social Empresarial\, Sistemas Integr
 ados de Gestión\, Coaching en procesos de cambio y mejora\, entre otros te
 mas\, Conferencista en Congresos Internacionales de Gestión Empresarial y 
 autor de varias publicaciones relacionadas con la Gestión del Talento. Cre
 ador del Modelo GESTAL. Profesor adjunto de la Universidad. Tutor de Tesis
  de Licenciatura y Maestría. Socio Fundador de C.C.Consultores.\nMagalys H
 ernández González: Máster en Administración de Empresas\, Licenciada en Ed
 ucación\, Diplomado en Dirección y Gestión Empresarial y Administración Pú
 blica. Posee 25 años de experiencia en la actividad docente como profesora
  universitaria y 10 años como consultora\, especializada en temas de gesti
 ón del talento\, competencias laborales\, clima laboral\, evaluación del d
 esempeño y equidad de género. Conferencista en Congresos y eventos interna
 cionales y autora de varias publicaciones relacionadas con Planificación E
 stratégica\, Cuadro de Mando Integral\, Gestión del Talento\, Responsabili
 dad Social Empresarial\, Sistemas Integrados de Gestión\, entre otros tema
 s. Tutora de Tesis de Maestría y Fundadora de C.C.Consultores.\nTodas nues
 tras capacitaciones pueden ser impartidas en su organización\nInscripcione
 s e Información al e-mail info@cedeso.co.crTel: (506) 2225-1007 · Fax: (50
 6) 2253-2774Visite nuestra página www.cedeso.co.crfacebook.com/cedesocosta
 rica
DTSTART:20221207T200000Z
DTEND:20221208T180000Z
GEO:00;0
LOCATION:Virtual por Zoom.
ORGANIZER;CN=:info@cedeso.co.cr
SEQUENCE:1
SUMMARY:¿Cómo realizar estudios de aprovechamiento de la jornada laboral y 
 balances de carga y capacidad de trabajo?
TRANSP:OPAQUE
URL:https://cedeso.co.cr/eventos-anteriores/638-%C2%BFc%C3%B3mo-realizar-es
 tudios-de-aprovechamiento-de-la-jornada-laboral-y-balances-de-carga-y-capa
 cidad-de-trabajo-3
END:VEVENT
END:VCALENDAR
