BEGIN:VCALENDAR
VERSION:2.0
PRODID:-//Cedeso//NONSGML kigkonsult.se iCalcreator 2.30.10//
CALSCALE:GREGORIAN
METHOD:PUBLISH
UID:2cc161ed-b49c-4f4b-875a-fbf33e0ff0b0
X-WR-CALNAME:iCagenda
X-WR-CALDESC:Event Management Extension for Joomla!
X-WR-RELCALID:3E26604A-50F4-4449-8B3E-E4F4932D05B5
X-WR-TIMEZONE:America/Costa_Rica
BEGIN:VTIMEZONE
TZID:America/Costa_Rica
BEGIN:STANDARD
TZNAME:CST
DTSTART:20210315T060000
TZOFFSETFROM:+0000
TZOFFSETTO:-0600
END:STANDARD
END:VTIMEZONE
BEGIN:VEVENT
UID:4686bb6e-f55b-43cf-a06a-2fd670d4ed4d
DTSTAMP:20260419T191904Z
CATEGORIES:Ventas
CLASS:PUBLIC
DESCRIPTION;ALTREP="CID:<FFFF__=0ABBE548DFE235B58f9e8a93d@coffeebean.com>":
 Taller:\nTécnicas efectivas para vender o vender\n¿Sabía que el 92% de los
  clientes compran después de la quinta objeción?Sin embargo\, el 86% de lo
 s vendedores se rinden en la segunda objeción.\nFechas: 15 y 16 de diciemb
 re del 2022.Horario: 8:30 a.m. a 11:30 a.m.Duración: 6 horas.Plataforma: Z
 oom.Inversión: ¢75.000 + 2% de IVA por participante.Incluye: Material y ce
 rtificado de participación en PDF.\nObjetivo:Aumentar sus ventas por medio
  de técnicas novedosas y de rápida aplicación en temas de: tácticas de pro
 spección\, entrevista vendedora y estrategias de cierre.\nTemario:El vende
 dor profesional• Cómo superar falsos paradigmas que limitan a un vendedor.
 • Responsabilidad Causativa en las ventas.• Atribuciones del vendedor expe
 rto.\nProspección• Tácticas para generar prospectos calificados.• Política
 s del Cordón Rojo para nuevos prospectos.• Cómo crear interés por el produ
 cto o servicio.\nPresentación del producto o servicio• Cómo ejecutar una e
 ntrevista de ventas impecable• Técnicas para hacer presentaciones vendedor
 as• Leyes para argumentar los benéficos\nObjeciones y cierre• Cómo manejar
  cualquier tipo de objeciones.• Pasos para persistir en el cierre sin crea
 r molestia en el cliente.• Tipos de cierre según el momento y la circunsta
 ncia.\nFacilitador: Joel Maldonado RodríguezEgresado de la Universidad Car
 abobo Venezuela: conferencista experimentado y facilitador de cursos Direc
 ción de Personal y Liderazgo\, Ventas\, Servicio al Cliente y Desarrollo O
 rganizacional. Ha diseñado programas de capacitación para empresas\, basad
 o en técnicas funcionales y de aplicación inmediata. Personalmente ha entr
 enado a más de 15.000 personas en México\, Venezuela\, Colombia\, Costa Ri
 ca\, Panamá\, República Dominicana\, Salvador y Nicaragua con resultados c
 omprobados. Creador del Modelo para un Entorno Laboral Feliz y Productivo.
 \nTodas nuestras capacitaciones pueden ser impartidas en su organización\n
 Inscripciones e información al e-mail info@cedeso.co.crTel: (506) 2225-100
 7 / Fax: (506) 2253-2774 Visite nuestra página www.cedeso.co.crfacebook.co
 m/cedesocostarica
DTSTART:20221215T143000Z
DTEND:20221216T173000Z
GEO:00;0
LOCATION:Virtual por Zoom
ORGANIZER;CN=:info@cedeso.co.cr
SEQUENCE:1
SUMMARY:Técnicas efectivas para vender o vender
TRANSP:OPAQUE
URL:https://cedeso.co.cr/eventos-anteriores/640-t%C3%A9cnicas-efectivas-par
 a-vender-o-vender-3
END:VEVENT
END:VCALENDAR
