BEGIN:VCALENDAR
VERSION:2.0
PRODID:-//Cedeso//NONSGML kigkonsult.se iCalcreator 2.30.10//
CALSCALE:GREGORIAN
METHOD:PUBLISH
UID:b7344f7d-6da8-4ff0-a69f-3f42413683d1
X-WR-CALNAME:iCagenda
X-WR-CALDESC:Event Management Extension for Joomla!
X-WR-RELCALID:3E26604A-50F4-4449-8B3E-E4F4932D05B5
X-WR-TIMEZONE:America/Costa_Rica
BEGIN:VTIMEZONE
TZID:America/Costa_Rica
BEGIN:STANDARD
TZNAME:CST
DTSTART:20210307T060000
TZOFFSETFROM:+0000
TZOFFSETTO:-0600
END:STANDARD
END:VTIMEZONE
BEGIN:VEVENT
UID:837787e0-c816-4f39-a351-32f41a405afe
DTSTAMP:20260419T192424Z
CATEGORIES:Mejores Prácticas Organizacionales
CLASS:PUBLIC
DESCRIPTION;ALTREP="CID:<FFFF__=0ABBE548DFE235B58f9e8a93d@coffeebean.com>":
 Conferencia virtual:\nEl BSC Focusplus y el Balanced Scorecard del siglo X
 XI\nFecha: 6 y 7 de diciembre del 2022.Horario: 7:00 p.m. a 9:00 p.m.Durac
 ión: 4 horas.Plataforma: Zoom.Inversión: $100 + 2% de IVA por participante
 .Incluye: Material didáctico y certificado de participación en PDF.\nIntro
 ducción:El Balanced Scorecard es una metodología del management moderno qu
 e permite gerenciar el cumplimiento del plan estratégico en base al monito
 reo de objetivos e indicadores claves. El evento que se ofrece es único en
  el mercado por abordar una versión más sólida y moderna de Balanced Score
 card al usar la metodología BSC Focusplus®.Innovaciones metodológicas:• Ab
 orda los 3 eslabones del Management Estratégico (Arquitectura Estratégica\
 , Planeamiento Estratégico y Gestión Estratégica) dándole mayor solidez a 
 la cadena.• Incorpora 4 supuestos adicionales al modelo original Balanced 
 Scorecard\, brindándole modernidad: Un Nuevo formato\, enfoque hacia la ge
 neración de Valor\, enfoque Tool Box Management y agilidad Estratégica.De 
 esta manera se logra obtener un Balanced Scorecard en su versión optimizad
 a: Más sólido y moderno.\nObjetivos de aprendizaje: • Comprender la necesi
 dad de gestionar los 3 eslabones del Management Estratégico que propone el
  BSC Focusplus® para optimizar resultados.• Comprender las ventajas de cam
 biar de versión Balanced Scorecard: Del modelo tradicional basado en una M
 atriz a uno basado en una Hoja de Ruta Estratégica\, que busque la generac
 ión de valor\, la compatibilidad con otras metodologías modernas y la agil
 idad estratégica.\nContenido de la capacitación: 1era. sesión: Marco Lógic
 o. Desarrollo del marco lógico del Balanced Scorecard y del BSC Focusplus®
 .2da. Sesión: Mesa redonda: Revisión de un caso de Arquitectura Estratégic
 a\, FODA cruzado y Balanced Scorecard versión moderna\n¿Quiénes pueden lle
 var esta capacitación?• Profesionales que requieran mejorar su capacidad d
 e gestión estratégica y operacional• Profesionales con alta responsabilida
 d estratégica de la entidad • Profesionales que deseen actualizar sus cono
 cimientos en Balanced Scorecard con una versión moderna de la metodología.
 \nEl participante al finalizar:Contará con conocimientos metodológicos que
  le permitirán optimizar su capacidad de enfoque y alineamiento estratégic
 o.\nReseña profesional - Iván Arrieta G.CEO de Consultoría y Asesoría Stra
 tego.Economista de la Universidad del Pacífico. Miembro del Consejo Consul
 tivo de la Carrera de Administración de la Facultad de Ciencias Empresaria
 les de la Universidad San Ignacio de Loyola.22 años de experiencia en Bala
 nced Scorecard y creador de la metodología BSC Focusplus®.Distinguido por 
 Promperú (Ministerio de Comercio Exterior y Turismo del Perú) como Licenci
 atario de la Marca Perú por 7mo. año consecutivo por liderazgo internacion
 al en Balanced Scorecard y por innovar con la metodología BSC Focusplus®.C
 reador y líder del “Balanced Scorecard &amp\; BSC Focusplus® International
  Center”. Con 12\,000 miembros\, es el Grupo Linkedin No. 1 del mundo dedi
 cado al BSC y el único que aborda el BSC Focusplus® en esa red profesional
 . Presidente de la “Cámara Internacional del Balanced Scorecard &amp\; BSC
  Focusplus®”\, unidad estratégica del Grupo.Consultor\, facilitador\, cert
 ificador y conferencista internacional.Más de 100 proyectos de Consultoría
 \, Talleres y Programas de Certificación tanto en el sector público como e
 n el privado.Más de 10\,000 asistentes en más de 50 conferencias organizad
 as en 12 países: Perú\, Colombia\, Argentina\, Chile\, Ecuador\, Panamá\, 
 Bolivia\, Costa Rica\, Honduras\, El Salvador\, República Dominicana y Esp
 aña.Autor de 30 artículos especializados en Management Estratégico\, siend
 o uno de ellos El BSC Focusplus: Una nueva Metodología del Management Estr
 atégico publicado en la Revista Científica “Journal of Economics\, Finance
  and International Business” – Facultad de Ciencias Empresariales – Univer
 sidad San Ignacio de Loyola. Versión en español e inglés.\nTodas nuestras 
 capacitaciones pueden ser impartidas en su organización\nInscripciones e i
 nformación al e-mail info@cedeso.co.crTel: (506) 2225-1007 · Tel/Fax: (506
 ) 2253-2774Visite nuestra página www.cedeso.co.crfacebook.com/cedesocostar
 ica
DTSTART:20221207T010000Z
DTEND:20221208T030000Z
GEO:00;0
LOCATION:Virtual por Zoom
ORGANIZER;CN=:info@cedeso.co.cr
SEQUENCE:1
SUMMARY:El BSC Focusplus y el Balanced Scorecard del siglo XXI
TRANSP:OPAQUE
URL:https://cedeso.co.cr/eventos-anteriores/641-el-bsc-focusplus-y-el-balan
 ced-scorecard-del-siglo-xxi
END:VEVENT
END:VCALENDAR
