BEGIN:VCALENDAR
VERSION:2.0
PRODID:-//Cedeso//NONSGML kigkonsult.se iCalcreator 2.30.10//
CALSCALE:GREGORIAN
METHOD:PUBLISH
UID:a8e71003-d8d0-4cec-af1a-c6e8c4053635
X-WR-CALNAME:iCagenda
X-WR-CALDESC:Event Management Extension for Joomla!
X-WR-RELCALID:3E26604A-50F4-4449-8B3E-E4F4932D05B5
X-WR-TIMEZONE:America/Costa_Rica
BEGIN:VTIMEZONE
TZID:America/Costa_Rica
BEGIN:STANDARD
TZNAME:CST
DTSTART:20210315T060000
TZOFFSETFROM:+0000
TZOFFSETTO:-0600
END:STANDARD
END:VTIMEZONE
BEGIN:VEVENT
UID:dc50963f-ada9-4e65-8b70-dbb3dba47fec
DTSTAMP:20260419T204843Z
CATEGORIES:Mejores Prácticas Organizacionales
CLASS:PUBLIC
DESCRIPTION;ALTREP="CID:<FFFF__=0ABBE548DFE235B58f9e8a93d@coffeebean.com>":
 Taller:\nJefatura por primera vez ¡Con equipos remotos!\nFecha: 15 y 16 de
  diciembre del 2022.Horario: 9:00 a.m. a 12:00 m.d.Duración: 6 horas.Plata
 forma: Zoom.Inversión: ¢95.000 + 2% de IVA por participante.Incluye: Mater
 ial didáctico y certificado de participación en PDF.\nObjetivo orientativo
 : los participantes podrán explicar\, aplicar y apreciar ideas y herramien
 tas efectivas para quienes asumen por primera vez la tarea de cuadro de ma
 ndo (jefaturas y managers) y deben liderar individuos y equipos remotos.\n
 Temario y actividades:Jefatura por primera vez: las competencias de ingres
 o.• Ejercicio “Brújula del equipo”: liderando equipos desde las capacidade
 s de las personas. • Evitando el “campo minado” (no leer las señales\, mic
 rogestión\, delegación inversa\, parálisis ¡y más!)• El modelo AMR: 15 pre
 guntas\, puntos de chequeo y g• Guías para la acción de Jx1v.• Ejercicio “
 Conducta asertiva SIP”. Feedback/SEP\, asertividad y directividad para Jx1
 v.\nLiderazgo remoto• 4x4: cuatro herramientas de performance coaching y c
 uatro tipos colaborador y su manejo específico.• Distraídos\, solitarios\,
  desmotivados y enojados: retos del trabajo remoto y estrategias de conexi
 ón.• Retos y mejores prácticas en la colaboración y el liderazgo remotos. 
 Modelo colaborativo remoto y gerencia del desempeño a distancia. Mejores p
 rácticas en nuestra empresa (lista de chequeo aplicada por cada participan
 te).\nFacilitador: Dr. Enrique Margery- Doctor en Educación y TEDx speaker
 .- Profesor de la Maestría en Psicología del Trabajo en la Universidad de 
 Costa Rica. Profesor invitado de la Universidad de Querétaro (UAQ\, México
 ) y la Universidad UAGM (Puerto Rico).- Diseña capacitación para desarroll
 o de soft skills basado en aprendizaje por la experiencia\, GBL y “reto-ap
 rendizaje”.- Coach especialista en ciencia de la colaboración y manejo de 
 top performers.- Diseña herramientas para medir el Sentido de Urgencia\, e
 l “termómetro de la colaboración” y la rentabilidad de la capacitación\, e
 ntre otros.- Autor de los libros “Complejidad y Competencias”\, “Herramien
 tas de Coaching”\, “El Viaje” (Editorial Norma\; uno de los primeros libro
 s de psicología positiva publicados) y 'Complejidad\, Transdisciplinarieda
 d y Compentencias'\nTodas nuestras capacitaciones pueden ser impartidas en
  su organización\nInscripciones e Información al e-mail info@cedeso.co.crT
 el: (506) 2225-1007 · Fax: (506) 2253-2774Visite nuestra página www.cedeso
 .co.crfacebook.com/cedesocostarica
DTSTART:20221215T150000Z
DTEND:20221216T180000Z
GEO:00;0
LOCATION:Virtual por Zoom
ORGANIZER;CN=:info@cedeso.co.cr
SEQUENCE:1
SUMMARY:Jefatura por primera vez
TRANSP:OPAQUE
URL:https://cedeso.co.cr/eventos-anteriores/642-jefatura-por-primera-vez
END:VEVENT
END:VCALENDAR
