BEGIN:VCALENDAR
VERSION:2.0
PRODID:-//Cedeso//NONSGML kigkonsult.se iCalcreator 2.30.10//
CALSCALE:GREGORIAN
METHOD:PUBLISH
UID:3f7851c9-24ac-4621-9bc5-060702e7c065
X-WR-CALNAME:iCagenda
X-WR-CALDESC:Event Management Extension for Joomla!
X-WR-RELCALID:3E26604A-50F4-4449-8B3E-E4F4932D05B5
X-WR-TIMEZONE:America/Costa_Rica
BEGIN:VTIMEZONE
TZID:America/Costa_Rica
BEGIN:STANDARD
TZNAME:CST
DTSTART:20210312T060000
TZOFFSETFROM:+0000
TZOFFSETTO:-0600
END:STANDARD
END:VTIMEZONE
BEGIN:VEVENT
UID:3632293a-a035-4183-a4da-a6b889ea49de
DTSTAMP:20260419T204731Z
CATEGORIES:Mejores Prácticas Organizacionales
CLASS:PUBLIC
DESCRIPTION;ALTREP="CID:<FFFF__=0ABBE548DFE235B58f9e8a93d@coffeebean.com>":
 Taller:\nAnálisis y descripción de puestos\nA quién va dirigido:- Profesio
 nales\, técnicos y especialistas en RR.HH.- Responsables de compensación y
 /o desarrollo profesional.- Otros profesionales interesados en aprender es
 te tema.\nContenido• La descripción de puestos en la gestión de compensaci
 ones• Componentes claves de la descripción.• Técnicas para obtener la info
 rmación.• Cuestionarios básicos y muy completos• Los aspectos fundamentale
 s del análisis.• Formatos para la descripción de puestos.\nEntregables: • 
 Diversos formatos útiles para el proceso.• Múltiples ejemplos de puestos d
 escritos.\nFecha: 12 y 13 de diciembre del 2022.Horario: 8:30 a.m. a 11:00
  a.m.Duración total: 5 horas.Metodología: Virtual. Plataforma: Zoom.Invers
 ión: ¢50.000 + 2% de IVA por participante. Incluye: Material y certificado
  de participación en PDF.\nFacilitador: Lic. Carlos Solera Umaña Licenciad
 o en administración de negocios\, certificado en Compensación y Beneficios
  y en Competencias\, técnico en seguros. Más de 30 años de experiencia en 
 todos los subprocesos de Gestión de RRHH. Amplia experiencia en organizaci
 ones de manufactura\, servicios\, cooperativas y ONG’s. Actual fundador y 
 director de CEDESO.S.A.\nTodas nuestras capacitaciones pueden ser impartid
 as en su organización\nInscripciones e Información al e-mail info@cedeso.c
 o.crTel: +506 2225-1007 / Whatsapp: +506 6063-9111Visite nuestra página ww
 w.cedeso.co.crfacebook.com/cedesocostarica
DTSTART:20221212T143000Z
DTEND:20221213T170000Z
GEO:00;0
LOCATION:Virtual por Zoom
ORGANIZER;CN=:info@cedeso.co.cr
SEQUENCE:1
SUMMARY:Análisis y descripción de puestos
TRANSP:OPAQUE
URL:https://cedeso.co.cr/eventos-anteriores/644-an%C3%A1lisis-y-descripci%C
 3%B3n-de-puestos-3
END:VEVENT
END:VCALENDAR
