BEGIN:VCALENDAR
VERSION:2.0
PRODID:-//Cedeso//NONSGML kigkonsult.se iCalcreator 2.30.10//
CALSCALE:GREGORIAN
METHOD:PUBLISH
UID:8c11cbee-4f3f-4b76-a931-f9c556a584ce
X-WR-CALNAME:iCagenda
X-WR-CALDESC:Event Management Extension for Joomla!
X-WR-RELCALID:3E26604A-50F4-4449-8B3E-E4F4932D05B5
X-WR-TIMEZONE:America/Costa_Rica
BEGIN:VTIMEZONE
TZID:America/Costa_Rica
BEGIN:STANDARD
TZNAME:CST
DTSTART:20210502T060000
TZOFFSETFROM:+0000
TZOFFSETTO:-0600
END:STANDARD
END:VTIMEZONE
BEGIN:VEVENT
UID:576effe0-1854-4df9-9dfb-6701f56e9dd1
DTSTAMP:20260419T192551Z
CATEGORIES:Mejores Prácticas Organizacionales
CLASS:PUBLIC
DESCRIPTION;ALTREP="CID:<FFFF__=0ABBE548DFE235B58f9e8a93d@coffeebean.com>":
 Taller:\nLa entrevista de selección por competencias\nCómo ser más efectiv
 os y precisos en la selección de personal\, incluye listas de preguntas má
 s valiosas\nFecha: 1 y 2 de febrero 2023.Horario: 8:30 a.m. a 11:30 a.m.Du
 ración: 6 horas.Metodología: Virtual. Plataforma: Zoom.Inversión: ¢60.000 
 + 2% de IVA por participante. Incluye: Material y certificado de participa
 ción en PDF.\nPúblico objetivo: - Reclutadores\, especialistas y asistente
 s. - Quienes participan en los procesos de selección de personal. - Otros 
 interesados en expandir conocimientos en el tema.\nContenidos:1. Entendien
 do las competencias.2. Análisis del perfil: diversos tipos de requisitos.3
 . Formas de atraer candidatos: pipeline de talentos.4. Plan y Fases del pr
 oceso dela entrevista excepcional5. Papel de la preentrevista.6. La estruc
 tura de la entrevista de fondo: Los aspectos específicos a analizar.7. Cóm
 o predecir el comportamiento/competencias en la entrevista.8. Qué puedo y 
 qué no puedo preguntar.\nFacilitador: Lic. Carlos Solera Umaña Licenciado 
 en administración de negocios\, certificado en Compensación y Beneficios y
  en Competencias\, técnico en seguros. Más de 30 años de experiencia en to
 dos los subprocesos de Gestión de RRHH. Amplia experiencia en organizacion
 es de manufactura\, servicios\, cooperativas y ONG’s. Actual fundador y di
 rector de CEDESO.S.A.\nTodas nuestras capacitaciones pueden ser impartidas
  en su organización\nInscripciones e información al e-mail info@cedeso.co.
 crTel: +506 2225-1007 · Whatsapp: +506 6063-9111Visite nuestra página www.
 cedeso.co.crfacebook.com/cedesocostarica
DTSTART:20230201T143000Z
DTEND:20230202T173000Z
GEO:00;0
LOCATION:Virtual por Zoom
ORGANIZER;CN=:info@cedeso.co.cr
SEQUENCE:1
SUMMARY:La entrevista de selección por competencias
TRANSP:OPAQUE
URL:https://cedeso.co.cr/eventos-anteriores/645-la-entrevista-de-selecci%C3
 %B3n-por-competencias-3
END:VEVENT
END:VCALENDAR
