BEGIN:VCALENDAR
VERSION:2.0
PRODID:-//Cedeso//NONSGML kigkonsult.se iCalcreator 2.30.10//
CALSCALE:GREGORIAN
METHOD:PUBLISH
UID:49ca5939-c4db-4c83-87b8-6ba8b2ec2e04
X-WR-CALNAME:iCagenda
X-WR-CALDESC:Event Management Extension for Joomla!
X-WR-RELCALID:3E26604A-50F4-4449-8B3E-E4F4932D05B5
X-WR-TIMEZONE:America/Costa_Rica
BEGIN:VTIMEZONE
TZID:America/Costa_Rica
BEGIN:STANDARD
TZNAME:CST
DTSTART:20210509T060000
TZOFFSETFROM:+0000
TZOFFSETTO:-0600
END:STANDARD
END:VTIMEZONE
BEGIN:VEVENT
UID:d0c3da54-12c8-4c7c-821b-763bd5b85f0c
DTSTAMP:20260419T192424Z
CATEGORIES:Mejores Prácticas Organizacionales
CLASS:PUBLIC
DESCRIPTION;ALTREP="CID:<FFFF__=0ABBE548DFE235B58f9e8a93d@coffeebean.com>":
 Seminario virtual:\nEl BSC Focusplus® y el Balanced Scorecard del siglo XX
 I\nFecha: 7 y 8 de febrero del 2023.Horario: 7:00 p.m. a 9:00 p.m.Duración
 : 4 horas.Plataforma: Zoom.Inversión: $100 + 2% de IVA por participante.In
 cluye: Material didáctico y certificado de participación en PDF.\nIntroduc
 ción:El Balanced Scorecard es una metodología del management moderno que p
 ermite gerenciar el cumplimiento del plan estratégico en base al monitoreo
  de objetivos e indicadores claves. El evento que se ofrece es único en el
  mercado por abordar una versión más sólida y moderna de Balanced Scorecar
 d al usar la metodología BSC Focusplus®.Innovaciones metodológicas:• Abord
 a los 3 eslabones del Management Estratégico (Arquitectura Estratégica\, P
 laneamiento Estratégico y Gestión Estratégica) dándole mayor solidez a la 
 cadena.• Incorpora 4 supuestos adicionales al modelo original Balanced Sco
 recard\, brindándole modernidad: Un Nuevo formato\, enfoque hacia la gener
 ación de Valor\, enfoque Tool Box Management y agilidad Estratégica.De est
 a manera se logra obtener un Balanced Scorecard en su versión optimizada: 
 Más sólido y moderno.\nObjetivos de aprendizaje: • Comprender la necesidad
  de gestionar los 3 eslabones del Management Estratégico que propone el BS
 C Focusplus® para optimizar resultados.• Comprender las ventajas de cambia
 r de versión Balanced Scorecard: Del modelo tradicional basado en una Matr
 iz a uno basado en una Hoja de Ruta Estratégica\, que busque la generación
  de valor\, la compatibilidad con otras metodologías modernas y la agilida
 d estratégica.\nContenido de la capacitación: 1era. sesión: Marco Lógico. 
 Desarrollo del marco lógico del Balanced Scorecard y del BSC Focusplus®.2d
 a. Sesión: Mesa redonda: Revisión de un caso de Arquitectura Estratégica\,
  FODA cruzado y Balanced Scorecard versión moderna\n¿Quiénes pueden llevar
  esta capacitación?• Profesionales que requieran mejorar su capacidad de g
 estión estratégica y operacional• Profesionales con alta responsabilidad e
 stratégica de la entidad • Profesionales que deseen actualizar sus conocim
 ientos en Balanced Scorecard con una versión moderna de la metodología.\nE
 l participante al finalizar:Contará con conocimientos metodológicos que le
  permitirán optimizar su capacidad de enfoque y alineamiento estratégico.
 \nFacilitador- Iván Arrieta G.CEO de Consultoría y Asesoría Stratego.Econo
 mista de la Universidad del Pacífico. Miembro del Consejo Consultivo de la
  Carrera de Administración de la Facultad de Ciencias Empresariales de la 
 Universidad San Ignacio de Loyola.22 años de experiencia en Balanced Score
 card y creador de la metodología BSC Focusplus®.Distinguido por Promperú (
 Ministerio de Comercio Exterior y Turismo del Perú) como Licenciatario de 
 la Marca Perú por 7mo. año consecutivo por liderazgo internacional en Bala
 nced Scorecard y por innovar con la metodología BSC Focusplus®.Creador y l
 íder del “Balanced Scorecard &amp\; BSC Focusplus® International Center”. 
 Con 12\,000 miembros\, es el Grupo Linkedin No. 1 del mundo dedicado al BS
 C y el único que aborda el BSC Focusplus® en esa red profesional. Presiden
 te de la “Cámara Internacional del Balanced Scorecard &amp\; BSC Focusplus
 ®”\, unidad estratégica del Grupo.Consultor\, facilitador\, certificador y
  conferencista internacional.Más de 100 proyectos de Consultoría\, Tallere
 s y Programas de Certificación tanto en el sector público como en el priva
 do.Más de 10\,000 asistentes en más de 50 conferencias organizadas en 12 p
 aíses: Perú\, Colombia\, Argentina\, Chile\, Ecuador\, Panamá\, Bolivia\, 
 Costa Rica\, Honduras\, El Salvador\, República Dominicana y España.Autor 
 de 30 artículos especializados en Management Estratégico\, siendo uno de e
 llos El BSC Focusplus: Una nueva Metodología del Management Estratégico pu
 blicado en la Revista Científica “Journal of Economics\, Finance and Inter
 national Business” – Facultad de Ciencias Empresariales – Universidad San 
 Ignacio de Loyola. Versión en español e inglés.\n \nNota: Si desea un tall
 er in-company contáctenos para agendar una reunión virtual de coordinación
  con el experto.\n \nTodas nuestras capacitaciones pueden ser impartidas e
 n su organización\nInscripciones e información al e-mail info@cedeso.co.cr
 Tel: +506 2225-1007 · Whatsapp: +506 6063-9111Visite nuestra página www.ce
 deso.co.crfacebook.com/cedesocostarica\n \n 
DTSTART:20230208T010000Z
DTEND:20230209T030000Z
GEO:00;0
LOCATION:Virtual por Zoom
ORGANIZER;CN=:info@cedeso.co.cr
SEQUENCE:1
SUMMARY:El BSC Focusplus® y el Balanced Scorecard del siglo XXI
TRANSP:OPAQUE
URL:https://cedeso.co.cr/eventos-anteriores/646-el-bsc-focusplus%C2%AE-y-el
 -balanced-scorecard-del-siglo-xxi
END:VEVENT
END:VCALENDAR
