BEGIN:VCALENDAR
VERSION:2.0
PRODID:-//Cedeso//NONSGML kigkonsult.se iCalcreator 2.30.10//
CALSCALE:GREGORIAN
METHOD:PUBLISH
UID:3572e94a-0c68-44e1-9324-669ecdbe5b3b
X-WR-CALNAME:iCagenda
X-WR-CALDESC:Event Management Extension for Joomla!
X-WR-RELCALID:3E26604A-50F4-4449-8B3E-E4F4932D05B5
X-WR-TIMEZONE:America/Costa_Rica
BEGIN:VTIMEZONE
TZID:America/Costa_Rica
BEGIN:STANDARD
TZNAME:CST
DTSTART:20210501T060000
TZOFFSETFROM:+0000
TZOFFSETTO:-0600
END:STANDARD
END:VTIMEZONE
BEGIN:VEVENT
UID:43e8c364-fa58-421d-85bc-80311221fc14
DTSTAMP:20260419T192059Z
CATEGORIES:Mejores Prácticas Organizacionales
CLASS:PUBLIC
DESCRIPTION;ALTREP="CID:<FFFF__=0ABBE548DFE235B58f9e8a93d@coffeebean.com>":
 Taller:\nDesarrollo de capacidades de autogestión y autodesarrollo\nFecha:
  31 de enero y 2 de febrero del 2023.Horario: 8:30 a.m. a 12:00 m.d.Duraci
 ón: 7 horas.Plataforma: Zoom.Inversión: ¢90.000 + 2% de IVA por participan
 te.Incluye: Material didáctico y certificado de participación en PDF.\nMot
 ivación: mejorar las capacidades de autogestión y autodesarrollo es fundam
 ental en un mundo de teletrabajo\, gerencia híbrida y equipos ágiles.\nObj
 etivos: las y los participantes podrán explicar\, aplicar y apreciar los c
 omportamientos asociados con la capacidad de agente (enfoque\, persistenci
 a y flexibilidad) y de autodesarrollo (autodirección\, insight y automotiv
 ación).\nTemario y actividades:1.Potenciando el autodesarrollo:Persistenci
 a y mentalidad de crecimiento.Modelo de aprendizaje autodirigido\, 3x3x3 y
  10.20.70Desarrollo de la internalidad y guías de acción para la automotiv
 ación.\n2.Mejorando la autogestión:Las capacidades de persistencia\, enfoq
 ue y decisividad. Análisis apreciativo para detección y desarrollo de las 
 mejores capacidades personales de acción.Trabajo con recursos personales f
 rente a la incertidumbre: resiliencia\, flexibilidad y colaboración.\nTamb
 ién disponible en modalidad in-house: Se aplican los ejercicios de teambui
 lding apreciativo 'La manta' y “Figuras en la pared” para potencial los in
 sights de las/los participantes.\nFacilitador: Dr. Enrique Margery- Doctor
  en Educación y TEDx speaker.- Profesor de la Maestría en Psicología del T
 rabajo en la Universidad de Costa Rica. Profesor invitado de la Universida
 d de Querétaro (UAQ\, México) y la Universidad UAGM (Puerto Rico).- Diseña
  capacitación para desarrollo de soft skills basado en aprendizaje por la 
 experiencia\, GBL y “reto-aprendizaje”.- Coach especialista en ciencia de 
 la colaboración y manejo de top performers.- Diseña herramientas para medi
 r el Sentido de Urgencia\, el “termómetro de la colaboración” y la rentabi
 lidad de la capacitación\, entre otros.- Autor de los libros “Complejidad 
 y Competencias”\, “Herramientas de Coaching”\, “El Viaje” (Editorial Norma
 \; uno de los primeros libros de psicología positiva publicados) y 'Comple
 jidad\, Transdisciplinariedad y Competencias'\nTodas nuestras capacitacion
 es pueden ser impartidas en su organización\nInscripciones e Información a
 l e-mail info@cedeso.co.crTel: +506 2225-1007 · Fax: +506 6063-9111Visite 
 nuestra página www.cedeso.co.crfacebook.com/cedesocostarica
DTSTART:20230131T143000Z
DTEND:20230202T180000Z
GEO:00;0
LOCATION:Virtual por Zoom
ORGANIZER;CN=:info@cedeso.co.cr
SEQUENCE:1
SUMMARY:Desarrollo de capacidades de autogestión y autodesarrollo
TRANSP:OPAQUE
URL:https://cedeso.co.cr/eventos-anteriores/647-desarrollo-de-capacidades-d
 e-autogesti%C3%B3n-y-autodesarrollo
END:VEVENT
END:VCALENDAR
