BEGIN:VCALENDAR
VERSION:2.0
PRODID:-//Cedeso//NONSGML kigkonsult.se iCalcreator 2.30.10//
CALSCALE:GREGORIAN
METHOD:PUBLISH
UID:83aa2d28-5bec-4d77-b993-dc32a40edb24
X-WR-CALNAME:iCagenda
X-WR-CALDESC:Event Management Extension for Joomla!
X-WR-RELCALID:3E26604A-50F4-4449-8B3E-E4F4932D05B5
X-WR-TIMEZONE:America/Costa_Rica
BEGIN:VTIMEZONE
TZID:America/Costa_Rica
BEGIN:STANDARD
TZNAME:CST
DTSTART:20210427T060000
TZOFFSETFROM:+0000
TZOFFSETTO:-0600
END:STANDARD
END:VTIMEZONE
BEGIN:VEVENT
UID:b1840165-fcb4-42cf-99c4-368f0fc6fd02
DTSTAMP:20260419T205046Z
CATEGORIES:Mejores Prácticas Organizacionales
CLASS:PUBLIC
DESCRIPTION;ALTREP="CID:<FFFF__=0ABBE548DFE235B58f9e8a93d@coffeebean.com>":
 Conferencia\nGamificando los procesos de compliance corporativo: más que u
 na moda\, una necesidad\nFecha: viernes 27 de enero 2023Horario: 2:00 p.m.
  a 3:30 p.m.Duración: 1.5 horas.Plataforma: Zoom.Inversión: ¢10.000 + 2% d
 e IVA por participante.\nTemas:1. Beneficios de un programa de Compliance 
 en su empresa.2. Prevenir\, detectar y remediar los riesgos.3. Políticas y
  procedimientos necesarios.4. Cultura organizacional: ¿Cómo impactarla a p
 artir de la gamificación?\nFacilitadoras: Gina Sequeira\, psicóloga\, expe
 rta en Gamificación.Haidel Sequeira\, abogada corporativa.\nInscripciones 
 a: info@cedeso.co.crTel: +506 2225-1007 · Whatsapp: +506 6063-9111Visite n
 uestra página www.cedeso.co.crfacebook.com/cedesocostarica
DTSTART:20230127T200000Z
DTEND:20230127T213000Z
GEO:00;0
LOCATION:Virtual por Zoom.
ORGANIZER;CN=:info@cedeso.co.cr
SEQUENCE:1
SUMMARY:Gamificando los procesos de compliance corporativo
TRANSP:OPAQUE
URL:https://cedeso.co.cr/eventos-anteriores/648-gamificando-los-procesos-de
 -compliance-corporativo
END:VEVENT
END:VCALENDAR
