BEGIN:VCALENDAR
VERSION:2.0
PRODID:-//Cedeso//NONSGML kigkonsult.se iCalcreator 2.30.10//
CALSCALE:GREGORIAN
METHOD:PUBLISH
UID:699b042b-536a-4933-941d-bf68f3102cb5
X-WR-CALNAME:iCagenda
X-WR-CALDESC:Event Management Extension for Joomla!
X-WR-RELCALID:3E26604A-50F4-4449-8B3E-E4F4932D05B5
X-WR-TIMEZONE:America/Costa_Rica
BEGIN:VTIMEZONE
TZID:America/Costa_Rica
BEGIN:STANDARD
TZNAME:CST
DTSTART:20210504T060000
TZOFFSETFROM:+0000
TZOFFSETTO:-0600
END:STANDARD
END:VTIMEZONE
BEGIN:VEVENT
UID:c8e368f5-724d-456a-a25e-d4c0bea02fa8
DTSTAMP:20260419T191954Z
CATEGORIES:Mejores Prácticas Organizacionales
CLASS:PUBLIC
DESCRIPTION;ALTREP="CID:<FFFF__=0ABBE548DFE235B58f9e8a93d@coffeebean.com>":
 Master Class\nLiderazgo para la ejecución y accountability\nLa ejecución v
 eloz e inteligente es clave en la nueva ¿normalidad?\nFecha: viernes 3 de 
 febrero del 2023.Horario: 8:30 a.m. a 10:00 a.m.Duración: 1.5 horas.Plataf
 orma: Zoom.Inversión: ¢10.000 + 2% de IVA por participante.\nTemas:• Compo
 rtamientos de accountability y manejo de los líderes para impulsarla en su
 s equipos.• Más allá de la inacción\, el ciclo de la víctima y la external
 ización.• La orientación a resultados: tres reglas fundamentales del lider
 azgo para la ejecución.\nFacilitador: Dr. Enrique Margery- Doctor en Educa
 ción y TEDx speaker.- Profesor de la Maestría en Psicología del Trabajo en
  la Universidad de Costa Rica. Profesor invitado de la Universidad de Quer
 étaro (UAQ\, México) y la Universidad UAGM (Puerto Rico).- Diseña capacita
 ción para desarrollo de soft skills basado en aprendizaje por la experienc
 ia\, GBL y “reto-aprendizaje”.- Coach especialista en ciencia de la colabo
 ración y manejo de top performers.- Diseña herramientas para medir el Sent
 ido de Urgencia\, el “termómetro de la colaboración” y la rentabilidad de 
 la capacitación\, entre otros.- Autor de los libros “Complejidad y Compete
 ncias”\, “Herramientas de Coaching”\, “El Viaje” (Editorial Norma\; uno de
  los primeros libros de psicología positiva publicados) y 'Complejidad\, T
 ransdisciplinariedad y Competencias'\nTodas nuestras capacitaciones pueden
  ser impartidas en su organización\nInscripciones a: info@cedeso.co.crTel:
  +506 2225-1007 · Whatsapp: +506 6063-9111Visite nuestra página www.cedeso
 .co.crfacebook.com/cedesocostarica
DTSTART:20230203T143000Z
DTEND:20230203T160000Z
GEO:00;0
LOCATION:Vitual por Zoom.
ORGANIZER;CN=:info@cedeso.co.cr
SEQUENCE:1
SUMMARY:Liderazgo para la ejecución y accountability
TRANSP:OPAQUE
URL:https://cedeso.co.cr/eventos-anteriores/649-liderazgo-para-la-ejecuci%C
 3%B3n-y-accountability
END:VEVENT
END:VCALENDAR
