BEGIN:VCALENDAR
VERSION:2.0
PRODID:-//Cedeso//NONSGML kigkonsult.se iCalcreator 2.30.10//
CALSCALE:GREGORIAN
METHOD:PUBLISH
UID:4b5cb738-cf65-4d7f-9212-8ffc5703ee35
X-WR-CALNAME:iCagenda
X-WR-CALDESC:Event Management Extension for Joomla!
X-WR-RELCALID:3E26604A-50F4-4449-8B3E-E4F4932D05B5
X-WR-TIMEZONE:America/Costa_Rica
BEGIN:VTIMEZONE
TZID:America/Costa_Rica
BEGIN:STANDARD
TZNAME:CST
DTSTART:20210606T060000
TZOFFSETFROM:+0000
TZOFFSETTO:-0600
END:STANDARD
END:VTIMEZONE
BEGIN:VEVENT
UID:2fc12050-f83a-44b6-8997-b11def1aa69f
DTSTAMP:20260419T173653Z
CATEGORIES:Mejores Prácticas Organizacionales
CLASS:PUBLIC
DESCRIPTION;ALTREP="CID:<FFFF__=0ABBE548DFE235B58f9e8a93d@coffeebean.com>":
 Taller:\nUniversidades Empresariales\nFecha: 8 y 15 de marzo del 2023.Hora
 rio: 1:00 p.m. a 4:30 p.m.Duración: 7 horas.Plataforma: Zoom.Inversión: ¢9
 0.000 + 2% de IVA por participante.Incluye: Material didáctico y certifica
 do de participación en PDF.\nMotivación: en un mundo complejo\, donde el a
 lineamiento es clave\, la evolución de las áreas de capacitación son las u
 niversidades empresariales.\nObjetivos: las y los participantes podrán exp
 licar\, aplicar y apreciar los componentes de una universidad empresarial.
 \nTemario y actividades:1.La estructura de la Universidad Empresarial: • A
 lineamiento y capabilities: la diferencia entre una unidad de capacitación
  y la UE. • Diseño con el modelo 3C (Ciudadanía empresarial\, contexto y c
 apacidades Z). • Características especiales de las UE y su aplicación a la
 s necesidades específicas de los participantes.\n2.Temas avanzados de las 
 UE: • Didácticas específicas para hard y soft skills con facilitadores int
 ernos. • Trabajo con saberes CPE\, detección de puestos críticos y definic
 ión de capabilities de la empresa.  • Tablas de formación cruzada y T-Shap
 ed skills.\nFacilitador: Dr. Enrique Margery- Doctor en Educación y TEDx s
 peaker.- Profesor de la Maestría en Psicología del Trabajo en la Universid
 ad de Costa Rica. Profesor invitado de la Universidad de Querétaro (UAQ\, 
 México) y la Universidad UAGM (Puerto Rico).- Diseña capacitación para des
 arrollo de soft skills basado en aprendizaje por la experiencia\, GBL y “r
 eto-aprendizaje”.- Coach especialista en ciencia de la colaboración y mane
 jo de top performers.- Diseña herramientas para medir el Sentido de Urgenc
 ia\, el “termómetro de la colaboración” y la rentabilidad de la capacitaci
 ón\, entre otros.- Autor de los libros “Complejidad y Competencias”\, “Her
 ramientas de Coaching”\, “El Viaje” (Editorial Norma\; uno de los primeros
  libros de psicología positiva publicados) y 'Complejidad\, Transdisciplin
 ariedad y Competencias'\nTodas nuestras capacitaciones pueden ser impartid
 as en su organización\nInscripciones a info@cedeso.co.crTel: +506 2225-100
 7 Whatsapp: +506 6063-9111Visite nuestra página www.cedeso.co.crfacebook.c
 om/cedesocostarica
DTSTART:20230308T190000Z
DTEND:20230315T223000Z
GEO:00;0
LOCATION:Virtual por Zoom
ORGANIZER;CN=:info@cedeso.co.cr
SEQUENCE:1
SUMMARY:Universidades Empresariales
TRANSP:OPAQUE
URL:https://cedeso.co.cr/eventos-anteriores/650-universidades-empresariales
 -2
END:VEVENT
END:VCALENDAR
