BEGIN:VCALENDAR
VERSION:2.0
PRODID:-//Cedeso//NONSGML kigkonsult.se iCalcreator 2.30.10//
CALSCALE:GREGORIAN
METHOD:PUBLISH
UID:9ed16958-3b93-4c55-a0aa-95c14a912ac0
X-WR-CALNAME:iCagenda
X-WR-CALDESC:Event Management Extension for Joomla!
X-WR-RELCALID:3E26604A-50F4-4449-8B3E-E4F4932D05B5
X-WR-TIMEZONE:America/Costa_Rica
BEGIN:VTIMEZONE
TZID:America/Costa_Rica
BEGIN:STANDARD
TZNAME:CST
DTSTART:20210517T060000
TZOFFSETFROM:+0000
TZOFFSETTO:-0600
END:STANDARD
END:VTIMEZONE
BEGIN:VEVENT
UID:b9be9ce7-1a1c-47ad-a2d9-5cf8f4c2076f
DTSTAMP:20260419T173656Z
CATEGORIES:Mejores Prácticas Organizacionales
CLASS:PUBLIC
DESCRIPTION;ALTREP="CID:<FFFF__=0ABBE548DFE235B58f9e8a93d@coffeebean.com>":
 Taller:\nEl arte de encantar al cliente\nBasado en la metodología Disney d
 e atención al cliente\nObjetivos del programa:Herramientas para potenciar 
 las ventas e inspirarte a seguir brindando UN servicio de excelencia.\nApr
 endizaje:• Desarrollar una visión de liderazgo que inspire dedicación y co
 mpromiso de los empleados.• Aplicar las herramientas de las grandes marcas
  para fortalecer la cultura de la organización.• Desarrollar una cultura o
 rganizacional que de soporte a un servicio de excelencia.• Promover un amb
 iente de colaboración en toda la organización.• Incorporar principios para
  fortalecer la imagen de marca.\nTemas:• Detrás de la magia del servicio: 
 back-stage &amp\; On-stage• Atributos de un buen servicio según las grande
 s marcas (Apple\, Disney\, Nespresso)• Embajadores de marca. YOU make the 
 difference.• Promesa de marca y su cumplimiento.• WOW Moments: Secretos pa
 ra sorprender al cliente.• Be my guest!• Primera impresión. Experiencia Mu
 lti-sensorial: El servicio a través de los 7 sentidos®• SMILE: Cómo vender
  tu propia imagen.• BeYOU: Leer al cliente a través de la CNV. Actitud.• F
 ases para encantar al cliente.• Escucha intencional.\nFecha: 16 y 17 de fe
 brero del 2023.Horario: 9:00 a.m. a 12:00 m.d.Duración total: 6 horas.Plat
 aforma: Zoom.Inversión: ¢75.000 + 2% de IVA por participante. Incluye: Mat
 erial y certificado de participación en PDF.\nFacilitadora: Lic. Fernanda 
 LjubaExperience Director\, BeYouLic. En RRPP\, Diplomado Internacional en 
 Kinesics Coaching y CNV.Posgrado en Imagen Corporativa y Management. Más d
 e 10 años de experiencia en Service Excellence en Hotelería de lujo y Reta
 il.Trabajó en PANDORA\, Nestlé Nespresso para Latinoamérica\, en el Hotel 
 Caesar Park y en organismos públicos en las áreas de Comunicación\, RR.HH 
 y RRPP\, eventos\, servicio al cliente y turismo.Su carrera profesional se
  desarrolló en varios países de Latinoamérica y Europa liderando equipos\,
  construyendo marcas y trasmitiendo su experiencia en el servicio y las ve
 ntas.Consultor\, Coach &amp\; Trainer de equipos en imagen pública y profe
 sional\, ventas y servicio de excelencia.\nTodas nuestras capacitaciones p
 ueden ser impartidas en su organización\nInscripciones e Información al e-
 mail info@cedeso.co.crTel: +506 2225-1007 Whatsapp: +506 6063-9111Visite n
 uestra página www.cedeso.co.crfacebook.com/cedesocostarica\n 
DTSTART:20230216T150000Z
DTEND:20230217T180000Z
GEO:00;0
LOCATION:Virtual por Zoom
ORGANIZER;CN=:info@cedeso.co.cr
SEQUENCE:1
SUMMARY:El arte de encantar al cliente
TRANSP:OPAQUE
URL:https://cedeso.co.cr/eventos-anteriores/651-el-arte-de-encantar-al-clie
 nte-4
END:VEVENT
END:VCALENDAR
