BEGIN:VCALENDAR
VERSION:2.0
PRODID:-//Cedeso//NONSGML kigkonsult.se iCalcreator 2.30.10//
CALSCALE:GREGORIAN
METHOD:PUBLISH
UID:df7c76a7-bab1-44c8-9c30-53930f00da1a
X-WR-CALNAME:iCagenda
X-WR-CALDESC:Event Management Extension for Joomla!
X-WR-RELCALID:3E26604A-50F4-4449-8B3E-E4F4932D05B5
X-WR-TIMEZONE:America/Costa_Rica
BEGIN:VTIMEZONE
TZID:America/Costa_Rica
BEGIN:STANDARD
TZNAME:CST
DTSTART:20210522T060000
TZOFFSETFROM:+0000
TZOFFSETTO:-0600
END:STANDARD
END:VTIMEZONE
BEGIN:VEVENT
UID:0164fe81-4494-407e-8852-49e1e19c36b0
DTSTAMP:20260419T174123Z
CATEGORIES:Operaciones
CLASS:PUBLIC
DESCRIPTION;ALTREP="CID:<FFFF__=0ABBE548DFE235B58f9e8a93d@coffeebean.com>":
 Taller:\n¿Cómo analizar la estructura de costos de una importación para to
 mar decisiones estratégicas?\nObjetivo: Brindar un apoyo integral a la emp
 resa y/o institución\, con el fin de lograr la eficiencia y optimizar sus 
 operaciones de importación\, proporcionando los conocimientos y ayuda nece
 saria para afrontar de forma exitosa el proceso\, bajo un marco preventivo
  que le garantice maximizar sus costos operativos a fin de impactar positi
 vamente el desarrollo de sus operaciones aduaneras.\nFecha: 21 y 23 de feb
 rero del 2023.Horario: 8:30 a.m. a 12:30 a.m.Duración: 8 horas.Plataforma:
  Zoom.Inversión: ¢75.000 + 2% de IVA por participante.Incluye: Material di
 dáctico y certificado de participación en PDF.\nContenido temático:\n1. Ge
 neralidades de una importación:• ¿Qué es una importación?• Proceso logísti
 co para importar una mercancía.• Proceso de importación.\n2. Análisis de l
 a estructura de costos de importación.• Análisis de ofertas de proveedores
  internacionales y cálculos previos a la importación. • Análisis y cálculo
  de los costos de trasporte internacional.• Tips para comprensión\, anális
 is y comparación de tarifas de transporte.• Análisis y cálculo de los cost
 os de consolidación de carga.• Cálculo de impuestos.• Cálculo de impuestos
  con la aplicación de los Tratados de Libre Comercio.• Costos de nacionali
 zación y trámites locales.• Seguros• Casos prácticos.\nFacilitadora: Licda
 . Yorleny Jiménez RojasGraduada con honores de la Universidad de Costa Ric
 a en la carrera de Administración Aduanera y Comercio Exterior. Certificad
 a como especialista en Supply Chain de la Universidad de Nebrija en España
 .Actualmente consultora independiente con 20 años de experiencia en manejo
  y desarrollo de procesos de internacionalización y logística especialment
 e para el sector agrícola.Especialista en desarrollo de acompañamientos em
 presariales en temas de importación\, exportación\, logística internaciona
 l\, entre otros.Profesora de la Universidad de Costa Rica\, Universidad FU
 NDEPOS y capacitadora activa en diferentes Cámaras que agremia exportadore
 s\, importadores\, empresas PYMES\, entidades estatales\, colegios profesi
 onales\, entre otros.\nTodas nuestras capacitaciones pueden ser impartidas
  en su organización\nInscripciones a: info@cedeso.co.crTel: +506 2225-1007
  Whatsapp: +506 6063-9111Visite nuestra página www.cedeso.co.crfacebook.co
 m/cedesocostarica
DTSTART:20230221T143000Z
DTEND:20230223T183000Z
GEO:00;0
LOCATION:Virtual por Zoom
ORGANIZER;CN=:info@cedeso.co.cr
SEQUENCE:1
SUMMARY:Cómo analizar la estructura de costos de una importación para tomar
  decisiones estratégicas
TRANSP:OPAQUE
URL:https://cedeso.co.cr/eventos-anteriores/652-c%C3%B3mo-analizar-la-estru
 ctura-de-costos-de-una-importaci%C3%B3n-para-tomar-decisiones-estrat%C3%A9
 gicas
END:VEVENT
END:VCALENDAR
